Back to Multiple platform build/check report for BioC 3.13 |
|
This page was generated on 2021-10-15 15:05:47 -0400 (Fri, 15 Oct 2021).
To the developers/maintainers of the OUTRIDER package: - Please allow up to 24 hours (and sometimes 48 hours) for your latest push to git@git.bioconductor.org:packages/OUTRIDER.git to reflect on this report. See How and When does the builder pull? When will my changes propagate? here for more information. - Make sure to use the following settings in order to reproduce any error or warning you see on this page. |
Package 1330/2041 | Hostname | OS / Arch | INSTALL | BUILD | CHECK | BUILD BIN | ||||||||
OUTRIDER 1.10.0 (landing page) Christian Mertes
| nebbiolo1 | Linux (Ubuntu 20.04.2 LTS) / x86_64 | OK | OK | OK | ![]() | ||||||||
tokay2 | Windows Server 2012 R2 Standard / x64 | OK | OK | OK | OK | ![]() | ||||||||
machv2 | macOS 10.14.6 Mojave / x86_64 | OK | OK | OK | OK | ![]() | ||||||||
Package: OUTRIDER |
Version: 1.10.0 |
Command: /home/biocbuild/bbs-3.13-bioc/R/bin/R CMD check --install=check:OUTRIDER.install-out.txt --library=/home/biocbuild/bbs-3.13-bioc/R/library --no-vignettes --timings OUTRIDER_1.10.0.tar.gz |
StartedAt: 2021-10-14 10:54:22 -0400 (Thu, 14 Oct 2021) |
EndedAt: 2021-10-14 11:04:00 -0400 (Thu, 14 Oct 2021) |
EllapsedTime: 578.2 seconds |
RetCode: 0 |
Status: OK |
CheckDir: OUTRIDER.Rcheck |
Warnings: 0 |
############################################################################## ############################################################################## ### ### Running command: ### ### /home/biocbuild/bbs-3.13-bioc/R/bin/R CMD check --install=check:OUTRIDER.install-out.txt --library=/home/biocbuild/bbs-3.13-bioc/R/library --no-vignettes --timings OUTRIDER_1.10.0.tar.gz ### ############################################################################## ############################################################################## * using log directory ‘/home/biocbuild/bbs-3.13-bioc/meat/OUTRIDER.Rcheck’ * using R version 4.1.1 (2021-08-10) * using platform: x86_64-pc-linux-gnu (64-bit) * using session charset: UTF-8 * using option ‘--no-vignettes’ * checking for file ‘OUTRIDER/DESCRIPTION’ ... OK * checking extension type ... Package * this is package ‘OUTRIDER’ version ‘1.10.0’ * package encoding: UTF-8 * checking package namespace information ... OK * checking package dependencies ... OK * checking if this is a source package ... OK * checking if there is a namespace ... OK * checking for hidden files and directories ... OK * checking for portable file names ... OK * checking for sufficient/correct file permissions ... OK * checking whether package ‘OUTRIDER’ can be installed ... OK * checking installed package size ... OK * checking package directory ... OK * checking ‘build’ directory ... OK * checking DESCRIPTION meta-information ... OK * checking top-level files ... OK * checking for left-over files ... OK * checking index information ... OK * checking package subdirectories ... OK * checking R files for non-ASCII characters ... OK * checking R files for syntax errors ... OK * checking whether the package can be loaded ... OK * checking whether the package can be loaded with stated dependencies ... OK * checking whether the package can be unloaded cleanly ... OK * checking whether the namespace can be loaded with stated dependencies ... OK * checking whether the namespace can be unloaded cleanly ... OK * checking dependencies in R code ... NOTE Namespace in Imports field not imported from: ‘Rcpp’ All declared Imports should be used. * checking S3 generic/method consistency ... OK * checking replacement functions ... OK * checking foreign function calls ... OK * checking R code for possible problems ... OK * checking Rd files ... OK * checking Rd metadata ... OK * checking Rd cross-references ... OK * checking for missing documentation entries ... OK * checking for code/documentation mismatches ... OK * checking Rd \usage sections ... OK * checking Rd contents ... OK * checking for unstated dependencies in examples ... OK * checking line endings in C/C++/Fortran sources/headers ... OK * checking line endings in Makefiles ... OK * checking compilation flags in Makevars ... OK * checking for GNU extensions in Makefiles ... OK * checking for portable use of $(BLAS_LIBS) and $(LAPACK_LIBS) ... OK * checking use of PKG_*FLAGS in Makefiles ... OK * checking compiled code ... NOTE Note: information on .o files is not available * checking files in ‘vignettes’ ... OK * checking examples ... OK Examples with CPU (user + system) or elapsed time > 5s user system elapsed findEncodingDim 32.337 1.231 33.571 plotFunctions 20.776 0.120 20.831 getter_setter_functions 7.446 0.012 7.458 aberrant 5.817 1.253 3.477 OUTRIDER 5.781 0.738 5.976 results 5.679 0.008 5.687 fit 5.154 0.160 5.315 * checking for unstated dependencies in ‘tests’ ... OK * checking tests ... Running ‘testthat.R’ OK * checking for unstated dependencies in vignettes ... OK * checking package vignettes in ‘inst/doc’ ... OK * checking running R code from vignettes ... SKIPPED * checking re-building of vignette outputs ... SKIPPED * checking PDF version of manual ... OK * DONE Status: 2 NOTEs See ‘/home/biocbuild/bbs-3.13-bioc/meat/OUTRIDER.Rcheck/00check.log’ for details.
OUTRIDER.Rcheck/00install.out
############################################################################## ############################################################################## ### ### Running command: ### ### /home/biocbuild/bbs-3.13-bioc/R/bin/R CMD INSTALL OUTRIDER ### ############################################################################## ############################################################################## * installing to library ‘/home/biocbuild/bbs-3.13-bioc/R/library’ * installing *source* package ‘OUTRIDER’ ... ** using staged installation ** libs g++ -std=gnu++11 -I"/home/biocbuild/bbs-3.13-bioc/R/include" -DNDEBUG -I'/home/biocbuild/bbs-3.13-bioc/R/library/Rcpp/include' -I'/home/biocbuild/bbs-3.13-bioc/R/library/RcppArmadillo/include' -I/usr/local/include -fopenmp -DARMA_DONT_USE_OPENMP -fpic -g -O2 -Wall -c RcppExports.cpp -o RcppExports.o g++ -std=gnu++11 -I"/home/biocbuild/bbs-3.13-bioc/R/include" -DNDEBUG -I'/home/biocbuild/bbs-3.13-bioc/R/library/Rcpp/include' -I'/home/biocbuild/bbs-3.13-bioc/R/library/RcppArmadillo/include' -I/usr/local/include -fopenmp -DARMA_DONT_USE_OPENMP -fpic -g -O2 -Wall -c loss_n_gradient_functions.cpp -o loss_n_gradient_functions.o g++ -std=gnu++11 -shared -L/home/biocbuild/bbs-3.13-bioc/R/lib -L/usr/local/lib -o OUTRIDER.so RcppExports.o loss_n_gradient_functions.o -fopenmp -L/home/biocbuild/bbs-3.13-bioc/R/lib -lRlapack -L/home/biocbuild/bbs-3.13-bioc/R/lib -lRblas -lgfortran -lm -lquadmath -L/home/biocbuild/bbs-3.13-bioc/R/lib -lR installing to /home/biocbuild/bbs-3.13-bioc/R/library/00LOCK-OUTRIDER/00new/OUTRIDER/libs ** R ** inst ** byte-compile and prepare package for lazy loading ** help *** installing help indices ** building package indices ** installing vignettes ** testing if installed package can be loaded from temporary location ** checking absolute paths in shared objects and dynamic libraries ** testing if installed package can be loaded from final location ** testing if installed package keeps a record of temporary installation path * DONE (OUTRIDER)
OUTRIDER.Rcheck/tests/testthat.Rout
R version 4.1.1 (2021-08-10) -- "Kick Things" Copyright (C) 2021 The R Foundation for Statistical Computing Platform: x86_64-pc-linux-gnu (64-bit) R is free software and comes with ABSOLUTELY NO WARRANTY. You are welcome to redistribute it under certain conditions. Type 'license()' or 'licence()' for distribution details. R is a collaborative project with many contributors. Type 'contributors()' for more information and 'citation()' on how to cite R or R packages in publications. Type 'demo()' for some demos, 'help()' for on-line help, or 'help.start()' for an HTML browser interface to help. Type 'q()' to quit R. > library(testthat) > library(OUTRIDER) Loading required package: BiocParallel Loading required package: GenomicFeatures Loading required package: BiocGenerics Loading required package: parallel Attaching package: 'BiocGenerics' The following objects are masked from 'package:parallel': clusterApply, clusterApplyLB, clusterCall, clusterEvalQ, clusterExport, clusterMap, parApply, parCapply, parLapply, parLapplyLB, parRapply, parSapply, parSapplyLB The following objects are masked from 'package:stats': IQR, mad, sd, var, xtabs The following objects are masked from 'package:base': Filter, Find, Map, Position, Reduce, anyDuplicated, append, as.data.frame, basename, cbind, colnames, dirname, do.call, duplicated, eval, evalq, get, grep, grepl, intersect, is.unsorted, lapply, mapply, match, mget, order, paste, pmax, pmax.int, pmin, pmin.int, rank, rbind, rownames, sapply, setdiff, sort, table, tapply, union, unique, unsplit, which.max, which.min Loading required package: S4Vectors Loading required package: stats4 Attaching package: 'S4Vectors' The following objects are masked from 'package:base': I, expand.grid, unname Loading required package: IRanges Loading required package: GenomeInfoDb Loading required package: GenomicRanges Loading required package: AnnotationDbi Loading required package: Biobase Welcome to Bioconductor Vignettes contain introductory material; view with 'browseVignettes()'. To cite Bioconductor, see 'citation("Biobase")', and for packages 'citation("pkgname")'. Loading required package: SummarizedExperiment Loading required package: MatrixGenerics Loading required package: matrixStats Attaching package: 'matrixStats' The following objects are masked from 'package:Biobase': anyMissing, rowMedians Attaching package: 'MatrixGenerics' The following objects are masked from 'package:matrixStats': colAlls, colAnyNAs, colAnys, colAvgsPerRowSet, colCollapse, colCounts, colCummaxs, colCummins, colCumprods, colCumsums, colDiffs, colIQRDiffs, colIQRs, colLogSumExps, colMadDiffs, colMads, colMaxs, colMeans2, colMedians, colMins, colOrderStats, colProds, colQuantiles, colRanges, colRanks, colSdDiffs, colSds, colSums2, colTabulates, colVarDiffs, colVars, colWeightedMads, colWeightedMeans, colWeightedMedians, colWeightedSds, colWeightedVars, rowAlls, rowAnyNAs, rowAnys, rowAvgsPerColSet, rowCollapse, rowCounts, rowCummaxs, rowCummins, rowCumprods, rowCumsums, rowDiffs, rowIQRDiffs, rowIQRs, rowLogSumExps, rowMadDiffs, rowMads, rowMaxs, rowMeans2, rowMedians, rowMins, rowOrderStats, rowProds, rowQuantiles, rowRanges, rowRanks, rowSdDiffs, rowSds, rowSums2, rowTabulates, rowVarDiffs, rowVars, rowWeightedMads, rowWeightedMeans, rowWeightedMedians, rowWeightedSds, rowWeightedVars The following object is masked from 'package:Biobase': rowMedians Loading required package: data.table Attaching package: 'data.table' The following object is masked from 'package:SummarizedExperiment': shift The following object is masked from 'package:GenomicRanges': shift The following object is masked from 'package:IRanges': shift The following objects are masked from 'package:S4Vectors': first, second > > register(SerialParam()) > > test_check("OUTRIDER") [1] "Thu Oct 14 11:01:43 2021: Initial PCA loss: 5.93069719824208" [1] "Thu Oct 14 11:01:47 2021: Iteration: 1 loss: 4.15117451769608" [1] "Thu Oct 14 11:01:49 2021: Iteration: 2 loss: 4.08308652121941" [1] "Thu Oct 14 11:01:52 2021: Iteration: 3 loss: 4.06577804886184" [1] "Thu Oct 14 11:01:53 2021: Iteration: 4 loss: 4.05969300596838" [1] "Thu Oct 14 11:01:56 2021: Iteration: 5 loss: 4.05826367130961" [1] "Thu Oct 14 11:01:58 2021: Iteration: 6 loss: 4.05769182313" Time difference of 13.61046 secs [1] "Thu Oct 14 11:01:58 2021: 6 Final nb-AE loss: 4.05769182313" [1] "Thu Oct 14 11:02:00 2021: Initial PCA loss: 5.93069719824208" [1] "Thu Oct 14 11:02:04 2021: Iteration: 1 loss: 4.15117451769608" [1] "Thu Oct 14 11:02:07 2021: Iteration: 2 loss: 4.08308652121941" [1] "Thu Oct 14 11:02:09 2021: Iteration: 3 loss: 4.06577804886184" [1] "Thu Oct 14 11:02:12 2021: Iteration: 4 loss: 4.05969300596838" [1] "Thu Oct 14 11:02:14 2021: Iteration: 5 loss: 4.05826367130961" [1] "Thu Oct 14 11:02:16 2021: Iteration: 6 loss: 4.05769182313" Time difference of 13.78299 secs [1] "Thu Oct 14 11:02:16 2021: 6 Final nb-AE loss: 4.05769182313" class: OutriderDataSet class: RangedSummarizedExperiment dim: 100 50 metadata(1): version assays(1): counts rownames(100): ENSG00000223972.4 ENSG00000227232.4 ... ENSG00000107404.13 ENSG00000162576.12 rowData names(0): colnames(50): GTEX.UPK5.0426.SM.3GAEK GTEX.WFG7.2026.SM.3GIL7 ... GTEX.11UD2.2526.SM.5CVNU GTEX.13O61.1426.SM.5KM3D colData names(1): sampleID [1] "Thu Oct 14 11:02:38 2021: Initial PCA loss: 4.441968964672" [1] "Thu Oct 14 11:02:44 2021: Iteration: 1 loss: 4.06344035455015" [1] "Thu Oct 14 11:02:46 2021: Iteration: 2 loss: 4.04570194240637" Time difference of 5.725265 secs [1] "Thu Oct 14 11:02:46 2021: 2 Final nb-AE loss: 4.04570194240637" [1] "Evaluation loss: 0.0413478893587363 for q=3" [1] "Thu Oct 14 11:02:48 2021: Initial PCA loss: 4.41935383067433" [1] "Thu Oct 14 11:02:53 2021: Iteration: 1 loss: 3.98060448621367" [1] "Thu Oct 14 11:02:57 2021: Iteration: 2 loss: 3.94863360005219" Time difference of 6.252894 secs [1] "Thu Oct 14 11:02:57 2021: 2 Final nb-AE loss: 3.94863360005219" [1] "Evaluation loss: 0.0267738769253094 for q=4" [1] "Thu Oct 14 11:02:59 2021: Initial PCA loss: 4.39502592243262" [1] "Thu Oct 14 11:03:05 2021: Iteration: 1 loss: 3.9029758533167" [1] "Thu Oct 14 11:03:08 2021: Iteration: 2 loss: 3.88038842702758" Time difference of 5.959319 secs [1] "Thu Oct 14 11:03:08 2021: 2 Final nb-AE loss: 3.88038842702758" [1] "Evaluation loss: 0.0503231757944533 for q=5" [1] "Thu Oct 14 11:03:23 2021: Initial PCA loss: 6.46616282459588" [1] "Thu Oct 14 11:03:33 2021: Iteration: 1 loss: 4.81534634231464" [1] "Thu Oct 14 11:03:39 2021: Iteration: 2 loss: 4.78962006685516" Time difference of 11.37941 secs [1] "Thu Oct 14 11:03:39 2021: 2 Final nb-AE loss: 4.78962006685516" [ FAIL 0 | WARN 36 | SKIP 0 | PASS 103 ] > > proc.time() user system elapsed 148.917 2.519 151.330
OUTRIDER.Rcheck/OUTRIDER-Ex.timings
name | user | system | elapsed | |
OUTRIDER | 5.781 | 0.738 | 5.976 | |
OutriderDataSet-class | 1.173 | 0.008 | 1.184 | |
aberrant | 5.817 | 1.253 | 3.477 | |
computeGeneLength | 1.648 | 0.072 | 1.722 | |
computeLatentSpace | 1.205 | 0.019 | 1.225 | |
computePvalues | 2.095 | 0.668 | 1.993 | |
computeZscores | 1.455 | 0.056 | 1.512 | |
controlForConfounders | 1.792 | 0.020 | 1.812 | |
counts | 0.960 | 0.016 | 0.975 | |
estimateBestQ | 0.630 | 0.004 | 0.633 | |
filterExpression | 2.039 | 0.036 | 2.075 | |
findEncodingDim | 32.337 | 1.231 | 33.571 | |
fit | 5.154 | 0.160 | 5.315 | |
fpkm | 1.313 | 0.040 | 1.355 | |
getter_setter_functions | 7.446 | 0.012 | 7.458 | |
makeExampleOutriderDataSet | 1.921 | 0.000 | 1.924 | |
normalizationFactors | 1.262 | 0.004 | 1.266 | |
plotFunctions | 20.776 | 0.120 | 20.831 | |
results | 5.679 | 0.008 | 5.687 | |
sampleExclusionMask | 0.776 | 0.004 | 0.780 | |
sizeFactors | 1.182 | 0.004 | 1.186 | |