Back to Multiple platform build/check report for BioC 3.13 |
|
This page was generated on 2021-10-15 15:05:50 -0400 (Fri, 15 Oct 2021).
To the developers/maintainers of the REDseq package: - Please allow up to 24 hours (and sometimes 48 hours) for your latest push to git@git.bioconductor.org:packages/REDseq.git to reflect on this report. See How and When does the builder pull? When will my changes propagate? here for more information. - Make sure to use the following settings in order to reproduce any error or warning you see on this page. |
Package 1546/2041 | Hostname | OS / Arch | INSTALL | BUILD | CHECK | BUILD BIN | ||||||||
REDseq 1.38.0 (landing page) Lihua Julie Zhu
| nebbiolo1 | Linux (Ubuntu 20.04.2 LTS) / x86_64 | OK | OK | OK | ![]() | ||||||||
tokay2 | Windows Server 2012 R2 Standard / x64 | OK | OK | OK | OK | ![]() | ||||||||
machv2 | macOS 10.14.6 Mojave / x86_64 | OK | OK | OK | OK | ![]() | ||||||||
Package: REDseq |
Version: 1.38.0 |
Command: /home/biocbuild/bbs-3.13-bioc/R/bin/R CMD INSTALL REDseq |
StartedAt: 2021-10-14 06:29:02 -0400 (Thu, 14 Oct 2021) |
EndedAt: 2021-10-14 06:29:40 -0400 (Thu, 14 Oct 2021) |
EllapsedTime: 37.7 seconds |
RetCode: 0 |
Status: OK |
############################################################################## ############################################################################## ### ### Running command: ### ### /home/biocbuild/bbs-3.13-bioc/R/bin/R CMD INSTALL REDseq ### ############################################################################## ############################################################################## * installing to library ‘/home/biocbuild/bbs-3.13-bioc/R/library’ * installing *source* package ‘REDseq’ ... ** using staged installation ** R ** data ** inst ** byte-compile and prepare package for lazy loading No methods found in package 'IRanges' for requests: '%in%', 'rep.int' when loading 'REDseq' ** help *** installing help indices ** building package indices ** installing vignettes ** testing if installed package can be loaded from temporary location No methods found in package 'IRanges' for requests: '%in%', 'rep.int' when loading 'REDseq' ** testing if installed package can be loaded from final location No methods found in package 'IRanges' for requests: '%in%', 'rep.int' when loading 'REDseq' ** testing if installed package keeps a record of temporary installation path * DONE (REDseq)