Back to Multiple platform build/check report for BioC 3.13 |
|
This page was generated on 2021-10-15 15:05:51 -0400 (Fri, 15 Oct 2021).
To the developers/maintainers of the RTCGAToolbox package: - Please allow up to 24 hours (and sometimes 48 hours) for your latest push to git@git.bioconductor.org:packages/RTCGAToolbox.git to reflect on this report. See How and When does the builder pull? When will my changes propagate? here for more information. - Make sure to use the following settings in order to reproduce any error or warning you see on this page. |
Package 1644/2041 | Hostname | OS / Arch | INSTALL | BUILD | CHECK | BUILD BIN | ||||||||
RTCGAToolbox 2.22.1 (landing page) Marcel Ramos
| nebbiolo1 | Linux (Ubuntu 20.04.2 LTS) / x86_64 | OK | OK | OK | ![]() | ||||||||
tokay2 | Windows Server 2012 R2 Standard / x64 | OK | OK | OK | OK | ![]() | ||||||||
machv2 | macOS 10.14.6 Mojave / x86_64 | OK | OK | OK | OK | ![]() | ||||||||
Package: RTCGAToolbox |
Version: 2.22.1 |
Command: /home/biocbuild/bbs-3.13-bioc/R/bin/R CMD check --install=check:RTCGAToolbox.install-out.txt --library=/home/biocbuild/bbs-3.13-bioc/R/library --no-vignettes --timings RTCGAToolbox_2.22.1.tar.gz |
StartedAt: 2021-10-14 11:26:08 -0400 (Thu, 14 Oct 2021) |
EndedAt: 2021-10-14 11:29:01 -0400 (Thu, 14 Oct 2021) |
EllapsedTime: 172.7 seconds |
RetCode: 0 |
Status: OK |
CheckDir: RTCGAToolbox.Rcheck |
Warnings: 0 |
############################################################################## ############################################################################## ### ### Running command: ### ### /home/biocbuild/bbs-3.13-bioc/R/bin/R CMD check --install=check:RTCGAToolbox.install-out.txt --library=/home/biocbuild/bbs-3.13-bioc/R/library --no-vignettes --timings RTCGAToolbox_2.22.1.tar.gz ### ############################################################################## ############################################################################## * using log directory ‘/home/biocbuild/bbs-3.13-bioc/meat/RTCGAToolbox.Rcheck’ * using R version 4.1.1 (2021-08-10) * using platform: x86_64-pc-linux-gnu (64-bit) * using session charset: UTF-8 * using option ‘--no-vignettes’ * checking for file ‘RTCGAToolbox/DESCRIPTION’ ... OK * checking extension type ... Package * this is package ‘RTCGAToolbox’ version ‘2.22.1’ * package encoding: UTF-8 * checking package namespace information ... OK * checking package dependencies ... OK * checking if this is a source package ... OK * checking if there is a namespace ... OK * checking for hidden files and directories ... OK * checking for portable file names ... OK * checking for sufficient/correct file permissions ... OK * checking whether package ‘RTCGAToolbox’ can be installed ... OK * checking installed package size ... OK * checking package directory ... OK * checking ‘build’ directory ... OK * checking DESCRIPTION meta-information ... OK * checking top-level files ... OK * checking for left-over files ... OK * checking index information ... OK * checking package subdirectories ... OK * checking R files for non-ASCII characters ... OK * checking R files for syntax errors ... OK * checking whether the package can be loaded ... OK * checking whether the package can be loaded with stated dependencies ... OK * checking whether the package can be unloaded cleanly ... OK * checking whether the namespace can be loaded with stated dependencies ... OK * checking whether the namespace can be unloaded cleanly ... OK * checking dependencies in R code ... OK * checking S3 generic/method consistency ... OK * checking replacement functions ... OK * checking foreign function calls ... OK * checking R code for possible problems ... OK * checking Rd files ... OK * checking Rd metadata ... OK * checking Rd cross-references ... OK * checking for missing documentation entries ... OK * checking for code/documentation mismatches ... OK * checking Rd \usage sections ... OK * checking Rd contents ... OK * checking for unstated dependencies in examples ... OK * checking contents of ‘data’ directory ... OK * checking data for non-ASCII characters ... OK * checking LazyData ... OK * checking data for ASCII and uncompressed saves ... OK * checking files in ‘vignettes’ ... OK * checking examples ... OK Examples with CPU (user + system) or elapsed time > 5s user system elapsed getGISTICPeaks 16.107 3.216 23.055 biocExtract 6.041 0.212 6.256 * checking for unstated dependencies in vignettes ... OK * checking package vignettes in ‘inst/doc’ ... OK * checking running R code from vignettes ... SKIPPED * checking re-building of vignette outputs ... SKIPPED * checking PDF version of manual ... OK * DONE Status: OK
RTCGAToolbox.Rcheck/00install.out
############################################################################## ############################################################################## ### ### Running command: ### ### /home/biocbuild/bbs-3.13-bioc/R/bin/R CMD INSTALL RTCGAToolbox ### ############################################################################## ############################################################################## * installing to library ‘/home/biocbuild/bbs-3.13-bioc/R/library’ * installing *source* package ‘RTCGAToolbox’ ... ** using staged installation ** R ** data *** moving datasets to lazyload DB ** inst ** byte-compile and prepare package for lazy loading ** help *** installing help indices ** building package indices ** installing vignettes ** testing if installed package can be loaded from temporary location ** testing if installed package can be loaded from final location ** testing if installed package keeps a record of temporary installation path * DONE (RTCGAToolbox)
RTCGAToolbox.Rcheck/RTCGAToolbox-Ex.timings
name | user | system | elapsed | |
biocExtract | 6.041 | 0.212 | 6.256 | |
getBroadSubtypes | 0.016 | 0.000 | 0.136 | |
getCNGECorrelation | 0.002 | 0.000 | 0.002 | |
getData | 0.02 | 0.02 | 0.04 | |
getDiffExpressedGenes | 0.002 | 0.000 | 0.002 | |
getFirehoseAnalyzeDates | 0.001 | 0.000 | 0.001 | |
getFirehoseData | 0.006 | 0.000 | 0.005 | |
getFirehoseDatasets | 0.000 | 0.001 | 0.001 | |
getFirehoseRunningDates | 0.000 | 0.001 | 0.002 | |
getGISTICPeaks | 16.107 | 3.216 | 23.055 | |
getMutationRate | 0.002 | 0.003 | 0.006 | |
getReport | 3.827 | 0.408 | 4.236 | |
getSurvival | 0.006 | 0.000 | 0.006 | |
makeSummarizedExperimentFromGISTIC | 3.943 | 0.352 | 3.896 | |
showResults-CorResult | 0.001 | 0.000 | 0.001 | |
showResults-DGEResult | 0.001 | 0.000 | 0.001 | |
showResults | 0.001 | 0.000 | 0.001 | |