Back to Multiple platform build/check report for BioC 3.13 |
|
This page was generated on 2021-10-15 15:05:54 -0400 (Fri, 15 Oct 2021).
To the developers/maintainers of the TarSeqQC package: - Please allow up to 24 hours (and sometimes 48 hours) for your latest push to git@git.bioconductor.org:packages/TarSeqQC.git to reflect on this report. See How and When does the builder pull? When will my changes propagate? here for more information. - Make sure to use the following settings in order to reproduce any error or warning you see on this page. |
Package 1896/2041 | Hostname | OS / Arch | INSTALL | BUILD | CHECK | BUILD BIN | ||||||||
TarSeqQC 1.22.0 (landing page) Gabriela Merino
| nebbiolo1 | Linux (Ubuntu 20.04.2 LTS) / x86_64 | OK | OK | OK | ![]() | ||||||||
tokay2 | Windows Server 2012 R2 Standard / x64 | OK | OK | TIMEOUT | OK | |||||||||
machv2 | macOS 10.14.6 Mojave / x86_64 | OK | OK | OK | OK | ![]() | ||||||||
Package: TarSeqQC |
Version: 1.22.0 |
Command: /home/biocbuild/bbs-3.13-bioc/R/bin/R CMD check --install=check:TarSeqQC.install-out.txt --library=/home/biocbuild/bbs-3.13-bioc/R/library --no-vignettes --timings TarSeqQC_1.22.0.tar.gz |
StartedAt: 2021-10-14 11:50:12 -0400 (Thu, 14 Oct 2021) |
EndedAt: 2021-10-14 11:54:46 -0400 (Thu, 14 Oct 2021) |
EllapsedTime: 274.5 seconds |
RetCode: 0 |
Status: OK |
CheckDir: TarSeqQC.Rcheck |
Warnings: 0 |
############################################################################## ############################################################################## ### ### Running command: ### ### /home/biocbuild/bbs-3.13-bioc/R/bin/R CMD check --install=check:TarSeqQC.install-out.txt --library=/home/biocbuild/bbs-3.13-bioc/R/library --no-vignettes --timings TarSeqQC_1.22.0.tar.gz ### ############################################################################## ############################################################################## * using log directory ‘/home/biocbuild/bbs-3.13-bioc/meat/TarSeqQC.Rcheck’ * using R version 4.1.1 (2021-08-10) * using platform: x86_64-pc-linux-gnu (64-bit) * using session charset: UTF-8 * using option ‘--no-vignettes’ * checking for file ‘TarSeqQC/DESCRIPTION’ ... OK * checking extension type ... Package * this is package ‘TarSeqQC’ version ‘1.22.0’ * checking package namespace information ... OK * checking package dependencies ... OK * checking if this is a source package ... OK * checking if there is a namespace ... OK * checking for hidden files and directories ... OK * checking for portable file names ... OK * checking for sufficient/correct file permissions ... OK * checking whether package ‘TarSeqQC’ can be installed ... OK * checking installed package size ... OK * checking package directory ... OK * checking ‘build’ directory ... OK * checking DESCRIPTION meta-information ... OK * checking top-level files ... OK * checking for left-over files ... OK * checking index information ... OK * checking package subdirectories ... OK * checking R files for non-ASCII characters ... OK * checking R files for syntax errors ... OK * checking whether the package can be loaded ... OK * checking whether the package can be loaded with stated dependencies ... OK * checking whether the package can be unloaded cleanly ... OK * checking whether the namespace can be loaded with stated dependencies ... OK * checking whether the namespace can be unloaded cleanly ... OK * checking dependencies in R code ... OK * checking S3 generic/method consistency ... OK * checking replacement functions ... OK * checking foreign function calls ... OK * checking R code for possible problems ... NOTE plotNtdPercentage,TargetExperiment: no visible global function definition for ‘path’ plotRegion,TargetExperiment: no visible global function definition for ‘path’ readFrequencies,TargetExperiment: no visible global function definition for ‘path’ Undefined global functions or variables: path * checking Rd files ... OK * checking Rd metadata ... OK * checking Rd cross-references ... OK * checking for missing documentation entries ... OK * checking for code/documentation mismatches ... OK * checking Rd \usage sections ... OK * checking Rd contents ... OK * checking for unstated dependencies in examples ... OK * checking contents of ‘data’ directory ... OK * checking data for non-ASCII characters ... OK * checking data for ASCII and uncompressed saves ... OK * checking files in ‘vignettes’ ... OK * checking examples ... OK Examples with CPU (user + system) or elapsed time > 5s user system elapsed TargetExperiment-class 73.879 20.779 31.888 TargetExperiment-plotRegion 61.859 13.576 20.392 TargetExperiment-plotFeature 2.633 2.628 1.555 * checking for unstated dependencies in ‘tests’ ... OK * checking tests ... Running ‘runTests.R’ OK * checking for unstated dependencies in vignettes ... OK * checking package vignettes in ‘inst/doc’ ... OK * checking running R code from vignettes ... SKIPPED * checking re-building of vignette outputs ... SKIPPED * checking PDF version of manual ... OK * DONE Status: 1 NOTE See ‘/home/biocbuild/bbs-3.13-bioc/meat/TarSeqQC.Rcheck/00check.log’ for details.
TarSeqQC.Rcheck/00install.out
############################################################################## ############################################################################## ### ### Running command: ### ### /home/biocbuild/bbs-3.13-bioc/R/bin/R CMD INSTALL TarSeqQC ### ############################################################################## ############################################################################## * installing to library ‘/home/biocbuild/bbs-3.13-bioc/R/library’ * installing *source* package ‘TarSeqQC’ ... ** using staged installation ** R ** data ** inst ** byte-compile and prepare package for lazy loading ** help *** installing help indices ** building package indices ** installing vignettes ** testing if installed package can be loaded from temporary location ** testing if installed package can be loaded from final location ** testing if installed package keeps a record of temporary installation path * DONE (TarSeqQC)
TarSeqQC.Rcheck/tests/runTests.Rout
R version 4.1.1 (2021-08-10) -- "Kick Things" Copyright (C) 2021 The R Foundation for Statistical Computing Platform: x86_64-pc-linux-gnu (64-bit) R is free software and comes with ABSOLUTELY NO WARRANTY. You are welcome to redistribute it under certain conditions. Type 'license()' or 'licence()' for distribution details. R is a collaborative project with many contributors. Type 'contributors()' for more information and 'citation()' on how to cite R or R packages in publications. Type 'demo()' for some demos, 'help()' for on-line help, or 'help.start()' for an HTML browser interface to help. Type 'q()' to quit R. > BiocGenerics:::testPackage("TarSeqQC") Attaching package: 'BiocGenerics' The following objects are masked from 'package:parallel': clusterApply, clusterApplyLB, clusterCall, clusterEvalQ, clusterExport, clusterMap, parApply, parCapply, parLapply, parLapplyLB, parRapply, parSapply, parSapplyLB The following objects are masked from 'package:stats': IQR, mad, sd, var, xtabs The following objects are masked from 'package:base': Filter, Find, Map, Position, Reduce, anyDuplicated, append, as.data.frame, basename, cbind, colnames, dirname, do.call, duplicated, eval, evalq, get, grep, grepl, intersect, is.unsorted, lapply, mapply, match, mget, order, paste, pmax, pmax.int, pmin, pmin.int, rank, rbind, rownames, sapply, setdiff, sort, table, tapply, union, unique, unsplit, which.max, which.min Attaching package: 'S4Vectors' The following objects are masked from 'package:base': I, expand.grid, unname Attaching package: 'Biostrings' The following object is masked from 'package:base': strsplit Attaching package: 'plyr' The following object is masked from 'package:XVector': compact The following object is masked from 'package:IRanges': desc The following object is masked from 'package:S4Vectors': rename RUNIT TEST PROTOCOL -- Thu Oct 14 11:54:43 2021 *********************************************** Number of test functions: 33 Number of errors: 0 Number of failures: 0 1 Test Suite : TarSeqQC RUnit Tests - 33 test functions, 0 errors, 0 failures Number of test functions: 33 Number of errors: 0 Number of failures: 0 Warning messages: 1: `guides(<scale> = FALSE)` is deprecated. Please use `guides(<scale> = "none")` instead. 2: `guides(<scale> = FALSE)` is deprecated. Please use `guides(<scale> = "none")` instead. > > proc.time() user system elapsed 18.387 3.799 16.664
TarSeqQC.Rcheck/TarSeqQC-Ex.timings
name | user | system | elapsed | |
TargetExperiment-biasExploration | 0.063 | 0.000 | 0.064 | |
TargetExperiment-buildFeaturePanel | 1.253 | 0.046 | 1.305 | |
TargetExperiment-buildReport | 1.143 | 0.008 | 1.152 | |
TargetExperiment-class | 73.879 | 20.779 | 31.888 | |
TargetExperiment-constructor | 1.807 | 0.462 | 1.628 | |
TargetExperiment-getters | 0.268 | 0.012 | 0.279 | |
TargetExperiment-initialize | 0.001 | 0.000 | 0.001 | |
TargetExperiment-plot | 0.231 | 0.020 | 0.250 | |
TargetExperiment-plotAttrExpl | 0.109 | 0.004 | 0.113 | |
TargetExperiment-plotAttrPerform | 0.031 | 0.004 | 0.035 | |
TargetExperiment-plotFeatPerform | 0.404 | 0.027 | 0.431 | |
TargetExperiment-plotFeature | 2.633 | 2.628 | 1.555 | |
TargetExperiment-plotGeneAttrPerFeat | 0.398 | 0.036 | 0.434 | |
TargetExperiment-plotMetaDataExpl | 0.033 | 0.008 | 0.041 | |
TargetExperiment-plotNtdPercentage | 1.864 | 2.148 | 1.299 | |
TargetExperiment-plotRegion | 61.859 | 13.576 | 20.392 | |
TargetExperiment-print | 0.066 | 0.004 | 0.071 | |
TargetExperiment-readFrequencies | 0.527 | 0.425 | 0.522 | |
TargetExperiment-setters | 0.004 | 0.000 | 0.004 | |
TargetExperiment-show | 0.054 | 0.012 | 0.066 | |
TargetExperiment-statistics | 0.081 | 0.012 | 0.093 | |
TargetExperiment-summarizePanel | 0.619 | 0.454 | 0.495 | |
TargetExperimentList-class | 0.794 | 0.179 | 0.599 | |
TargetExperimentList-constructor | 0.087 | 0.011 | 0.098 | |
TargetExperimentList-initialize | 0.098 | 0.001 | 0.098 | |
TargetExperimentList-plotGlobalAttrExpl | 0.019 | 0.003 | 0.023 | |
TargetExperimentList-plotPoolPerformance | 0.016 | 0.001 | 0.015 | |
checkBedFasta | 0.046 | 0.007 | 0.054 | |
pileupCounts | 2.252 | 1.764 | 1.511 | |
plotInOutFeatures | 1.166 | 1.019 | 0.552 | |