Back to Multiple platform build/check report for BioC 3.13 |
|
This page was generated on 2021-10-15 15:05:34 -0400 (Fri, 15 Oct 2021).
To the developers/maintainers of the a4Base package: - Please allow up to 24 hours (and sometimes 48 hours) for your latest push to git@git.bioconductor.org:packages/a4Base.git to reflect on this report. See How and When does the builder pull? When will my changes propagate? here for more information. - Make sure to use the following settings in order to reproduce any error or warning you see on this page. |
Package 2/2041 | Hostname | OS / Arch | INSTALL | BUILD | CHECK | BUILD BIN | ||||||||
a4Base 1.40.0 (landing page) Laure Cougnaud
| nebbiolo1 | Linux (Ubuntu 20.04.2 LTS) / x86_64 | OK | OK | OK | ![]() | ||||||||
tokay2 | Windows Server 2012 R2 Standard / x64 | OK | OK | OK | OK | ![]() | ||||||||
machv2 | macOS 10.14.6 Mojave / x86_64 | OK | OK | OK | OK | ![]() | ||||||||
Package: a4Base |
Version: 1.40.0 |
Command: /home/biocbuild/bbs-3.13-bioc/R/bin/R CMD check --install=check:a4Base.install-out.txt --library=/home/biocbuild/bbs-3.13-bioc/R/library --no-vignettes --timings a4Base_1.40.0.tar.gz |
StartedAt: 2021-10-14 08:49:31 -0400 (Thu, 14 Oct 2021) |
EndedAt: 2021-10-14 08:52:20 -0400 (Thu, 14 Oct 2021) |
EllapsedTime: 168.7 seconds |
RetCode: 0 |
Status: OK |
CheckDir: a4Base.Rcheck |
Warnings: 0 |
############################################################################## ############################################################################## ### ### Running command: ### ### /home/biocbuild/bbs-3.13-bioc/R/bin/R CMD check --install=check:a4Base.install-out.txt --library=/home/biocbuild/bbs-3.13-bioc/R/library --no-vignettes --timings a4Base_1.40.0.tar.gz ### ############################################################################## ############################################################################## * using log directory ‘/home/biocbuild/bbs-3.13-bioc/meat/a4Base.Rcheck’ * using R version 4.1.1 (2021-08-10) * using platform: x86_64-pc-linux-gnu (64-bit) * using session charset: UTF-8 * using option ‘--no-vignettes’ * checking for file ‘a4Base/DESCRIPTION’ ... OK * checking extension type ... Package * this is package ‘a4Base’ version ‘1.40.0’ * checking package namespace information ... OK * checking package dependencies ... NOTE Package which this enhances but not available for checking: ‘JavaGD’ * checking if this is a source package ... OK * checking if there is a namespace ... OK * checking for hidden files and directories ... OK * checking for portable file names ... OK * checking for sufficient/correct file permissions ... OK * checking whether package ‘a4Base’ can be installed ... OK * checking installed package size ... OK * checking package directory ... OK * checking DESCRIPTION meta-information ... OK * checking top-level files ... OK * checking for left-over files ... OK * checking index information ... OK * checking package subdirectories ... OK * checking R files for non-ASCII characters ... OK * checking R files for syntax errors ... OK * checking whether the package can be loaded ... OK * checking whether the package can be loaded with stated dependencies ... OK * checking whether the package can be unloaded cleanly ... OK * checking whether the namespace can be loaded with stated dependencies ... OK * checking whether the namespace can be unloaded cleanly ... OK * checking dependencies in R code ... OK * checking S3 generic/method consistency ... OK * checking replacement functions ... OK * checking foreign function calls ... OK * checking R code for possible problems ... OK * checking Rd files ... OK * checking Rd metadata ... OK * checking Rd cross-references ... OK * checking for missing documentation entries ... OK * checking for code/documentation mismatches ... OK * checking Rd \usage sections ... OK * checking Rd contents ... OK * checking for unstated dependencies in examples ... OK * checking contents of ‘data’ directory ... OK * checking data for non-ASCII characters ... OK * checking data for ASCII and uncompressed saves ... OK * checking examples ... OK Examples with CPU (user + system) or elapsed time > 5s user system elapsed spectralMap 10.702 0.263 10.967 * checking PDF version of manual ... OK * DONE Status: 1 NOTE See ‘/home/biocbuild/bbs-3.13-bioc/meat/a4Base.Rcheck/00check.log’ for details.
a4Base.Rcheck/00install.out
############################################################################## ############################################################################## ### ### Running command: ### ### /home/biocbuild/bbs-3.13-bioc/R/bin/R CMD INSTALL a4Base ### ############################################################################## ############################################################################## * installing to library ‘/home/biocbuild/bbs-3.13-bioc/R/library’ * installing *source* package ‘a4Base’ ... ** using staged installation ** R ** data ** inst ** byte-compile and prepare package for lazy loading ** help *** installing help indices ** building package indices ** testing if installed package can be loaded from temporary location ** testing if installed package can be loaded from final location ** testing if installed package keeps a record of temporary installation path * DONE (a4Base)
a4Base.Rcheck/a4Base-Ex.timings
name | user | system | elapsed | |
a4palette | 0.026 | 0.000 | 0.026 | |
addQuantilesColors | 2.129 | 0.223 | 2.353 | |
boxPlot | 2.665 | 0.059 | 2.725 | |
combineTwoExpressionSet | 0.000 | 0.000 | 0.001 | |
computeLogRatio | 4.430 | 0.172 | 4.602 | |
createExpressionSet | 0.029 | 0.000 | 0.029 | |
filterVarInt | 1.65 | 0.06 | 1.71 | |
heatmap.expressionSet | 0.000 | 0.002 | 0.002 | |
histPvalue | 2.296 | 0.061 | 2.357 | |
histpvalueplotter | 1.681 | 0.031 | 1.713 | |
lassoReg | 1.775 | 0.036 | 1.812 | |
logReg | 0 | 0 | 0 | |
nlcvTT | 0 | 0 | 0 | |
plot1gene | 1.688 | 0.052 | 1.740 | |
plotComb2Samples | 1.791 | 0.039 | 1.831 | |
plotCombMultSamples | 3.055 | 0.084 | 3.138 | |
plotCombination2genes | 2.517 | 0.064 | 2.582 | |
plotLogRatio | 4.025 | 0.068 | 4.093 | |
probabilitiesPlot | 0.000 | 0.000 | 0.001 | |
probe2gene | 1.606 | 0.034 | 1.641 | |
profilesPlot | 1.799 | 0.083 | 1.884 | |
propdegenescalculation | 2.377 | 0.072 | 2.449 | |
replicates | 0.001 | 0.000 | 0.002 | |
spectralMap | 10.702 | 0.263 | 10.967 | |
tTest | 2.074 | 0.057 | 2.131 | |
volcanoPlot | 2.274 | 0.071 | 2.346 | |