Back to Multiple platform build/check report for BioC 3.13 |
|
This page was generated on 2021-10-15 15:05:35 -0400 (Fri, 15 Oct 2021).
To the developers/maintainers of the alsace package: - Please allow up to 24 hours (and sometimes 48 hours) for your latest push to git@git.bioconductor.org:packages/alsace.git to reflect on this report. See How and When does the builder pull? When will my changes propagate? here for more information. - Make sure to use the following settings in order to reproduce any error or warning you see on this page. |
Package 49/2041 | Hostname | OS / Arch | INSTALL | BUILD | CHECK | BUILD BIN | ||||||||
alsace 1.28.0 (landing page) Ron Wehrens
| nebbiolo1 | Linux (Ubuntu 20.04.2 LTS) / x86_64 | OK | OK | OK | ![]() | ||||||||
tokay2 | Windows Server 2012 R2 Standard / x64 | OK | OK | OK | OK | ![]() | ||||||||
machv2 | macOS 10.14.6 Mojave / x86_64 | OK | OK | OK | OK | ![]() | ||||||||
Package: alsace |
Version: 1.28.0 |
Command: /home/biocbuild/bbs-3.13-bioc/R/bin/R CMD check --install=check:alsace.install-out.txt --library=/home/biocbuild/bbs-3.13-bioc/R/library --no-vignettes --timings alsace_1.28.0.tar.gz |
StartedAt: 2021-10-14 08:50:35 -0400 (Thu, 14 Oct 2021) |
EndedAt: 2021-10-14 08:51:21 -0400 (Thu, 14 Oct 2021) |
EllapsedTime: 46.0 seconds |
RetCode: 0 |
Status: OK |
CheckDir: alsace.Rcheck |
Warnings: 0 |
############################################################################## ############################################################################## ### ### Running command: ### ### /home/biocbuild/bbs-3.13-bioc/R/bin/R CMD check --install=check:alsace.install-out.txt --library=/home/biocbuild/bbs-3.13-bioc/R/library --no-vignettes --timings alsace_1.28.0.tar.gz ### ############################################################################## ############################################################################## * using log directory ‘/home/biocbuild/bbs-3.13-bioc/meat/alsace.Rcheck’ * using R version 4.1.1 (2021-08-10) * using platform: x86_64-pc-linux-gnu (64-bit) * using session charset: UTF-8 * using option ‘--no-vignettes’ * checking for file ‘alsace/DESCRIPTION’ ... OK * checking extension type ... Package * this is package ‘alsace’ version ‘1.28.0’ * checking package namespace information ... OK * checking package dependencies ... OK * checking if this is a source package ... OK * checking if there is a namespace ... OK * checking for hidden files and directories ... OK * checking for portable file names ... OK * checking for sufficient/correct file permissions ... OK * checking whether package ‘alsace’ can be installed ... OK * checking installed package size ... OK * checking package directory ... OK * checking ‘build’ directory ... OK * checking DESCRIPTION meta-information ... OK * checking top-level files ... OK * checking for left-over files ... OK * checking index information ... OK * checking package subdirectories ... OK * checking R files for non-ASCII characters ... OK * checking R files for syntax errors ... OK * checking whether the package can be loaded ... OK * checking whether the package can be loaded with stated dependencies ... OK * checking whether the package can be unloaded cleanly ... OK * checking whether the namespace can be loaded with stated dependencies ... OK * checking whether the namespace can be unloaded cleanly ... OK * checking dependencies in R code ... NOTE 'library' or 'require' call to ‘lattice’ in package code. Please use :: or requireNamespace() instead. See section 'Suggested packages' in the 'Writing R Extensions' manual. * checking S3 generic/method consistency ... OK * checking replacement functions ... OK * checking foreign function calls ... OK * checking R code for possible problems ... NOTE getPeakTable : clusterPeaks: no visible global function definition for ‘stripplot’ getPeakTable : clusterPeaks : <anonymous>: no visible global function definition for ‘panel.stripplot’ getPeakTable : clusterPeaks : <anonymous>: no visible global function definition for ‘panel.abline’ Undefined global functions or variables: panel.abline panel.stripplot stripplot * checking Rd files ... OK * checking Rd metadata ... OK * checking Rd cross-references ... OK * checking for missing documentation entries ... OK * checking for code/documentation mismatches ... OK * checking Rd \usage sections ... OK * checking Rd contents ... OK * checking for unstated dependencies in examples ... OK * checking contents of ‘data’ directory ... OK * checking data for non-ASCII characters ... OK * checking data for ASCII and uncompressed saves ... OK * checking files in ‘vignettes’ ... OK * checking examples ... OK Examples with CPU (user + system) or elapsed time > 5s user system elapsed components 8.532 0.032 8.565 * checking for unstated dependencies in vignettes ... OK * checking package vignettes in ‘inst/doc’ ... OK * checking running R code from vignettes ... SKIPPED * checking re-building of vignette outputs ... SKIPPED * checking PDF version of manual ... OK * DONE Status: 2 NOTEs See ‘/home/biocbuild/bbs-3.13-bioc/meat/alsace.Rcheck/00check.log’ for details.
alsace.Rcheck/00install.out
############################################################################## ############################################################################## ### ### Running command: ### ### /home/biocbuild/bbs-3.13-bioc/R/bin/R CMD INSTALL alsace ### ############################################################################## ############################################################################## * installing to library ‘/home/biocbuild/bbs-3.13-bioc/R/library’ * installing *source* package ‘alsace’ ... ** using staged installation ** R ** data ** byte-compile and prepare package for lazy loading ** help *** installing help indices ** building package indices ** installing vignettes ** testing if installed package can be loaded from temporary location ** testing if installed package can be loaded from final location ** testing if installed package keeps a record of temporary installation path * DONE (alsace)
alsace.Rcheck/alsace-Ex.timings
name | user | system | elapsed | |
components | 8.532 | 0.032 | 8.565 | |
correctPeaks | 3.325 | 0.015 | 3.341 | |
correctRT | 1.616 | 0.003 | 1.620 | |
doALS | 3.498 | 0.008 | 3.507 | |
filterPeaks | 0.031 | 0.001 | 0.030 | |
fitpeaks | 3.658 | 0.004 | 3.662 | |
getAllPeaks | 0.026 | 0.004 | 0.030 | |
getPeakTable | 1.565 | 0.116 | 1.681 | |
opa | 0.954 | 0.011 | 0.965 | |
preprocess | 0.094 | 0.001 | 0.094 | |
showALSresult | 0.083 | 0.004 | 0.087 | |
tea | 0.095 | 0.003 | 0.099 | |
teaMerged | 4.450 | 0.004 | 4.454 | |
windows | 0.1 | 0.0 | 0.1 | |