Back to Multiple platform build/check report for BioC 3.13 |
|
This page was generated on 2021-10-15 15:05:45 -0400 (Fri, 15 Oct 2021).
To the developers/maintainers of the methimpute package: - Please allow up to 24 hours (and sometimes 48 hours) for your latest push to git@git.bioconductor.org:packages/methimpute.git to reflect on this report. See How and When does the builder pull? When will my changes propagate? here for more information. - Make sure to use the following settings in order to reproduce any error or warning you see on this page. |
Package 1098/2041 | Hostname | OS / Arch | INSTALL | BUILD | CHECK | BUILD BIN | ||||||||
methimpute 1.14.0 (landing page) Aaron Taudt
| nebbiolo1 | Linux (Ubuntu 20.04.2 LTS) / x86_64 | OK | OK | OK | ![]() | ||||||||
tokay2 | Windows Server 2012 R2 Standard / x64 | OK | OK | OK | OK | ![]() | ||||||||
machv2 | macOS 10.14.6 Mojave / x86_64 | OK | OK | OK | OK | ![]() | ||||||||
Package: methimpute |
Version: 1.14.0 |
Command: /home/biocbuild/bbs-3.13-bioc/R/bin/R CMD INSTALL methimpute |
StartedAt: 2021-10-14 06:07:17 -0400 (Thu, 14 Oct 2021) |
EndedAt: 2021-10-14 06:08:09 -0400 (Thu, 14 Oct 2021) |
EllapsedTime: 52.3 seconds |
RetCode: 0 |
Status: OK |
############################################################################## ############################################################################## ### ### Running command: ### ### /home/biocbuild/bbs-3.13-bioc/R/bin/R CMD INSTALL methimpute ### ############################################################################## ############################################################################## * installing to library ‘/home/biocbuild/bbs-3.13-bioc/R/library’ * installing *source* package ‘methimpute’ ... ** using staged installation ** libs g++ -std=gnu++11 -I"/home/biocbuild/bbs-3.13-bioc/R/include" -DNDEBUG -I'/home/biocbuild/bbs-3.13-bioc/R/library/Rcpp/include' -I/usr/local/include -fopenmp -fpic -g -O2 -Wall -c RcppExports.cpp -o RcppExports.o g++ -std=gnu++11 -I"/home/biocbuild/bbs-3.13-bioc/R/include" -DNDEBUG -I'/home/biocbuild/bbs-3.13-bioc/R/library/Rcpp/include' -I/usr/local/include -fopenmp -fpic -g -O2 -Wall -c densities.cpp -o densities.o densities.cpp: In member function ‘virtual void BinomialTestContext::calc_densities(Rcpp::Matrix<14>::Row&)’: densities.cpp:614:31: warning: ‘prob_context’ may be used uninitialized in this function [-Wmaybe-uninitialized] 614 | if (verbosity >= 4) Rprintf("obs_test[t=%d] = %d, obs_total[t] = %d, prob_context = %g\n", t, obs_test[t], obs_total[t], prob_context); | ~~~~~~~^~~~~~~~~~~~~~~~~~~~~~~~~~~~~~~~~~~~~~~~~~~~~~~~~~~~~~~~~~~~~~~~~~~~~~~~~~~~~~~~~~~~~~~~~~~~~~~~~~~~~~~~~~~ g++ -std=gnu++11 -I"/home/biocbuild/bbs-3.13-bioc/R/include" -DNDEBUG -I'/home/biocbuild/bbs-3.13-bioc/R/library/Rcpp/include' -I/usr/local/include -fopenmp -fpic -g -O2 -Wall -c fitHMM.cpp -o fitHMM.o g++ -std=gnu++11 -I"/home/biocbuild/bbs-3.13-bioc/R/include" -DNDEBUG -I'/home/biocbuild/bbs-3.13-bioc/R/library/Rcpp/include' -I/usr/local/include -fopenmp -fpic -g -O2 -Wall -c fitHMM_context.cpp -o fitHMM_context.o g++ -std=gnu++11 -I"/home/biocbuild/bbs-3.13-bioc/R/include" -DNDEBUG -I'/home/biocbuild/bbs-3.13-bioc/R/library/Rcpp/include' -I/usr/local/include -fopenmp -fpic -g -O2 -Wall -c hmm_context.cpp -o hmm_context.o hmm_context.cpp: In destructor ‘HMM_context::~HMM_context()’: hmm_context.cpp:68:17: warning: comparison of integer expressions of different signedness: ‘int’ and ‘std::vector<Density*>::size_type’ {aka ‘long unsigned int’} [-Wsign-compare] 68 | for (int i=0; i<this->emissionDensities.size(); i++) | ~^~~~~~~~~~~~~~~~~~~~~~~~~~~~~~~ gcc -I"/home/biocbuild/bbs-3.13-bioc/R/include" -DNDEBUG -I'/home/biocbuild/bbs-3.13-bioc/R/library/Rcpp/include' -I/usr/local/include -fpic -g -O2 -Wall -c methimpute_init.c -o methimpute_init.o g++ -std=gnu++11 -I"/home/biocbuild/bbs-3.13-bioc/R/include" -DNDEBUG -I'/home/biocbuild/bbs-3.13-bioc/R/library/Rcpp/include' -I/usr/local/include -fopenmp -fpic -g -O2 -Wall -c scalehmm.cpp -o scalehmm.o scalehmm.cpp: In destructor ‘ScaleHMM::~ScaleHMM()’: scalehmm.cpp:311:17: warning: comparison of integer expressions of different signedness: ‘int’ and ‘std::vector<Density*>::size_type’ {aka ‘long unsigned int’} [-Wsign-compare] 311 | for (int i=0; i<this->emissionDensities.size(); i++) | ~^~~~~~~~~~~~~~~~~~~~~~~~~~~~~~~ g++ -std=gnu++11 -shared -L/home/biocbuild/bbs-3.13-bioc/R/lib -L/usr/local/lib -o methimpute.so RcppExports.o densities.o fitHMM.o fitHMM_context.o hmm_context.o methimpute_init.o scalehmm.o -fopenmp -L/home/biocbuild/bbs-3.13-bioc/R/lib -lR installing to /home/biocbuild/bbs-3.13-bioc/R/library/00LOCK-methimpute/00new/methimpute/libs ** R ** data ** inst ** byte-compile and prepare package for lazy loading ** help *** installing help indices ** building package indices ** installing vignettes ** testing if installed package can be loaded from temporary location ** checking absolute paths in shared objects and dynamic libraries ** testing if installed package can be loaded from final location ** testing if installed package keeps a record of temporary installation path * DONE (methimpute)