Back to Build/check report for BioC 3.14 experimental data |
|
This page was generated on 2022-04-13 14:50:25 -0400 (Wed, 13 Apr 2022).
Hostname | OS | Arch (*) | R version | Installed pkgs |
---|---|---|---|---|
nebbiolo2 | Linux (Ubuntu 20.04.4 LTS) | x86_64 | 4.1.3 (2022-03-10) -- "One Push-Up" | 4324 |
Click on any hostname to see more info about the system (e.g. compilers) (*) as reported by 'uname -p', except on Windows and Mac OS X |
To the developers/maintainers of the tissueTreg package: Make sure to use the following settings in order to reproduce any error or warning you see on this page. |
Package 391/408 | Hostname | OS / Arch | INSTALL | BUILD | CHECK | ||||||||
tissueTreg 1.14.0 (landing page) Charles Imbusch
| nebbiolo2 | Linux (Ubuntu 20.04.4 LTS) / x86_64 | OK | OK | OK | ||||||||
Package: tissueTreg |
Version: 1.14.0 |
Command: /home/biocbuild/bbs-3.14-bioc/R/bin/R CMD build --keep-empty-dirs --no-resave-data tissueTreg |
StartedAt: 2022-04-13 10:45:40 -0400 (Wed, 13 Apr 2022) |
EndedAt: 2022-04-13 10:46:59 -0400 (Wed, 13 Apr 2022) |
EllapsedTime: 79.2 seconds |
RetCode: 0 |
Status: OK |
PackageFile: tissueTreg_1.14.0.tar.gz |
PackageFileSize: 569.6 KiB |
############################################################################## ############################################################################## ### ### Running command: ### ### /home/biocbuild/bbs-3.14-bioc/R/bin/R CMD build --keep-empty-dirs --no-resave-data tissueTreg ### ############################################################################## ############################################################################## * checking for file ‘tissueTreg/DESCRIPTION’ ... OK * preparing ‘tissueTreg’: * checking DESCRIPTION meta-information ... OK * installing the package to build vignettes * creating vignettes ... OK * checking for LF line-endings in source and make files and shell scripts * checking for empty or unneeded directories Omitted ‘LazyData’ from DESCRIPTION * building ‘tissueTreg_1.14.0.tar.gz’