Back to Multiple platform build/check report for BioC 3.15 |
|
This page was generated on 2022-10-19 13:21:42 -0400 (Wed, 19 Oct 2022).
Hostname | OS | Arch (*) | R version | Installed pkgs |
---|---|---|---|---|
nebbiolo1 | Linux (Ubuntu 20.04.5 LTS) | x86_64 | 4.2.1 (2022-06-23) -- "Funny-Looking Kid" | 4386 |
palomino3 | Windows Server 2022 Datacenter | x64 | 4.2.1 (2022-06-23 ucrt) -- "Funny-Looking Kid" | 4138 |
merida1 | macOS 10.14.6 Mojave | x86_64 | 4.2.1 (2022-06-23) -- "Funny-Looking Kid" | 4205 |
Click on any hostname to see more info about the system (e.g. compilers) (*) as reported by 'uname -p', except on Windows and Mac OS X |
To the developers/maintainers of the KnowSeq package: - Please allow up to 24 hours (and sometimes 48 hours) for your latest push to git@git.bioconductor.org:packages/KnowSeq.git to reflect on this report. See How and When does the builder pull? When will my changes propagate? for more information. - Make sure to use the following settings in order to reproduce any error or warning you see on this page. |
Package 1010/2140 | Hostname | OS / Arch | INSTALL | BUILD | CHECK | BUILD BIN | ||||||||
KnowSeq 1.10.2 (landing page) Daniel Castillo-Secilla
| nebbiolo1 | Linux (Ubuntu 20.04.5 LTS) / x86_64 | OK | OK | OK | ![]() | ||||||||
palomino3 | Windows Server 2022 Datacenter / x64 | OK | OK | OK | OK | ![]() | ||||||||
merida1 | macOS 10.14.6 Mojave / x86_64 | OK | OK | OK | OK | ![]() | ||||||||
Package: KnowSeq |
Version: 1.10.2 |
Command: F:\biocbuild\bbs-3.15-bioc\R\bin\R.exe CMD check --no-multiarch --install=check:KnowSeq.install-out.txt --library=F:\biocbuild\bbs-3.15-bioc\R\library --no-vignettes --timings KnowSeq_1.10.2.tar.gz |
StartedAt: 2022-10-19 01:20:11 -0400 (Wed, 19 Oct 2022) |
EndedAt: 2022-10-19 01:25:42 -0400 (Wed, 19 Oct 2022) |
EllapsedTime: 331.3 seconds |
RetCode: 0 |
Status: OK |
CheckDir: KnowSeq.Rcheck |
Warnings: 0 |
############################################################################## ############################################################################## ### ### Running command: ### ### F:\biocbuild\bbs-3.15-bioc\R\bin\R.exe CMD check --no-multiarch --install=check:KnowSeq.install-out.txt --library=F:\biocbuild\bbs-3.15-bioc\R\library --no-vignettes --timings KnowSeq_1.10.2.tar.gz ### ############################################################################## ############################################################################## * using log directory 'F:/biocbuild/bbs-3.15-bioc/meat/KnowSeq.Rcheck' * using R version 4.2.1 (2022-06-23 ucrt) * using platform: x86_64-w64-mingw32 (64-bit) * using session charset: UTF-8 * using option '--no-vignettes' * checking for file 'KnowSeq/DESCRIPTION' ... OK * checking extension type ... Package * this is package 'KnowSeq' version '1.10.2' * package encoding: UTF-8 * checking package namespace information ... OK * checking package dependencies ... OK * checking if this is a source package ... OK * checking if there is a namespace ... OK * checking for hidden files and directories ... OK * checking for portable file names ... OK * checking whether package 'KnowSeq' can be installed ... OK * checking installed package size ... NOTE installed size is 7.2Mb sub-directories of 1Mb or more: extdata 6.9Mb * checking package directory ... OK * checking 'build' directory ... OK * checking DESCRIPTION meta-information ... OK * checking top-level files ... OK * checking for left-over files ... OK * checking index information ... OK * checking package subdirectories ... OK * checking R files for non-ASCII characters ... OK * checking R files for syntax errors ... OK * checking whether the package can be loaded ... OK * checking whether the package can be loaded with stated dependencies ... OK * checking whether the package can be unloaded cleanly ... OK * checking whether the namespace can be loaded with stated dependencies ... OK * checking whether the namespace can be unloaded cleanly ... OK * checking dependencies in R code ... OK * checking S3 generic/method consistency ... OK * checking replacement functions ... OK * checking foreign function calls ... OK * checking R code for possible problems ... NOTE DEGsExtraction: warning in topTable(fit, number = number, coef = 2, sort.by = "logFC", p.value = pvalue, adjust = "fdr", lfc = lfc): partial argument match of 'adjust' to 'adjust.method' RNAseqQA : outlierBarPlot: no visible binding for global variable 'x' RNAseqQA : outlierBarPlot: no visible binding for global variable 'y' RNAseqQA: no visible binding for global variable 'Var1' RNAseqQA: no visible binding for global variable 'Var2' RNAseqQA: no visible binding for global variable 'value' RNAseqQA: no visible binding for global variable 'Expression' RNAseqQA: no visible binding for global variable 'Samples' dataPlot: no visible binding for global variable 'Var1' dataPlot: no visible binding for global variable 'Var2' dataPlot: no visible binding for global variable 'value' dataPlot: no visible binding for global variable 'Classes' dataPlot: no visible binding for global variable 'Value' knn_trn: no visible global function definition for 'knn.cv' knowseqReport: no visible binding for global variable 'target' Undefined global functions or variables: Classes Expression Samples Value Var1 Var2 knn.cv target value x y * checking Rd files ... OK * checking Rd metadata ... OK * checking Rd cross-references ... OK * checking for missing documentation entries ... OK * checking for code/documentation mismatches ... OK * checking Rd \usage sections ... OK * checking Rd contents ... OK * checking for unstated dependencies in examples ... OK * checking files in 'vignettes' ... OK * checking examples ... OK Examples with CPU (user + system) or elapsed time > 5s user system elapsed dataPlot 23.20 0.40 23.64 svm_trn 20.58 0.26 20.85 rf_trn 18.76 0.57 19.34 svm_test 16.06 0.18 16.23 downloadPublicSeries 1.33 0.07 17.08 * checking for unstated dependencies in vignettes ... OK * checking package vignettes in 'inst/doc' ... OK * checking running R code from vignettes ... SKIPPED * checking re-building of vignette outputs ... SKIPPED * checking PDF version of manual ... OK * DONE Status: 2 NOTEs See 'F:/biocbuild/bbs-3.15-bioc/meat/KnowSeq.Rcheck/00check.log' for details.
KnowSeq.Rcheck/00install.out
############################################################################## ############################################################################## ### ### Running command: ### ### F:\biocbuild\bbs-3.15-bioc\R\bin\R.exe CMD INSTALL KnowSeq ### ############################################################################## ############################################################################## * installing to library 'F:/biocbuild/bbs-3.15-bioc/R/library' * installing *source* package 'KnowSeq' ... ** using staged installation ** R ** inst ** byte-compile and prepare package for lazy loading ** help *** installing help indices ** building package indices ** installing vignettes ** testing if installed package can be loaded from temporary location ** testing if installed package can be loaded from final location ** testing if installed package keeps a record of temporary installation path * DONE (KnowSeq)
KnowSeq.Rcheck/KnowSeq-Ex.timings
name | user | system | elapsed | |
DEGsEvidences | 0.34 | 0.05 | 1.07 | |
DEGsExtraction | 1.81 | 0.01 | 1.86 | |
DEGsToDiseases | 0.22 | 0.02 | 0.85 | |
DEGsToPathways | 0.38 | 0.01 | 0.39 | |
RNAseqQA | 1.97 | 0.08 | 2.05 | |
batchEffectRemoval | 0.87 | 0.00 | 0.87 | |
calculateGeneExpressionValues | 0.55 | 0.05 | 0.59 | |
countsToMatrix | 0.05 | 0.00 | 0.07 | |
dataPlot | 23.20 | 0.40 | 23.64 | |
downloadPublicSeries | 1.33 | 0.07 | 17.08 | |
featureSelection | 0.00 | 0.00 | 0.09 | |
fileMove | 0 | 0 | 0 | |
gdcClientDownload | 0 | 0 | 0 | |
geneOntologyEnrichment | 0 | 0 | 0 | |
getGenesAnnotation | 0.31 | 0.00 | 0.33 | |
hisatAlignment | 0.00 | 0.01 | 0.01 | |
knn_test | 0.05 | 0.00 | 0.05 | |
knn_trn | 1.81 | 0.02 | 1.84 | |
knowseqReport | 0 | 0 | 0 | |
plotConfMatrix | 0.01 | 0.00 | 0.02 | |
rawAlignment | 0.00 | 0.01 | 0.01 | |
rf_test | 4.54 | 0.10 | 4.66 | |
rf_trn | 18.76 | 0.57 | 19.34 | |
sraToFastq | 0 | 0 | 0 | |
svm_test | 16.06 | 0.18 | 16.23 | |
svm_trn | 20.58 | 0.26 | 20.85 | |