Back to Multiple platform build/check report for BioC 3.15
ABCDEFGHIJKLMNO[P]QRSTUVWXYZ

This page was generated on 2022-04-12 11:07:06 -0400 (Tue, 12 Apr 2022).

HostnameOSArch (*)R versionInstalled pkgs
nebbiolo1Linux (Ubuntu 20.04.4 LTS)x86_64R Under development (unstable) (2022-03-17 r81925) -- "Unsuffered Consequences" 4379
palomino3Windows Server 2022 Datacenterx64R Under development (unstable) (2022-03-17 r81925 ucrt) -- "Unsuffered Consequences" 4127
merida1macOS 10.14.6 Mojavex86_64R Under development (unstable) (2022-03-17 r81925) -- "Unsuffered Consequences" 4190
Click on any hostname to see more info about the system (e.g. compilers)      (*) as reported by 'uname -p', except on Windows and Mac OS X

BUILD BIN results for PrecisionTrialDrawer on palomino3


To the developers/maintainers of the PrecisionTrialDrawer package:
- Please allow up to 24 hours (and sometimes 48 hours) for your latest push to git@git.bioconductor.org:packages/PrecisionTrialDrawer.git to
reflect on this report. See How and When does the builder pull? When will my changes propagate? for more information.
- Make sure to use the following settings in order to reproduce any error or warning you see on this page.

raw results

Package 1472/2113HostnameOS / ArchINSTALLBUILDCHECKBUILD BIN
PrecisionTrialDrawer 1.11.0  (landing page)
Giorgio Melloni
Snapshot Date: 2022-04-11 13:55:11 -0400 (Mon, 11 Apr 2022)
git_url: https://git.bioconductor.org/packages/PrecisionTrialDrawer
git_branch: master
git_last_commit: 52b19d2
git_last_commit_date: 2021-10-26 12:48:33 -0400 (Tue, 26 Oct 2021)
nebbiolo1Linux (Ubuntu 20.04.4 LTS) / x86_64  OK    OK    OK  UNNEEDED, same version is already published
palomino3Windows Server 2022 Datacenter / x64  OK    OK    OK    OK  UNNEEDED, same version is already published
merida1macOS 10.14.6 Mojave / x86_64  OK    OK    OK    OK  UNNEEDED, same version is already published

Summary

Package: PrecisionTrialDrawer
Version: 1.11.0
Command: rm -rf PrecisionTrialDrawer.buildbin-libdir && mkdir PrecisionTrialDrawer.buildbin-libdir && F:\biocbuild\bbs-3.15-bioc\R\bin\R.exe CMD INSTALL --build --library=PrecisionTrialDrawer.buildbin-libdir PrecisionTrialDrawer_1.11.0.tar.gz
StartedAt: 2022-04-12 05:23:45 -0400 (Tue, 12 Apr 2022)
EndedAt: 2022-04-12 05:24:36 -0400 (Tue, 12 Apr 2022)
EllapsedTime: 51.0 seconds
RetCode: 0
Status:   OK  
PackageFile: PrecisionTrialDrawer_1.11.0.zip
PackageFileSize: 1.17 MiB

Command output

##############################################################################
##############################################################################
###
### Running command:
###
###   rm -rf PrecisionTrialDrawer.buildbin-libdir && mkdir PrecisionTrialDrawer.buildbin-libdir && F:\biocbuild\bbs-3.15-bioc\R\bin\R.exe CMD INSTALL --build --library=PrecisionTrialDrawer.buildbin-libdir PrecisionTrialDrawer_1.11.0.tar.gz
###
##############################################################################
##############################################################################


* installing *source* package 'PrecisionTrialDrawer' ...
** using staged installation
** R
** data
** inst
** byte-compile and prepare package for lazy loading
Creating a generic function for 'toJSON' from package 'jsonlite' in package 'googleVis'
** help
*** installing help indices
** building package indices
** installing vignettes
** testing if installed package can be loaded from temporary location
Creating a generic function for 'toJSON' from package 'jsonlite' in package 'googleVis'
** testing if installed package can be loaded from final location
Creating a generic function for 'toJSON' from package 'jsonlite' in package 'googleVis'
** testing if installed package keeps a record of temporary installation path
* MD5 sums
packaged installation of 'PrecisionTrialDrawer' as PrecisionTrialDrawer_1.11.0.zip
* DONE (PrecisionTrialDrawer)