Back to Multiple platform build/check report for BioC 3.15 |
|
This page was generated on 2022-10-19 13:22:17 -0400 (Wed, 19 Oct 2022).
Hostname | OS | Arch (*) | R version | Installed pkgs |
---|---|---|---|---|
nebbiolo1 | Linux (Ubuntu 20.04.5 LTS) | x86_64 | 4.2.1 (2022-06-23) -- "Funny-Looking Kid" | 4386 |
palomino3 | Windows Server 2022 Datacenter | x64 | 4.2.1 (2022-06-23 ucrt) -- "Funny-Looking Kid" | 4138 |
merida1 | macOS 10.14.6 Mojave | x86_64 | 4.2.1 (2022-06-23) -- "Funny-Looking Kid" | 4205 |
Click on any hostname to see more info about the system (e.g. compilers) (*) as reported by 'uname -p', except on Windows and Mac OS X |
To the developers/maintainers of the sesame package: - Please allow up to 24 hours (and sometimes 48 hours) for your latest push to git@git.bioconductor.org:packages/sesame.git to reflect on this report. See How and When does the builder pull? When will my changes propagate? for more information. - Make sure to use the following settings in order to reproduce any error or warning you see on this page. |
Package 1823/2140 | Hostname | OS / Arch | INSTALL | BUILD | CHECK | BUILD BIN | ||||||||
sesame 1.14.2 (landing page) Wanding Zhou
| nebbiolo1 | Linux (Ubuntu 20.04.5 LTS) / x86_64 | OK | OK | OK | ![]() | ||||||||
palomino3 | Windows Server 2022 Datacenter / x64 | OK | OK | OK | OK | ![]() | ||||||||
merida1 | macOS 10.14.6 Mojave / x86_64 | OK | OK | OK | OK | ![]() | ||||||||
Package: sesame |
Version: 1.14.2 |
Command: F:\biocbuild\bbs-3.15-bioc\R\bin\R.exe CMD check --no-multiarch --install=check:sesame.install-out.txt --library=F:\biocbuild\bbs-3.15-bioc\R\library --no-vignettes --timings sesame_1.14.2.tar.gz |
StartedAt: 2022-10-19 04:08:47 -0400 (Wed, 19 Oct 2022) |
EndedAt: 2022-10-19 04:28:47 -0400 (Wed, 19 Oct 2022) |
EllapsedTime: 1199.8 seconds |
RetCode: 0 |
Status: OK |
CheckDir: sesame.Rcheck |
Warnings: 0 |
############################################################################## ############################################################################## ### ### Running command: ### ### F:\biocbuild\bbs-3.15-bioc\R\bin\R.exe CMD check --no-multiarch --install=check:sesame.install-out.txt --library=F:\biocbuild\bbs-3.15-bioc\R\library --no-vignettes --timings sesame_1.14.2.tar.gz ### ############################################################################## ############################################################################## * using log directory 'F:/biocbuild/bbs-3.15-bioc/meat/sesame.Rcheck' * using R version 4.2.1 (2022-06-23 ucrt) * using platform: x86_64-w64-mingw32 (64-bit) * using session charset: UTF-8 * using option '--no-vignettes' * checking for file 'sesame/DESCRIPTION' ... OK * checking extension type ... Package * this is package 'sesame' version '1.14.2' * package encoding: UTF-8 * checking package namespace information ... OK * checking package dependencies ... OK * checking if this is a source package ... OK * checking if there is a namespace ... OK * checking for hidden files and directories ... OK * checking for portable file names ... OK * checking whether package 'sesame' can be installed ... OK * checking installed package size ... OK * checking package directory ... OK * checking 'build' directory ... OK * checking DESCRIPTION meta-information ... OK * checking top-level files ... OK * checking for left-over files ... OK * checking index information ... OK * checking package subdirectories ... OK * checking R files for non-ASCII characters ... OK * checking R files for syntax errors ... OK * checking whether the package can be loaded ... OK * checking whether the package can be loaded with stated dependencies ... OK * checking whether the package can be unloaded cleanly ... OK * checking whether the namespace can be loaded with stated dependencies ... OK * checking whether the namespace can be unloaded cleanly ... OK * checking dependencies in R code ... OK * checking S3 generic/method consistency ... OK * checking replacement functions ... OK * checking foreign function calls ... OK * checking R code for possible problems ... OK * checking Rd files ... OK * checking Rd metadata ... OK * checking Rd cross-references ... OK * checking for missing documentation entries ... OK * checking for code/documentation mismatches ... OK * checking Rd \usage sections ... OK * checking Rd contents ... OK * checking for unstated dependencies in examples ... OK * checking files in 'vignettes' ... OK * checking examples ... OK Examples with CPU (user + system) or elapsed time > 5s user system elapsed sesameQC_plotHeatSNPs 39.16 1.13 40.38 DMR 35.57 0.64 36.42 sesameQC_calcStats 34.33 0.93 35.28 KYCG_plotEnrichAll 28.71 1.35 37.15 DML 25.78 1.77 28.99 inferSpecies 23.90 0.76 31.71 dyeBiasCorrMostBalanced 22.34 0.51 33.82 matchDesign 19.34 0.39 19.79 sesameQC_plotBetaByDesign 18.61 0.59 19.20 KYCG_plotMeta 16.90 0.70 22.03 sesameQC_plotBar 16.92 0.42 26.66 visualizeGene 15.29 0.59 16.11 probeSuccessRate 14.97 0.77 15.84 KYCG_plotMetaEnrichment 14.30 0.52 14.87 compareMouseStrainReference 14.11 0.71 16.50 KYCG_annoProbes 14.14 0.56 15.75 getSexInfo 14.02 0.57 14.70 diffRefSet 13.88 0.54 22.83 getRefSet 12.42 0.52 13.11 compareMouseTissueReference 12.36 0.57 13.10 prepSesame 12.25 0.58 12.89 KYCG_buildGeneDBs 12.37 0.39 19.45 inferStrain 11.99 0.63 12.62 sdf_read_table 12.06 0.30 12.39 testEnrichmentGSEA 11.57 0.61 13.01 dyeBiasCorr 11.19 0.49 11.87 dbStats 10.58 0.54 18.43 testEnrichment 9.97 0.66 10.69 detectionIB 9.43 0.56 10.02 controls 9.23 0.65 10.08 sdf_write_table 8.94 0.27 9.22 mapToMammal40 8.33 0.49 9.02 formatVCF 8.26 0.32 9.87 openSesame 8.13 0.45 9.34 estimateLeukocyte 7.83 0.33 13.85 inferTissue 7.59 0.42 8.17 inferSex 7.57 0.34 8.10 createUCSCtrack 7.44 0.46 9.96 detectionPnegEcdf 6.94 0.39 7.39 scrubSoft 7.06 0.22 7.28 dyeBiasNL 6.99 0.28 7.29 bisConversionControl 6.78 0.37 10.67 print.DMLSummary 6.24 0.20 6.47 sesameQC_rankStats 5.93 0.36 6.36 noMasked 5.80 0.28 6.11 predictAgeHorvath353 5.73 0.32 6.11 deidentify 5.58 0.44 6.12 scrub 5.58 0.26 5.84 summaryExtractTest 5.51 0.23 5.77 inferSexKaryotypes 5.54 0.10 5.76 openSesameToFile 5.18 0.27 5.46 predictAgeSkinBlood 5.05 0.28 5.48 reIdentify 5.13 0.15 5.32 sesameQC_getStats 5.09 0.07 5.15 predictMouseAgeInMonth 4.66 0.45 5.14 updateSigDF 4.14 0.27 6.20 checkLevels 3.58 0.25 6.27 * checking for unstated dependencies in 'tests' ... OK * checking tests ... Running 'testthat.R' OK * checking for unstated dependencies in vignettes ... OK * checking package vignettes in 'inst/doc' ... OK * checking running R code from vignettes ... SKIPPED * checking re-building of vignette outputs ... SKIPPED * checking PDF version of manual ... OK * DONE Status: OK
sesame.Rcheck/00install.out
############################################################################## ############################################################################## ### ### Running command: ### ### F:\biocbuild\bbs-3.15-bioc\R\bin\R.exe CMD INSTALL sesame ### ############################################################################## ############################################################################## * installing to library 'F:/biocbuild/bbs-3.15-bioc/R/library' * installing *source* package 'sesame' ... ** using staged installation ** R ** inst ** byte-compile and prepare package for lazy loading ** help *** installing help indices ** building package indices ** installing vignettes ** testing if installed package can be loaded from temporary location ** testing if installed package can be loaded from final location ** testing if installed package keeps a record of temporary installation path * DONE (sesame)
sesame.Rcheck/tests/testthat.Rout
R version 4.2.1 (2022-06-23 ucrt) -- "Funny-Looking Kid" Copyright (C) 2022 The R Foundation for Statistical Computing Platform: x86_64-w64-mingw32/x64 (64-bit) R is free software and comes with ABSOLUTELY NO WARRANTY. You are welcome to redistribute it under certain conditions. Type 'license()' or 'licence()' for distribution details. R is a collaborative project with many contributors. Type 'contributors()' for more information and 'citation()' on how to cite R or R packages in publications. Type 'demo()' for some demos, 'help()' for on-line help, or 'help.start()' for an HTML browser interface to help. Type 'q()' to quit R. > library(testthat) > library(sesame) Loading required package: sesameData Loading required package: ExperimentHub Loading required package: BiocGenerics Attaching package: 'BiocGenerics' The following objects are masked from 'package:stats': IQR, mad, sd, var, xtabs The following objects are masked from 'package:base': Filter, Find, Map, Position, Reduce, anyDuplicated, append, as.data.frame, basename, cbind, colnames, dirname, do.call, duplicated, eval, evalq, get, grep, grepl, intersect, is.unsorted, lapply, mapply, match, mget, order, paste, pmax, pmax.int, pmin, pmin.int, rank, rbind, rownames, sapply, setdiff, sort, table, tapply, union, unique, unsplit, which.max, which.min Loading required package: AnnotationHub Loading required package: BiocFileCache Loading required package: dbplyr Loading sesameData. ---------------------------------------------------------- | SEnsible Step-wise Analysis of DNA MEthylation (SeSAMe) | -------------------------------------------------------- | Please cache auxiliary data by "sesameDataCache()". | This needs to be done only once per SeSAMe installation. ---------------------------------------------------------- > > test_check("sesame") [ FAIL 0 | WARN 0 | SKIP 0 | PASS 1 ] > > proc.time() user system elapsed 34.53 2.78 37.54
sesame.Rcheck/sesame-Ex.timings
name | user | system | elapsed | |
BetaValueToMValue | 0 | 0 | 0 | |
DML | 25.78 | 1.77 | 28.99 | |
DMR | 35.57 | 0.64 | 36.42 | |
KYCG_annoProbes | 14.14 | 0.56 | 15.75 | |
KYCG_buildGeneDBs | 12.37 | 0.39 | 19.45 | |
KYCG_getDBs | 2.70 | 0.28 | 3.61 | |
KYCG_listDBGroups | 0.05 | 0.00 | 0.06 | |
KYCG_plotBar | 2.49 | 0.03 | 2.52 | |
KYCG_plotDot | 0.29 | 0.00 | 0.30 | |
KYCG_plotEnrichAll | 28.71 | 1.35 | 37.15 | |
KYCG_plotLollipop | 0.11 | 0.03 | 0.14 | |
KYCG_plotManhattan | 1.64 | 0.09 | 1.74 | |
KYCG_plotMeta | 16.90 | 0.70 | 22.03 | |
KYCG_plotMetaEnrichment | 14.30 | 0.52 | 14.87 | |
KYCG_plotPointRange | 3.67 | 0.27 | 3.97 | |
KYCG_plotVolcano | 0.25 | 0.01 | 0.27 | |
KYCG_plotWaterfall | 3.58 | 0.24 | 4.08 | |
MValueToBetaValue | 0 | 0 | 0 | |
SigDF | 0.34 | 0.03 | 0.40 | |
addMask | 0.07 | 0.01 | 0.08 | |
aggregateTestEnrichments | 2.37 | 0.13 | 2.50 | |
bisConversionControl | 6.78 | 0.37 | 10.67 | |
checkLevels | 3.58 | 0.25 | 6.27 | |
cnSegmentation | 0.22 | 0.07 | 0.29 | |
compareMouseStrainReference | 14.11 | 0.71 | 16.50 | |
compareMouseTissueReference | 12.36 | 0.57 | 13.10 | |
controls | 9.23 | 0.65 | 10.08 | |
createUCSCtrack | 7.44 | 0.46 | 9.96 | |
dataFrame2sesameQC | 1.12 | 0.16 | 1.41 | |
dbStats | 10.58 | 0.54 | 18.43 | |
deidentify | 5.58 | 0.44 | 6.12 | |
detectionIB | 9.43 | 0.56 | 10.02 | |
detectionPnegEcdf | 6.94 | 0.39 | 7.39 | |
diffRefSet | 13.88 | 0.54 | 22.83 | |
dmContrasts | 2.40 | 0.19 | 2.63 | |
dyeBiasCorr | 11.19 | 0.49 | 11.87 | |
dyeBiasCorrMostBalanced | 22.34 | 0.51 | 33.82 | |
dyeBiasL | 1.62 | 0.13 | 1.79 | |
dyeBiasNL | 6.99 | 0.28 | 7.29 | |
estimateLeukocyte | 7.83 | 0.33 | 13.85 | |
formatVCF | 8.26 | 0.32 | 9.87 | |
getAFTypeIbySumAlleles | 1.35 | 0.22 | 1.74 | |
getAFs | 1.57 | 0.13 | 1.71 | |
getBetas | 1.08 | 0.09 | 1.19 | |
getRefSet | 12.42 | 0.52 | 13.11 | |
getSexInfo | 14.02 | 0.57 | 14.70 | |
inferEthnicity | 4.67 | 0.19 | 4.91 | |
inferInfiniumIChannel | 0.63 | 0.44 | 1.06 | |
inferSex | 7.57 | 0.34 | 8.10 | |
inferSexKaryotypes | 5.54 | 0.10 | 5.76 | |
inferSpecies | 23.90 | 0.76 | 31.71 | |
inferStrain | 11.99 | 0.63 | 12.62 | |
inferTissue | 7.59 | 0.42 | 8.17 | |
initFileSet | 1.06 | 0.08 | 1.16 | |
listAvailableMasks | 2.14 | 0.12 | 2.72 | |
mapFileSet | 0.03 | 0.00 | 0.05 | |
mapToMammal40 | 8.33 | 0.49 | 9.02 | |
matchDesign | 19.34 | 0.39 | 19.79 | |
meanIntensity | 3.39 | 0.39 | 3.83 | |
medianTotalIntensity | 1.17 | 0.09 | 1.28 | |
noMasked | 5.80 | 0.28 | 6.11 | |
noob | 4.39 | 0.19 | 4.61 | |
openSesame | 8.13 | 0.45 | 9.34 | |
openSesameToFile | 5.18 | 0.27 | 5.46 | |
pOOBAH | 3.69 | 0.12 | 3.81 | |
palgen | 0.05 | 0.02 | 0.12 | |
parseGEOsignalMU | 0.60 | 0.06 | 0.66 | |
predictAgeHorvath353 | 5.73 | 0.32 | 6.11 | |
predictAgeSkinBlood | 5.05 | 0.28 | 5.48 | |
predictMouseAgeInMonth | 4.66 | 0.45 | 5.14 | |
prefixMask | 2.19 | 0.11 | 2.31 | |
prefixMaskButC | 0.17 | 0.00 | 0.17 | |
prefixMaskButCG | 0.04 | 0.00 | 0.04 | |
prepSesame | 12.25 | 0.58 | 12.89 | |
prepSesameList | 0 | 0 | 0 | |
print.DMLSummary | 6.24 | 0.20 | 6.47 | |
print.fileSet | 1.50 | 0.17 | 1.71 | |
probeID_designType | 0 | 0 | 0 | |
probeSuccessRate | 14.97 | 0.77 | 15.84 | |
qualityMask | 3.98 | 0.09 | 4.11 | |
reIdentify | 5.13 | 0.15 | 5.32 | |
readFileSet | 0.06 | 0.00 | 0.08 | |
readIDATpair | 0.22 | 0.00 | 0.21 | |
resetMask | 0.48 | 0.02 | 0.54 | |
scrub | 5.58 | 0.26 | 5.84 | |
scrubSoft | 7.06 | 0.22 | 7.28 | |
sdfPlatform | 1.19 | 0.08 | 1.28 | |
sdf_read_table | 12.06 | 0.30 | 12.39 | |
sdf_write_table | 8.94 | 0.27 | 9.22 | |
searchIDATprefixes | 0.00 | 0.02 | 0.01 | |
sesame-package | 4.36 | 0.25 | 4.63 | |
sesameAnno_download | 0 | 0 | 0 | |
sesameAnno_get | 0 | 0 | 0 | |
sesameAnno_getManifestDF | 0 | 0 | 0 | |
sesameData_getAnno | 0 | 0 | 0 | |
sesameQC_calcStats | 34.33 | 0.93 | 35.28 | |
sesameQC_getStats | 5.09 | 0.07 | 5.15 | |
sesameQC_plotBar | 16.92 | 0.42 | 26.66 | |
sesameQC_plotBetaByDesign | 18.61 | 0.59 | 19.20 | |
sesameQC_plotHeatSNPs | 39.16 | 1.13 | 40.38 | |
sesameQC_plotIntensVsBetas | 3.39 | 0.14 | 3.56 | |
sesameQC_plotRedGrnQQ | 1.83 | 0.09 | 1.94 | |
sesameQC_rankStats | 5.93 | 0.36 | 6.36 | |
setMask | 0.08 | 0.00 | 0.08 | |
signalMU | 1.11 | 0.07 | 1.20 | |
sliceFileSet | 0.03 | 0.02 | 0.06 | |
summaryExtractTest | 5.51 | 0.23 | 5.77 | |
testEnrichment | 9.97 | 0.66 | 10.69 | |
testEnrichmentGSEA | 11.57 | 0.61 | 13.01 | |
totalIntensities | 3.39 | 0.23 | 3.66 | |
updateSigDF | 4.14 | 0.27 | 6.20 | |
visualizeGene | 15.29 | 0.59 | 16.11 | |
visualizeProbes | 4.66 | 0.13 | 4.83 | |
visualizeRegion | 0.34 | 0.00 | 0.34 | |
visualizeSegments | 1.89 | 0.06 | 1.97 | |