Back to Multiple platform build/check report for BioC 3.16
ABCDEF[G]HIJKLMNOPQRSTUVWXYZ

This page was generated on 2022-07-11 11:06:47 -0400 (Mon, 11 Jul 2022).

HostnameOSArch (*)R versionInstalled pkgs
nebbiolo2Linux (Ubuntu 20.04.4 LTS)x86_644.2.1 (2022-06-23) -- "Funny-Looking Kid" 4148
lconwaymacOS 12.2.1 Montereyx86_644.2.0 Patched (2022-05-29 r82424) -- "Vigorous Calisthenics" 4168
kjohnsonmacOS 12.4 Montereyarm644.2.1 (2022-06-23) -- "Funny-Looking Kid" 3545
Click on any hostname to see more info about the system (e.g. compilers)      (*) as reported by 'uname -p', except on Windows and Mac OS X

INSTALL results for genoCN on kjohnson


To the developers/maintainers of the genoCN package:
- Please allow up to 24 hours (and sometimes 48 hours) for your latest push to git@git.bioconductor.org:packages/genoCN.git to
reflect on this report. See How and When does the builder pull? When will my changes propagate? for more information.
- Make sure to use the following settings in order to reproduce any error or warning you see on this page.

raw results

Package 758/2130HostnameOS / ArchINSTALLBUILDCHECKBUILD BIN
genoCN 1.49.0  (landing page)
Wei Sun
Snapshot Date: 2022-07-10 14:00:02 -0400 (Sun, 10 Jul 2022)
git_url: https://git.bioconductor.org/packages/genoCN
git_branch: master
git_last_commit: 3015afd
git_last_commit_date: 2022-04-26 11:04:26 -0400 (Tue, 26 Apr 2022)
nebbiolo2Linux (Ubuntu 20.04.4 LTS) / x86_64  OK    OK    WARNINGS  UNNEEDED, same version is already published
lconwaymacOS 12.2.1 Monterey / x86_64  OK    OK    OK    OK  UNNEEDED, same version is already published
kjohnsonmacOS 12.4 Monterey / arm64  OK    NA    NA    NA  

Summary

Package: genoCN
Version: 1.49.0
Command: /Library/Frameworks/R.framework/Resources/bin/R CMD INSTALL genoCN
StartedAt: 2022-07-10 15:10:02 -0400 (Sun, 10 Jul 2022)
EndedAt: 2022-07-10 15:10:14 -0400 (Sun, 10 Jul 2022)
EllapsedTime: 11.5 seconds
RetCode: 0
Status:   OK  

Command output

##############################################################################
##############################################################################
###
### Running command:
###
###   /Library/Frameworks/R.framework/Resources/bin/R CMD INSTALL genoCN
###
##############################################################################
##############################################################################


* installing to library ‘/Library/Frameworks/R.framework/Versions/4.2-arm64/Resources/library’
* installing *source* package ‘genoCN’ ...
** using staged installation
** libs
clang -arch arm64 -I"/Library/Frameworks/R.framework/Resources/include" -DNDEBUG   -I/opt/R/arm64/include   -fPIC  -falign-functions=64 -Wall -g -O2  -c tnorm_mle.c -o tnorm_mle.o
clang -arch arm64 -I"/Library/Frameworks/R.framework/Resources/include" -DNDEBUG   -I/opt/R/arm64/include   -fPIC  -falign-functions=64 -Wall -g -O2  -c utility.c -o utility.o
clang -arch arm64 -I"/Library/Frameworks/R.framework/Resources/include" -DNDEBUG   -I/opt/R/arm64/include   -fPIC  -falign-functions=64 -Wall -g -O2  -c xCNV.c -o xCNV.o
xCNV.c:317:25: warning: unused variable 'k' [-Wunused-variable]
  int L, N, M, K, i, z, k, nGtp, contam=*contamR, CNA=*CNAR;
                        ^
xCNV.c:317:16: warning: unused variable 'K' [-Wunused-variable]
  int L, N, M, K, i, z, k, nGtp, contam=*contamR, CNA=*CNAR;
               ^
xCNV.c:762:10: warning: variable 'LL' set but not used [-Wunused-but-set-variable]
  int L, LL, N, NN, M, MM, S, LS, CNA = *RCNA,
         ^
xCNV.c:787:10: warning: unused variable 'mu_b_tmp' [-Wunused-variable]
  double mu_b_tmp, sd_b_tmp;
         ^
xCNV.c:787:20: warning: unused variable 'sd_b_tmp' [-Wunused-variable]
  double mu_b_tmp, sd_b_tmp;
                   ^
5 warnings generated.
clang -arch arm64 -dynamiclib -Wl,-headerpad_max_install_names -undefined dynamic_lookup -single_module -multiply_defined suppress -L/Library/Frameworks/R.framework/Resources/lib -L/opt/R/arm64/lib -o genoCN.so tnorm_mle.o utility.o xCNV.o -F/Library/Frameworks/R.framework/.. -framework R -Wl,-framework -Wl,CoreFoundation
installing to /Library/Frameworks/R.framework/Versions/4.2-arm64/Resources/library/00LOCK-genoCN/00new/genoCN/libs
** R
** data
** inst
** byte-compile and prepare package for lazy loading
** help
*** installing help indices
** building package indices
** installing vignettes
** testing if installed package can be loaded from temporary location
** checking absolute paths in shared objects and dynamic libraries
** testing if installed package can be loaded from final location
** testing if installed package keeps a record of temporary installation path
* DONE (genoCN)