Back to Multiple platform build/check report for BioC 3.17
ABCDEF[G]HIJKLMNOPQRSTUVWXYZ

This page was generated on 2023-01-19 11:07:49 -0500 (Thu, 19 Jan 2023).

HostnameOSArch (*)R versionInstalled pkgs
nebbiolo1Linux (Ubuntu 22.04.1 LTS)x86_64R Under development (unstable) (2023-01-10 r83596) -- "Unsuffered Consequences" 4460
palomino3Windows Server 2022 Datacenterx64R Under development (unstable) (2023-01-10 r83596 ucrt) -- "Unsuffered Consequences" 4240
merida1macOS 10.14.6 Mojavex86_64R Under development (unstable) (2023-01-10 r83596) -- "Unsuffered Consequences" 4262
Click on any hostname to see more info about the system (e.g. compilers)      (*) as reported by 'uname -p', except on Windows and Mac OS X

BUILD BIN results for genbankr on palomino3


To the developers/maintainers of the genbankr package:
- Please allow up to 24 hours (and sometimes 48 hours) for your latest push to git@git.bioconductor.org:packages/genbankr.git to
reflect on this report. See How and When does the builder pull? When will my changes propagate? for more information.
- Make sure to use the following settings in order to reproduce any error or warning you see on this page.

raw results

Package 737/2160HostnameOS / ArchINSTALLBUILDCHECKBUILD BIN
genbankr 1.27.0  (landing page)
Gabriel Becker
Snapshot Date: 2023-01-18 14:00:20 -0500 (Wed, 18 Jan 2023)
git_url: https://git.bioconductor.org/packages/genbankr
git_branch: master
git_last_commit: 52cde8c
git_last_commit_date: 2022-11-01 11:13:33 -0500 (Tue, 01 Nov 2022)
nebbiolo1Linux (Ubuntu 22.04.1 LTS) / x86_64  OK    OK    OK  UNNEEDED, same version is already published
palomino3Windows Server 2022 Datacenter / x64  OK    OK    OK    OK  UNNEEDED, same version is already published
merida1macOS 10.14.6 Mojave / x86_64  OK    OK    OK    OK  UNNEEDED, same version is already published

Summary

Package: genbankr
Version: 1.27.0
Command: rm -rf genbankr.buildbin-libdir && mkdir genbankr.buildbin-libdir && F:\biocbuild\bbs-3.17-bioc\R\bin\R.exe CMD INSTALL --build --library=genbankr.buildbin-libdir genbankr_1.27.0.tar.gz
StartedAt: 2023-01-19 08:11:49 -0500 (Thu, 19 Jan 2023)
EndedAt: 2023-01-19 08:12:47 -0500 (Thu, 19 Jan 2023)
EllapsedTime: 58.2 seconds
RetCode: 0
Status:   OK  
PackageFile: genbankr_1.27.0.zip
PackageFileSize: 1.052 MiB

Command output

##############################################################################
##############################################################################
###
### Running command:
###
###   rm -rf genbankr.buildbin-libdir && mkdir genbankr.buildbin-libdir && F:\biocbuild\bbs-3.17-bioc\R\bin\R.exe CMD INSTALL --build --library=genbankr.buildbin-libdir genbankr_1.27.0.tar.gz
###
##############################################################################
##############################################################################


* installing *source* package 'genbankr' ...
** using staged installation
** R
** inst
** byte-compile and prepare package for lazy loading
** help
*** installing help indices
** building package indices
** installing vignettes
** testing if installed package can be loaded from temporary location
** testing if installed package can be loaded from final location
** testing if installed package keeps a record of temporary installation path
* MD5 sums
packaged installation of 'genbankr' as genbankr_1.27.0.zip
* DONE (genbankr)