Back to Mac ARM64 build report for BioC 3.17 |
|
This page was generated on 2023-10-20 09:38:04 -0400 (Fri, 20 Oct 2023).
Hostname | OS | Arch (*) | R version | Installed pkgs |
---|---|---|---|---|
kjohnson2 | macOS 12.6.1 Monterey | arm64 | 4.3.1 (2023-06-16) -- "Beagle Scouts" | 4347 |
Click on any hostname to see more info about the system (e.g. compilers) (*) as reported by 'uname -p', except on Windows and Mac OS X |
Package 1000/2230 | Hostname | OS / Arch | INSTALL | BUILD | CHECK | BUILD BIN | ||||||||
INSPEcT 1.30.0 (landing page) Stefano de Pretis
| kjohnson2 | macOS 12.6.1 Monterey / arm64 | OK | OK | OK | OK | ||||||||
To the developers/maintainers of the INSPEcT package: - Use the following Renviron settings to reproduce errors and warnings. - If 'R CMD check' started to fail recently on the Linux builder(s) over a missing dependency, add the missing dependency to 'Suggests:' in your DESCRIPTION file. See Renviron.bioc for more information. |
Package: INSPEcT |
Version: 1.30.0 |
Command: /Library/Frameworks/R.framework/Resources/bin/R CMD check --install=check:INSPEcT.install-out.txt --library=/Library/Frameworks/R.framework/Resources/library --no-vignettes --timings INSPEcT_1.30.0.tar.gz |
StartedAt: 2023-10-18 02:05:29 -0400 (Wed, 18 Oct 2023) |
EndedAt: 2023-10-18 02:26:18 -0400 (Wed, 18 Oct 2023) |
EllapsedTime: 1248.2 seconds |
RetCode: 0 |
Status: OK |
CheckDir: INSPEcT.Rcheck |
Warnings: 0 |
############################################################################## ############################################################################## ### ### Running command: ### ### /Library/Frameworks/R.framework/Resources/bin/R CMD check --install=check:INSPEcT.install-out.txt --library=/Library/Frameworks/R.framework/Resources/library --no-vignettes --timings INSPEcT_1.30.0.tar.gz ### ############################################################################## ############################################################################## * using log directory ‘/Users/biocbuild/bbs-3.17-bioc-mac-arm64/meat/INSPEcT.Rcheck’ * using R version 4.3.1 (2023-06-16) * using platform: aarch64-apple-darwin20 (64-bit) * R was compiled by Apple clang version 14.0.0 (clang-1400.0.29.202) GNU Fortran (GCC) 12.2.0 * running under: macOS Monterey 12.6.7 * using session charset: UTF-8 * using option ‘--no-vignettes’ * checking for file ‘INSPEcT/DESCRIPTION’ ... OK * checking extension type ... Package * this is package ‘INSPEcT’ version ‘1.30.0’ * checking package namespace information ... OK * checking package dependencies ... OK * checking if this is a source package ... OK * checking if there is a namespace ... OK * checking for hidden files and directories ... OK * checking for portable file names ... OK * checking for sufficient/correct file permissions ... OK * checking whether package ‘INSPEcT’ can be installed ... OK * checking installed package size ... NOTE installed size is 7.1Mb sub-directories of 1Mb or more: R 1.8Mb data 2.8Mb * checking package directory ... OK * checking ‘build’ directory ... OK * checking DESCRIPTION meta-information ... OK * checking top-level files ... OK * checking for left-over files ... OK * checking index information ... OK * checking package subdirectories ... OK * checking R files for non-ASCII characters ... OK * checking R files for syntax errors ... OK * checking whether the package can be loaded ... OK * checking whether the package can be loaded with stated dependencies ... OK * checking whether the package can be unloaded cleanly ... OK * checking whether the namespace can be loaded with stated dependencies ... OK * checking whether the namespace can be unloaded cleanly ... OK * checking dependencies in R code ... OK * checking S3 generic/method consistency ... OK * checking replacement functions ... OK * checking foreign function calls ... OK * checking R code for possible problems ... NOTE output_pars: no visible global function definition for ‘plot.new’ plotSingleRNADynamic: no visible global function definition for ‘lines’ Undefined global functions or variables: lines plot.new Consider adding importFrom("graphics", "lines", "plot.new") to your NAMESPACE file. * checking Rd files ... OK * checking Rd metadata ... OK * checking Rd cross-references ... OK * checking for missing documentation entries ... OK * checking for code/documentation mismatches ... OK * checking Rd \usage sections ... OK * checking Rd contents ... OK * checking for unstated dependencies in examples ... OK * checking contents of ‘data’ directory ... OK * checking data for non-ASCII characters ... OK * checking data for ASCII and uncompressed saves ... OK * checking files in ‘vignettes’ ... OK * checking examples ... OK Examples with CPU (user + system) or elapsed time > 5s user system elapsed makeSimDataset 91.295 0.817 138.103 quantifyExpressionsFromBAMs 37.482 1.958 57.793 INSPEcT_diffsteady-class 33.848 0.406 50.030 rocThresholds 30.095 0.273 46.264 makeSimModel 29.723 0.265 45.584 rocCurve 29.598 0.286 43.663 plotMA 29.606 0.263 45.711 compareSteady 29.497 0.266 45.592 modelRates 19.318 0.164 28.777 quantifyExpressionsFromTrCounts 19.088 0.183 28.461 newINSPEcT 17.196 0.163 26.011 processingDelay 17.178 0.175 26.053 compareSteadyNoNascent 7.129 0.072 11.022 makeOscillatorySimModel 6.919 0.080 10.730 inspectFromPCR 3.940 0.046 6.107 * checking for unstated dependencies in vignettes ... OK * checking package vignettes in ‘inst/doc’ ... OK * checking running R code from vignettes ... SKIPPED * checking re-building of vignette outputs ... SKIPPED * checking PDF version of manual ... OK * DONE Status: 2 NOTEs See ‘/Users/biocbuild/bbs-3.17-bioc-mac-arm64/meat/INSPEcT.Rcheck/00check.log’ for details.
INSPEcT.Rcheck/00install.out
############################################################################## ############################################################################## ### ### Running command: ### ### /Library/Frameworks/R.framework/Resources/bin/R CMD INSTALL INSPEcT ### ############################################################################## ############################################################################## * installing to library ‘/Library/Frameworks/R.framework/Versions/4.3-arm64/Resources/library’ * installing *source* package ‘INSPEcT’ ... ** using staged installation ** R ** data ** inst ** byte-compile and prepare package for lazy loading ** help *** installing help indices ** building package indices ** installing vignettes ** testing if installed package can be loaded from temporary location ** testing if installed package can be loaded from final location ** testing if installed package keeps a record of temporary installation path * DONE (INSPEcT)
INSPEcT.Rcheck/INSPEcT-Ex.timings
name | user | system | elapsed | |
AIC-INSPEcT-method | 0.209 | 0.010 | 0.333 | |
Extract | 0.452 | 0.020 | 0.728 | |
INSPEcT_diffsteady-class | 33.848 | 0.406 | 50.030 | |
calculateRatePvals | 0.258 | 0.009 | 0.417 | |
chisqmodel | 0.210 | 0.007 | 0.324 | |
chisqtest | 0.209 | 0.008 | 0.329 | |
combine | 0.424 | 0.007 | 0.667 | |
compareSteady | 29.497 | 0.266 | 45.592 | |
compareSteadyNoNascent | 7.129 | 0.072 | 11.022 | |
convergence | 0.209 | 0.006 | 0.326 | |
geneClass | 0.257 | 0.009 | 0.410 | |
inHeatmap | 0.267 | 0.014 | 0.431 | |
inspectFromPCR | 3.940 | 0.046 | 6.107 | |
labeledSF | 0.209 | 0.005 | 0.332 | |
logLik | 0.210 | 0.007 | 0.329 | |
makeModelRates | 0.258 | 0.008 | 0.403 | |
makeOscillatorySimModel | 6.919 | 0.080 | 10.730 | |
makeSimDataset | 91.295 | 0.817 | 138.103 | |
makeSimModel | 29.723 | 0.265 | 45.584 | |
modelRates | 19.318 | 0.164 | 28.777 | |
modelRatesNF | 1.689 | 0.037 | 2.200 | |
modelSelection | 0.208 | 0.006 | 0.274 | |
modelingParams | 0.209 | 0.005 | 0.277 | |
nGenes | 0.208 | 0.006 | 0.275 | |
nTpts | 0.209 | 0.008 | 0.276 | |
newINSPEcT | 17.196 | 0.163 | 26.011 | |
plotGene | 0.261 | 0.007 | 0.408 | |
plotMA | 29.606 | 0.263 | 45.711 | |
processingDelay | 17.178 | 0.175 | 26.053 | |
quantifyExpressionsFromBAMs | 37.482 | 1.958 | 57.793 | |
quantifyExpressionsFromTrCounts | 19.088 | 0.183 | 28.461 | |
ratePvals | 0.208 | 0.005 | 0.327 | |
ratesFirstGuess | 0.208 | 0.007 | 0.329 | |
ratesFirstGuessVar | 0.209 | 0.007 | 0.334 | |
removeModel | 0.340 | 0.006 | 0.522 | |
rocCurve | 29.598 | 0.286 | 43.663 | |
rocThresholds | 30.095 | 0.273 | 46.264 | |
split | 0.324 | 0.006 | 0.477 | |
tpts | 0.207 | 0.004 | 0.310 | |
viewConfidenceIntervals | 0.208 | 0.009 | 0.325 | |
viewModelRates | 0.208 | 0.007 | 0.311 | |