Back to Build/check report for BioC 3.17 experimental data |
|
This page was generated on 2023-10-12 14:51:35 -0400 (Thu, 12 Oct 2023).
Hostname | OS | Arch (*) | R version | Installed pkgs |
---|---|---|---|---|
nebbiolo1 | Linux (Ubuntu 22.04.2 LTS) | x86_64 | 4.3.1 (2023-06-16) -- "Beagle Scouts" | 4626 |
Click on any hostname to see more info about the system (e.g. compilers) (*) as reported by 'uname -p', except on Windows and Mac OS X |
Package 118/421 | Hostname | OS / Arch | INSTALL | BUILD | CHECK | ||||||||
ewceData 1.8.0 (landing page) Alan Murphy
| nebbiolo1 | Linux (Ubuntu 22.04.2 LTS) / x86_64 | OK | OK | OK | ![]() | |||||||
To the developers/maintainers of the ewceData package: - Use the following Renviron settings to reproduce errors and warnings. - If 'R CMD check' started to fail recently on the Linux builder(s) over a missing dependency, add the missing dependency to 'Suggests:' in your DESCRIPTION file. See Renviron.bioc for more information. |
Package: ewceData |
Version: 1.8.0 |
Command: /home/biocbuild/bbs-3.17-bioc/R/bin/R CMD check --install=check:ewceData.install-out.txt --library=/home/biocbuild/bbs-3.17-bioc/R/site-library --timings ewceData_1.8.0.tar.gz |
StartedAt: 2023-10-12 11:19:35 -0400 (Thu, 12 Oct 2023) |
EndedAt: 2023-10-12 11:22:16 -0400 (Thu, 12 Oct 2023) |
EllapsedTime: 160.5 seconds |
RetCode: 0 |
Status: OK |
CheckDir: ewceData.Rcheck |
Warnings: 0 |
############################################################################## ############################################################################## ### ### Running command: ### ### /home/biocbuild/bbs-3.17-bioc/R/bin/R CMD check --install=check:ewceData.install-out.txt --library=/home/biocbuild/bbs-3.17-bioc/R/site-library --timings ewceData_1.8.0.tar.gz ### ############################################################################## ############################################################################## * using log directory ‘/home/biocbuild/bbs-3.17-data-experiment/meat/ewceData.Rcheck’ * using R version 4.3.1 (2023-06-16) * using platform: x86_64-pc-linux-gnu (64-bit) * R was compiled by gcc (Ubuntu 11.3.0-1ubuntu1~22.04.1) 11.3.0 GNU Fortran (Ubuntu 11.3.0-1ubuntu1~22.04.1) 11.3.0 * running under: Ubuntu 22.04.3 LTS * using session charset: UTF-8 * checking for file ‘ewceData/DESCRIPTION’ ... OK * this is package ‘ewceData’ version ‘1.8.0’ * package encoding: UTF-8 * checking package namespace information ... OK * checking package dependencies ... OK * checking if this is a source package ... OK * checking if there is a namespace ... OK * checking for hidden files and directories ... OK * checking for portable file names ... OK * checking for sufficient/correct file permissions ... OK * checking whether package ‘ewceData’ can be installed ... OK * checking installed package size ... OK * checking package directory ... OK * checking ‘build’ directory ... OK * checking DESCRIPTION meta-information ... OK * checking top-level files ... OK * checking for left-over files ... OK * checking index information ... OK * checking package subdirectories ... OK * checking R files for non-ASCII characters ... OK * checking R files for syntax errors ... OK * checking whether the package can be loaded ... OK * checking whether the package can be loaded with stated dependencies ... OK * checking whether the package can be unloaded cleanly ... OK * checking whether the namespace can be loaded with stated dependencies ... OK * checking whether the namespace can be unloaded cleanly ... OK * checking loading without being on the library search path ... OK * checking dependencies in R code ... OK * checking S3 generic/method consistency ... OK * checking replacement functions ... OK * checking foreign function calls ... OK * checking R code for possible problems ... OK * checking Rd files ... OK * checking Rd metadata ... OK * checking Rd cross-references ... OK * checking for missing documentation entries ... OK * checking for code/documentation mismatches ... OK * checking Rd \usage sections ... OK * checking Rd contents ... OK * checking for unstated dependencies in examples ... OK * checking files in ‘vignettes’ ... OK * checking examples ... OK * checking for unstated dependencies in vignettes ... OK * checking package vignettes in ‘inst/doc’ ... OK * checking running R code from vignettes ... ‘ewceData.Rmd’ using ‘UTF-8’... OK NONE * checking re-building of vignette outputs ... OK * checking PDF version of manual ... OK * DONE Status: OK
ewceData.Rcheck/00install.out
############################################################################## ############################################################################## ### ### Running command: ### ### /home/biocbuild/bbs-3.17-bioc/R/bin/R CMD INSTALL ewceData ### ############################################################################## ############################################################################## * installing to library ‘/home/biocbuild/bbs-3.17-bioc/R/site-library’ * installing *source* package ‘ewceData’ ... ** using staged installation ** R ** inst ** byte-compile and prepare package for lazy loading ** help *** installing help indices ** building package indices ** installing vignettes ** testing if installed package can be loaded from temporary location ** testing if installed package can be loaded from final location ** testing if installed package keeps a record of temporary installation path * DONE (ewceData)
ewceData.Rcheck/ewceData-Ex.timings
name | user | system | elapsed | |
all_hgnc | 1.854 | 0.195 | 2.467 | |
all_hgnc_wtEnsembl | 0.813 | 0.072 | 0.978 | |
all_mgi | 0.732 | 0.021 | 0.841 | |
all_mgi_wtEnsembl | 0.783 | 0.031 | 0.932 | |
alzh_gwas_top100 | 0 | 0 | 0 | |
cortex_mrna | 2.720 | 0.313 | 3.119 | |
ctd | 3.087 | 0.155 | 3.337 | |
ensembl_transcript_lengths_GCcontent | 1.009 | 0.077 | 1.174 | |
ewceData-Package | 0.684 | 0.055 | 0.828 | |
example_genelist | 0.833 | 0.056 | 1.009 | |
hpsd_genes | 0.670 | 0.056 | 0.817 | |
hypothalamus_mrna | 1.324 | 0.228 | 1.641 | |
id_genes | 0.717 | 0.096 | 0.901 | |
mgi_synonym_data | 1.048 | 0.112 | 1.260 | |
mouse_to_human_homologs | 0.797 | 0.055 | 0.941 | |
rbfox_genes | 0.682 | 0.080 | 0.907 | |
schiz_genes | 0.779 | 0.195 | 1.063 | |
tt_alzh | 1.239 | 0.904 | 2.231 | |
tt_alzh_BA36 | 0.771 | 0.119 | 0.981 | |
tt_alzh_BA44 | 0.776 | 0.072 | 0.937 | |