Back to Multiple platform build/check report for BioC 3.17 |
|
This page was generated on 2023-04-12 10:55:22 -0400 (Wed, 12 Apr 2023).
Hostname | OS | Arch (*) | R version | Installed pkgs |
---|---|---|---|---|
nebbiolo1 | Linux (Ubuntu 22.04.1 LTS) | x86_64 | 4.3.0 alpha (2023-04-03 r84154) | 4547 |
nebbiolo2 | Linux (Ubuntu 20.04.5 LTS) | x86_64 | R Under development (unstable) (2023-02-14 r83833) -- "Unsuffered Consequences" | 4333 |
Click on any hostname to see more info about the system (e.g. compilers) (*) as reported by 'uname -p', except on Windows and Mac OS X |
To the developers/maintainers of the BioNetStat package: - Allow up to 24 hours (and sometimes 48 hours) for your latest push to git@git.bioconductor.org:packages/BioNetStat.git to reflect on this report. See Troubleshooting Build Report for more information. - Use the following Renviron settings to reproduce errors and warnings. Note: If "R CMD check" recently failed on the Linux builder over a missing dependency, add the missing dependency to "Suggests" in your DESCRIPTION file. See the Renviron.bioc for details. |
Package 212/2207 | Hostname | OS / Arch | INSTALL | BUILD | CHECK | BUILD BIN | ||||||||
BioNetStat 1.19.0 (landing page) Vinicius Jardim
| nebbiolo1 | Linux (Ubuntu 22.04.1 LTS) / x86_64 | OK | OK | OK | |||||||||
nebbiolo2 | Linux (Ubuntu 20.04.5 LTS) / x86_64 | OK | OK | OK | ||||||||||
Package: BioNetStat |
Version: 1.19.0 |
Command: /home/biocbuild/bbs-3.17-bioc/R/bin/R CMD check --install=check:BioNetStat.install-out.txt --library=/home/biocbuild/bbs-3.17-bioc/R/site-library --timings BioNetStat_1.19.0.tar.gz |
StartedAt: 2023-04-11 18:54:18 -0400 (Tue, 11 Apr 2023) |
EndedAt: 2023-04-11 18:57:01 -0400 (Tue, 11 Apr 2023) |
EllapsedTime: 162.9 seconds |
RetCode: 0 |
Status: OK |
CheckDir: BioNetStat.Rcheck |
Warnings: 0 |
############################################################################## ############################################################################## ### ### Running command: ### ### /home/biocbuild/bbs-3.17-bioc/R/bin/R CMD check --install=check:BioNetStat.install-out.txt --library=/home/biocbuild/bbs-3.17-bioc/R/site-library --timings BioNetStat_1.19.0.tar.gz ### ############################################################################## ############################################################################## * using log directory ‘/home/biocbuild/bbs-3.17-bioc/meat/BioNetStat.Rcheck’ * using R version 4.3.0 alpha (2023-04-03 r84154) * using platform: x86_64-pc-linux-gnu (64-bit) * R was compiled by gcc (Ubuntu 11.3.0-1ubuntu1~22.04) 11.3.0 GNU Fortran (Ubuntu 11.3.0-1ubuntu1~22.04) 11.3.0 * running under: Ubuntu 22.04.2 LTS * using session charset: UTF-8 * checking for file ‘BioNetStat/DESCRIPTION’ ... OK * checking extension type ... Package * this is package ‘BioNetStat’ version ‘1.19.0’ * package encoding: UTF-8 * checking package namespace information ... OK * checking package dependencies ... OK * checking if this is a source package ... OK * checking if there is a namespace ... OK * checking for hidden files and directories ... OK * checking for portable file names ... OK * checking for sufficient/correct file permissions ... OK * checking whether package ‘BioNetStat’ can be installed ... OK * checking installed package size ... OK * checking package directory ... OK * checking ‘build’ directory ... OK * checking DESCRIPTION meta-information ... OK * checking top-level files ... OK * checking for left-over files ... OK * checking index information ... OK * checking package subdirectories ... NOTE Found the following CITATION file in a non-standard place: CITATION Most likely ‘inst/CITATION’ should be used instead. * checking R files for non-ASCII characters ... OK * checking R files for syntax errors ... OK * checking whether the package can be loaded ... OK * checking whether the package can be loaded with stated dependencies ... OK * checking whether the package can be unloaded cleanly ... OK * checking whether the namespace can be loaded with stated dependencies ... OK * checking whether the namespace can be unloaded cleanly ... OK * checking loading without being on the library search path ... OK * checking dependencies in R code ... NOTE Namespaces in Imports field not imported from: ‘BiocParallel’ ‘RColorBrewer’ ‘RJSONIO’ ‘ggplot2’ ‘knitr’ ‘markdown’ ‘pheatmap’ ‘plyr’ ‘rmarkdown’ ‘stats’ ‘utils’ ‘whisker’ ‘yaml’ All declared Imports should be used. Packages in Depends field not imported from: ‘DT’ ‘shiny’ ‘shinyBS’ These packages need to be imported from (in the NAMESPACE file) for when this namespace is loaded but not attached. * checking S3 generic/method consistency ... OK * checking replacement functions ... OK * checking foreign function calls ... OK * checking R code for possible problems ... NOTE adjacencyMatrix : <anonymous>: no visible global function definition for ‘cor’ adjacencyMatrix : <anonymous>: no visible global function definition for ‘p.adjust’ betweennessCentralityTest: no visible global function definition for ‘bplapply’ betweennessCentralityVertexTest: no visible global function definition for ‘bplapply’ closenessCentralityTest: no visible global function definition for ‘bplapply’ closenessCentralityVertexTest: no visible global function definition for ‘bplapply’ clusteringCoefficientTest : <anonymous>: no visible global function definition for ‘dist’ clusteringCoefficientTest : <anonymous> : <anonymous>: no visible global function definition for ‘dist’ clusteringCoefficientTest: no visible global function definition for ‘bplapply’ clusteringCoefficientVertexTest: no visible global function definition for ‘bplapply’ degreeCentralityTest: no visible global function definition for ‘bplapply’ degreeCentralityVertexTest: no visible global function definition for ‘bplapply’ degreeDistributionTest: no visible global function definition for ‘bplapply’ diffNetAnalysis: no visible binding for global variable ‘expr’ diffNetAnalysis: no visible global function definition for ‘p.adjust’ doLabels: no visible global function definition for ‘read.csv’ edgeBetweennessEdgeTest: no visible global function definition for ‘bplapply’ edgeBetweennessTest: no visible global function definition for ‘bplapply’ edgesResInt : <anonymous>: no visible global function definition for ‘dist’ eigenvectorCentralityTest: no visible global function definition for ‘bplapply’ eigenvectorCentralityVertexTest: no visible global function definition for ‘bplapply’ gaussianDensity: no visible global function definition for ‘bw.nrd0’ gaussianDensity: no visible global function definition for ‘density’ pathPlot: no visible binding for global variable ‘median’ readVarFile: no visible global function definition for ‘read.table’ resInt : <anonymous>: no visible global function definition for ‘dist’ retEdgesTable: no visible global function definition for ‘p.adjust’ retTable: no visible global function definition for ‘p.adjust’ spectralDistributionTest: no visible global function definition for ‘bplapply’ spectralEntropyTest: no visible global function definition for ‘bplapply’ var.list: no visible global function definition for ‘aggregate’ Undefined global functions or variables: aggregate bplapply bw.nrd0 cor density dist expr median p.adjust read.csv read.table Consider adding importFrom("stats", "aggregate", "bw.nrd0", "cor", "density", "dist", "median", "p.adjust") importFrom("utils", "read.csv", "read.table") to your NAMESPACE file. * checking Rd files ... NOTE checkRd: (-1) centralityPathPlot.Rd:47: Escaped LaTeX specials: \# * checking Rd metadata ... OK * checking Rd cross-references ... OK * checking for missing documentation entries ... OK * checking for code/documentation mismatches ... OK * checking Rd \usage sections ... OK * checking Rd contents ... OK * checking for unstated dependencies in examples ... OK * checking contents of ‘data’ directory ... OK * checking data for non-ASCII characters ... OK * checking data for ASCII and uncompressed saves ... OK * checking files in ‘vignettes’ ... OK * checking examples ... OK Examples with CPU (user + system) or elapsed time > 5s user system elapsed networkTest 12.384 0.136 12.520 centralityPathPlot 7.548 0.943 13.363 pathPlot 6.647 0.672 7.319 * checking for unstated dependencies in vignettes ... OK * checking package vignettes in ‘inst/doc’ ... OK * checking running R code from vignettes ... ‘BNS_tutorial_by_command_line_pt.Rmd’ using ‘UTF-8’... OK ‘BNS_tutorial_by_command_line_us.Rmd’ using ‘UTF-8’... OK ‘vignette.Rmd’ using ‘UTF-8’... OK NONE * checking re-building of vignette outputs ... OK * checking PDF version of manual ... OK * DONE Status: 4 NOTEs See ‘/home/biocbuild/bbs-3.17-bioc/meat/BioNetStat.Rcheck/00check.log’ for details.
BioNetStat.Rcheck/00install.out
############################################################################## ############################################################################## ### ### Running command: ### ### /home/biocbuild/bbs-3.17-bioc/R/bin/R CMD INSTALL BioNetStat ### ############################################################################## ############################################################################## * installing to library ‘/home/biocbuild/bbs-3.17-bioc/R/site-library’ * installing *source* package ‘BioNetStat’ ... ** using staged installation ** R ** data ** inst ** byte-compile and prepare package for lazy loading ** help *** installing help indices ** building package indices ** installing vignettes ** testing if installed package can be loaded from temporary location ** testing if installed package can be loaded from final location ** testing if installed package keeps a record of temporary installation path * DONE (BioNetStat)
BioNetStat.Rcheck/BioNetStat-Ex.timings
name | user | system | elapsed | |
KLdegree | 0.011 | 0.001 | 0.012 | |
KLspectrum | 1.327 | 0.063 | 1.391 | |
adjacencyMatrix | 0.000 | 0.001 | 0.001 | |
centralityPathPlot | 7.548 | 0.943 | 13.363 | |
diffNetAnalysis | 1.519 | 0.032 | 1.552 | |
doLabels | 0.086 | 0.000 | 0.086 | |
edgeTest | 0.067 | 0.008 | 0.075 | |
labels | 0.000 | 0.001 | 0.001 | |
nDegreeDensities | 0.060 | 0.001 | 0.062 | |
nSpectralDensities | 0.103 | 0.000 | 0.103 | |
networkFeature | 0.065 | 0.008 | 0.073 | |
networkTest | 12.384 | 0.136 | 12.520 | |
nodeScores | 0.067 | 0.008 | 0.075 | |
nodeTest | 0.084 | 0.016 | 0.100 | |
pathPlot | 6.647 | 0.672 | 7.319 | |
readSetFile | 0.049 | 0.003 | 0.053 | |
readVarFile | 0.091 | 0.000 | 0.091 | |
runBioNetStat | 0 | 0 | 0 | |
varFile | 0.007 | 0.000 | 0.007 | |