Back to Multiple platform build/check report for BioC 3.17 |
|
This page was generated on 2023-04-12 10:55:25 -0400 (Wed, 12 Apr 2023).
Hostname | OS | Arch (*) | R version | Installed pkgs |
---|---|---|---|---|
nebbiolo1 | Linux (Ubuntu 22.04.1 LTS) | x86_64 | 4.3.0 alpha (2023-04-03 r84154) | 4547 |
nebbiolo2 | Linux (Ubuntu 20.04.5 LTS) | x86_64 | R Under development (unstable) (2023-02-14 r83833) -- "Unsuffered Consequences" | 4333 |
Click on any hostname to see more info about the system (e.g. compilers) (*) as reported by 'uname -p', except on Windows and Mac OS X |
To the developers/maintainers of the GeneBreak package: - Allow up to 24 hours (and sometimes 48 hours) for your latest push to git@git.bioconductor.org:packages/GeneBreak.git to reflect on this report. See Troubleshooting Build Report for more information. - Use the following Renviron settings to reproduce errors and warnings. Note: If "R CMD check" recently failed on the Linux builder over a missing dependency, add the missing dependency to "Suggests" in your DESCRIPTION file. See the Renviron.bioc for details. |
Package 766/2207 | Hostname | OS / Arch | INSTALL | BUILD | CHECK | BUILD BIN | ||||||||
GeneBreak 1.29.0 (landing page) Evert van den Broek
| nebbiolo1 | Linux (Ubuntu 22.04.1 LTS) / x86_64 | OK | OK | OK | |||||||||
nebbiolo2 | Linux (Ubuntu 20.04.5 LTS) / x86_64 | OK | OK | OK | ||||||||||
Package: GeneBreak |
Version: 1.29.0 |
Command: /home/biocbuild/bbs-3.17-bioc/R/bin/R CMD check --install=check:GeneBreak.install-out.txt --library=/home/biocbuild/bbs-3.17-bioc/R/site-library --timings GeneBreak_1.29.0.tar.gz |
StartedAt: 2023-04-11 20:27:14 -0400 (Tue, 11 Apr 2023) |
EndedAt: 2023-04-11 20:30:19 -0400 (Tue, 11 Apr 2023) |
EllapsedTime: 184.8 seconds |
RetCode: 0 |
Status: OK |
CheckDir: GeneBreak.Rcheck |
Warnings: 0 |
############################################################################## ############################################################################## ### ### Running command: ### ### /home/biocbuild/bbs-3.17-bioc/R/bin/R CMD check --install=check:GeneBreak.install-out.txt --library=/home/biocbuild/bbs-3.17-bioc/R/site-library --timings GeneBreak_1.29.0.tar.gz ### ############################################################################## ############################################################################## * using log directory ‘/home/biocbuild/bbs-3.17-bioc/meat/GeneBreak.Rcheck’ * using R version 4.3.0 alpha (2023-04-03 r84154) * using platform: x86_64-pc-linux-gnu (64-bit) * R was compiled by gcc (Ubuntu 11.3.0-1ubuntu1~22.04) 11.3.0 GNU Fortran (Ubuntu 11.3.0-1ubuntu1~22.04) 11.3.0 * running under: Ubuntu 22.04.2 LTS * using session charset: UTF-8 * checking for file ‘GeneBreak/DESCRIPTION’ ... OK * checking extension type ... Package * this is package ‘GeneBreak’ version ‘1.29.0’ * checking package namespace information ... OK * checking package dependencies ... OK * checking if this is a source package ... OK * checking if there is a namespace ... OK * checking for hidden files and directories ... OK * checking for portable file names ... OK * checking for sufficient/correct file permissions ... OK * checking whether package ‘GeneBreak’ can be installed ... OK * checking installed package size ... OK * checking package directory ... OK * checking ‘build’ directory ... OK * checking DESCRIPTION meta-information ... OK * checking top-level files ... OK * checking for left-over files ... OK * checking index information ... OK * checking package subdirectories ... OK * checking R files for non-ASCII characters ... OK * checking R files for syntax errors ... OK * checking whether the package can be loaded ... OK * checking whether the package can be loaded with stated dependencies ... OK * checking whether the package can be unloaded cleanly ... OK * checking whether the namespace can be loaded with stated dependencies ... OK * checking whether the namespace can be unloaded cleanly ... OK * checking loading without being on the library search path ... OK * checking dependencies in R code ... OK * checking S3 generic/method consistency ... OK * checking replacement functions ... OK * checking foreign function calls ... OK * checking R code for possible problems ... NOTE .glmbreak: no visible global function definition for ‘glm’ .glmbreak: no visible global function definition for ‘predict’ addGeneAnnotation,CopyNumberBreakPoints: no visible global function definition for ‘head’ bpStats,CopyNumberBreakPoints: no visible global function definition for ‘sd’ bpStats,CopyNumberBreakPoints: no visible global function definition for ‘p.adjust’ Undefined global functions or variables: glm head p.adjust predict sd Consider adding importFrom("stats", "glm", "p.adjust", "predict", "sd") importFrom("utils", "head") to your NAMESPACE file. * checking Rd files ... OK * checking Rd metadata ... OK * checking Rd cross-references ... OK * checking for missing documentation entries ... OK * checking for code/documentation mismatches ... OK * checking Rd \usage sections ... OK * checking Rd contents ... OK * checking for unstated dependencies in examples ... OK * checking contents of ‘data’ directory ... OK * checking data for non-ASCII characters ... OK * checking data for ASCII and uncompressed saves ... OK * checking files in ‘vignettes’ ... OK * checking examples ... OK Examples with CPU (user + system) or elapsed time > 5s user system elapsed CopyNumberBreakPointGenes-class 6.56 0.199 6.761 * checking for unstated dependencies in vignettes ... OK * checking package vignettes in ‘inst/doc’ ... OK * checking running R code from vignettes ... ‘GeneBreak.Rnw’... OK OK * checking re-building of vignette outputs ... OK * checking PDF version of manual ... OK * DONE Status: 1 NOTE See ‘/home/biocbuild/bbs-3.17-bioc/meat/GeneBreak.Rcheck/00check.log’ for details.
GeneBreak.Rcheck/00install.out
############################################################################## ############################################################################## ### ### Running command: ### ### /home/biocbuild/bbs-3.17-bioc/R/bin/R CMD INSTALL GeneBreak ### ############################################################################## ############################################################################## * installing to library ‘/home/biocbuild/bbs-3.17-bioc/R/site-library’ * installing *source* package ‘GeneBreak’ ... ** using staged installation ** R ** data ** byte-compile and prepare package for lazy loading Creating a new generic function for ‘segmentData’ in package ‘GeneBreak’ ** help *** installing help indices ** building package indices ** installing vignettes ** testing if installed package can be loaded from temporary location ** testing if installed package can be loaded from final location ** testing if installed package keeps a record of temporary installation path * DONE (GeneBreak)
GeneBreak.Rcheck/GeneBreak-Ex.timings
name | user | system | elapsed | |
CopyNumberBreakPointGenes-class | 6.560 | 0.199 | 6.761 | |
CopyNumberBreakPoints-class | 1.314 | 0.100 | 1.414 | |
accessOptions-CopyNumberBreakPoints-method | 0.979 | 0.025 | 1.003 | |
addGeneAnnotation-CopyNumberBreakPoints-method | 1.664 | 0.036 | 1.699 | |
bpFilter-CopyNumberBreakPoints-method | 1.144 | 0.027 | 1.172 | |
bpGenes-CopyNumberBreakPointGenes-method | 1.684 | 0.041 | 1.724 | |
bpPlot-CopyNumberBreakPoints-method | 4.208 | 0.075 | 4.284 | |
bpStats-CopyNumberBreakPoints-method | 4.363 | 0.047 | 4.411 | |
breakpointData-CopyNumberBreakPoints-method | 0.953 | 0.612 | 1.565 | |
breakpointsPerGene-CopyNumberBreakPointGenes-method | 1.638 | 0.600 | 2.238 | |
callData-CopyNumberBreakPoints-method | 1.377 | 0.624 | 2.001 | |
featureChromosomes-CopyNumberBreakPoints-method | 0.816 | 0.036 | 0.852 | |
featureInfo-CopyNumberBreakPoints-method | 1.586 | 0.200 | 1.787 | |
featuresPerGene-CopyNumberBreakPointGenes-method | 1.937 | 0.032 | 1.969 | |
geneChromosomes-CopyNumberBreakPointGenes-method | 1.515 | 0.052 | 1.566 | |
geneInfo-CopyNumberBreakPointGenes-method | 1.433 | 0.120 | 1.553 | |
getBreakpoints | 1.455 | 0.040 | 1.495 | |
namesFeatures-CopyNumberBreakPoints-method | 0.841 | 0.096 | 0.936 | |
recurrentGenes-CopyNumberBreakPointGenes-method | 3.654 | 0.060 | 3.713 | |
sampleNames-CopyNumberBreakPoints-method | 0.491 | 0.020 | 0.510 | |
segmentData-CopyNumberBreakPoints-method | 1.117 | 0.592 | 1.708 | |