Back to Multiple platform build/check report for BioC 3.17 |
|
This page was generated on 2023-04-12 10:55:37 -0400 (Wed, 12 Apr 2023).
Hostname | OS | Arch (*) | R version | Installed pkgs |
---|---|---|---|---|
nebbiolo1 | Linux (Ubuntu 22.04.1 LTS) | x86_64 | 4.3.0 alpha (2023-04-03 r84154) | 4547 |
nebbiolo2 | Linux (Ubuntu 20.04.5 LTS) | x86_64 | R Under development (unstable) (2023-02-14 r83833) -- "Unsuffered Consequences" | 4333 |
Click on any hostname to see more info about the system (e.g. compilers) (*) as reported by 'uname -p', except on Windows and Mac OS X |
To the developers/maintainers of the Guitar package: - Allow up to 24 hours (and sometimes 48 hours) for your latest push to git@git.bioconductor.org:packages/Guitar.git to reflect on this report. See Troubleshooting Build Report for more information. - Use the following Renviron settings to reproduce errors and warnings. Note: If "R CMD check" recently failed on the Linux builder over a missing dependency, add the missing dependency to "Suggests" in your DESCRIPTION file. See the Renviron.bioc for details. |
Package 893/2207 | Hostname | OS / Arch | INSTALL | BUILD | CHECK | BUILD BIN | ||||||||
Guitar 2.15.0 (landing page) Jia Meng
| nebbiolo1 | Linux (Ubuntu 22.04.1 LTS) / x86_64 | OK | OK | OK | |||||||||
nebbiolo2 | Linux (Ubuntu 20.04.5 LTS) / x86_64 | OK | OK | OK | ||||||||||
Package: Guitar |
Version: 2.15.0 |
Command: /home/biocbuild/bbs-3.17-bioc/R/bin/R CMD check --install=check:Guitar.install-out.txt --library=/home/biocbuild/bbs-3.17-bioc/R/site-library --timings Guitar_2.15.0.tar.gz |
StartedAt: 2023-04-12 06:43:40 -0400 (Wed, 12 Apr 2023) |
EndedAt: 2023-04-12 07:01:25 -0400 (Wed, 12 Apr 2023) |
EllapsedTime: 1065.0 seconds |
RetCode: 0 |
Status: OK |
CheckDir: Guitar.Rcheck |
Warnings: 0 |
############################################################################## ############################################################################## ### ### Running command: ### ### /home/biocbuild/bbs-3.17-bioc/R/bin/R CMD check --install=check:Guitar.install-out.txt --library=/home/biocbuild/bbs-3.17-bioc/R/site-library --timings Guitar_2.15.0.tar.gz ### ############################################################################## ############################################################################## * using log directory ‘/home/biocbuild/bbs-3.17-bioc/meat/Guitar.Rcheck’ * using R Under development (unstable) (2023-02-14 r83833) * using platform: x86_64-pc-linux-gnu (64-bit) * R was compiled by gcc (Ubuntu 9.4.0-1ubuntu1~20.04.1) 9.4.0 GNU Fortran (Ubuntu 9.4.0-1ubuntu1~20.04.1) 9.4.0 * running under: Ubuntu 20.04.6 LTS * using session charset: UTF-8 * checking for file ‘Guitar/DESCRIPTION’ ... OK * checking extension type ... Package * this is package ‘Guitar’ version ‘2.15.0’ * package encoding: UTF-8 * checking package namespace information ... OK * checking package dependencies ... NOTE Depends: includes the non-default packages: 'GenomicFeatures', 'rtracklayer', 'AnnotationDbi', 'GenomicRanges', 'magrittr', 'ggplot2', 'knitr', 'dplyr' Adding so many packages to the search path is excessive and importing selectively is preferable. * checking if this is a source package ... OK * checking if there is a namespace ... OK * checking for hidden files and directories ... OK * checking for portable file names ... OK * checking for sufficient/correct file permissions ... OK * checking whether package ‘Guitar’ can be installed ... OK * checking installed package size ... NOTE installed size is 15.9Mb sub-directories of 1Mb or more: extdata 15.7Mb * checking package directory ... OK * checking ‘build’ directory ... OK * checking DESCRIPTION meta-information ... OK * checking top-level files ... OK * checking for left-over files ... OK * checking index information ... OK * checking package subdirectories ... OK * checking R files for non-ASCII characters ... OK * checking R files for syntax errors ... OK * checking whether the package can be loaded ... OK * checking whether the package can be loaded with stated dependencies ... OK * checking whether the package can be unloaded cleanly ... OK * checking whether the namespace can be loaded with stated dependencies ... OK * checking whether the namespace can be unloaded cleanly ... OK * checking loading without being on the library search path ... OK * checking dependencies in R code ... NOTE Package in Depends field not imported from: ‘knitr’ These packages need to be imported from (in the NAMESPACE file) for when this namespace is loaded but not attached. Unexported object imported by a ':::' call: ‘GenomicRanges:::get_out_of_bound_index’ See the note in ?`:::` about the use of this operator. * checking S3 generic/method consistency ... OK * checking replacement functions ... OK * checking foreign function calls ... OK * checking R code for possible problems ... NOTE .extractComponent: no visible binding for global variable ‘gene_id’ .generate_guitar_coordinates: no visible global function definition for ‘makeGuitarCoordsFromTxDb’ .generate_guitar_coordinates: no visible binding for global variable ‘noBins’ Undefined global functions or variables: gene_id makeGuitarCoordsFromTxDb noBins * checking Rd files ... OK * checking Rd metadata ... OK * checking Rd cross-references ... OK * checking for missing documentation entries ... OK * checking for code/documentation mismatches ... OK * checking Rd \usage sections ... OK * checking Rd contents ... OK * checking for unstated dependencies in examples ... OK * checking files in ‘vignettes’ ... OK * checking examples ... OK Examples with CPU (user + system) or elapsed time > 5s user system elapsed GuitarPlot 29.233 0.272 29.506 GRangesListmapToTranscripts 14.276 0.171 14.452 normalize 12.419 0.068 12.487 samplePoints 12.044 0.052 12.096 makeGuitarTxdb 11.172 0.036 11.207 * checking for unstated dependencies in vignettes ... OK * checking package vignettes in ‘inst/doc’ ... OK * checking running R code from vignettes ... ‘Guitar-Overview.Rnw’ using ‘UTF-8’... OK NONE * checking re-building of vignette outputs ... OK * checking PDF version of manual ... OK * DONE Status: 4 NOTEs See ‘/home/biocbuild/bbs-3.17-bioc/meat/Guitar.Rcheck/00check.log’ for details.
Guitar.Rcheck/00install.out
############################################################################## ############################################################################## ### ### Running command: ### ### /home/biocbuild/bbs-3.17-bioc/R/bin/R CMD INSTALL Guitar ### ############################################################################## ############################################################################## * installing to library ‘/home/biocbuild/bbs-3.17-bioc/R/site-library’ * installing *source* package ‘Guitar’ ... ** using staged installation ** R ** inst ** byte-compile and prepare package for lazy loading ** help *** installing help indices ** building package indices ** installing vignettes ** testing if installed package can be loaded from temporary location ** testing if installed package can be loaded from final location ** testing if installed package keeps a record of temporary installation path * DONE (Guitar)
Guitar.Rcheck/Guitar-Ex.timings
name | user | system | elapsed | |
GRangesListmapToTranscripts | 14.276 | 0.171 | 14.452 | |
GuitarPlot | 29.233 | 0.272 | 29.506 | |
makeGuitarTxdb | 11.172 | 0.036 | 11.207 | |
normalize | 12.419 | 0.068 | 12.487 | |
samplePoints | 12.044 | 0.052 | 12.096 | |