Back to Multiple platform build/check report for BioC 3.17 |
|
This page was generated on 2023-04-12 10:55:37 -0400 (Wed, 12 Apr 2023).
Hostname | OS | Arch (*) | R version | Installed pkgs |
---|---|---|---|---|
nebbiolo1 | Linux (Ubuntu 22.04.1 LTS) | x86_64 | 4.3.0 alpha (2023-04-03 r84154) | 4547 |
nebbiolo2 | Linux (Ubuntu 20.04.5 LTS) | x86_64 | R Under development (unstable) (2023-02-14 r83833) -- "Unsuffered Consequences" | 4333 |
Click on any hostname to see more info about the system (e.g. compilers) (*) as reported by 'uname -p', except on Windows and Mac OS X |
To the developers/maintainers of the Heatplus package: - Allow up to 24 hours (and sometimes 48 hours) for your latest push to git@git.bioconductor.org:packages/Heatplus.git to reflect on this report. See Troubleshooting Build Report for more information. - Use the following Renviron settings to reproduce errors and warnings. Note: If "R CMD check" recently failed on the Linux builder over a missing dependency, add the missing dependency to "Suggests" in your DESCRIPTION file. See the Renviron.bioc for details. |
Package 908/2207 | Hostname | OS / Arch | INSTALL | BUILD | CHECK | BUILD BIN | ||||||||
Heatplus 3.7.0 (landing page) Alexander Ploner
| nebbiolo1 | Linux (Ubuntu 22.04.1 LTS) / x86_64 | OK | OK | OK | |||||||||
nebbiolo2 | Linux (Ubuntu 20.04.5 LTS) / x86_64 | OK | OK | OK | ||||||||||
Package: Heatplus |
Version: 3.7.0 |
Command: /home/biocbuild/bbs-3.17-bioc/R/bin/R CMD check --install=check:Heatplus.install-out.txt --library=/home/biocbuild/bbs-3.17-bioc/R/site-library --timings Heatplus_3.7.0.tar.gz |
StartedAt: 2023-04-12 06:46:18 -0400 (Wed, 12 Apr 2023) |
EndedAt: 2023-04-12 06:47:12 -0400 (Wed, 12 Apr 2023) |
EllapsedTime: 54.1 seconds |
RetCode: 0 |
Status: OK |
CheckDir: Heatplus.Rcheck |
Warnings: 0 |
############################################################################## ############################################################################## ### ### Running command: ### ### /home/biocbuild/bbs-3.17-bioc/R/bin/R CMD check --install=check:Heatplus.install-out.txt --library=/home/biocbuild/bbs-3.17-bioc/R/site-library --timings Heatplus_3.7.0.tar.gz ### ############################################################################## ############################################################################## * using log directory ‘/home/biocbuild/bbs-3.17-bioc/meat/Heatplus.Rcheck’ * using R Under development (unstable) (2023-02-14 r83833) * using platform: x86_64-pc-linux-gnu (64-bit) * R was compiled by gcc (Ubuntu 9.4.0-1ubuntu1~20.04.1) 9.4.0 GNU Fortran (Ubuntu 9.4.0-1ubuntu1~20.04.1) 9.4.0 * running under: Ubuntu 20.04.6 LTS * using session charset: UTF-8 * checking for file ‘Heatplus/DESCRIPTION’ ... OK * this is package ‘Heatplus’ version ‘3.7.0’ * checking package namespace information ... OK * checking package dependencies ... OK * checking if this is a source package ... OK * checking if there is a namespace ... OK * checking for hidden files and directories ... OK * checking for portable file names ... OK * checking for sufficient/correct file permissions ... OK * checking whether package ‘Heatplus’ can be installed ... OK * checking installed package size ... OK * checking package directory ... OK * checking ‘build’ directory ... OK * checking DESCRIPTION meta-information ... OK * checking top-level files ... OK * checking for left-over files ... OK * checking index information ... OK * checking package subdirectories ... OK * checking R files for non-ASCII characters ... OK * checking R files for syntax errors ... OK * checking whether the package can be loaded ... OK * checking whether the package can be loaded with stated dependencies ... OK * checking whether the package can be unloaded cleanly ... OK * checking whether the namespace can be loaded with stated dependencies ... OK * checking whether the namespace can be unloaded cleanly ... OK * checking loading without being on the library search path ... OK * checking dependencies in R code ... NOTE Unexported object imported by a ':::' call: ‘stats:::plotNode’ See the note in ?`:::` about the use of this operator. * checking S3 generic/method consistency ... OK * checking replacement functions ... OK * checking foreign function calls ... OK * checking R code for possible problems ... NOTE annHeatmap2: no visible global function definition for ‘clustfun’ annHeatmap2: no visible global function definition for ‘distfun’ annHeatmap2: no visible binding for global variable ‘cuth’ annHeatmap2: no visible binding for global variable ‘asIs’ annHeatmap2: no visible binding for global variable ‘inclRef’ Undefined global functions or variables: asIs clustfun cuth distfun inclRef * checking Rd files ... OK * checking Rd metadata ... OK * checking Rd cross-references ... OK * checking for missing documentation entries ... OK * checking for code/documentation mismatches ... OK * checking Rd \usage sections ... OK * checking Rd contents ... OK * checking for unstated dependencies in examples ... OK * checking files in ‘vignettes’ ... OK * checking examples ... OK * checking for unstated dependencies in vignettes ... OK * checking package vignettes in ‘inst/doc’ ... OK * checking running R code from vignettes ... ‘annHeatmap.Rnw’... OK ‘annHeatmapCommentedSource.Rnw’... OK ‘oldHeatplus.Rnw’... OK OK * checking re-building of vignette outputs ... OK * checking PDF version of manual ... OK * DONE Status: 2 NOTEs See ‘/home/biocbuild/bbs-3.17-bioc/meat/Heatplus.Rcheck/00check.log’ for details.
Heatplus.Rcheck/00install.out
############################################################################## ############################################################################## ### ### Running command: ### ### /home/biocbuild/bbs-3.17-bioc/R/bin/R CMD INSTALL Heatplus ### ############################################################################## ############################################################################## * installing to library ‘/home/biocbuild/bbs-3.17-bioc/R/site-library’ * installing *source* package ‘Heatplus’ ... ** using staged installation ** R ** byte-compile and prepare package for lazy loading ** help *** installing help indices ** building package indices ** installing vignettes ** testing if installed package can be loaded from temporary location ** testing if installed package can be loaded from final location ** testing if installed package keeps a record of temporary installation path * DONE (Heatplus)
Heatplus.Rcheck/Heatplus-Ex.timings
name | user | system | elapsed | |
BrewerClusterCol | 0.029 | 0.000 | 0.030 | |
RGBColVec | 0 | 0 | 0 | |
annHeatmap | 0.661 | 0.044 | 0.705 | |
annHeatmap2 | 0.117 | 0.000 | 0.117 | |
breakColors | 0.005 | 0.000 | 0.005 | |
convAnnData | 0.028 | 0.000 | 0.028 | |
doLegend | 0.001 | 0.000 | 0.001 | |
g2r.colors | 0.003 | 0.000 | 0.003 | |
heatmapLayout | 0.001 | 0.000 | 0.002 | |
heatmap_2 | 0 | 0 | 0 | |
heatmap_plus | 0.001 | 0.000 | 0.000 | |
modifyExistingList | 0.001 | 0.000 | 0.000 | |
niceBreaks | 0 | 0 | 0 | |
oldCutplot.dendrogram | 0 | 0 | 0 | |
oldPicketplot | 0 | 0 | 0 | |
picketPlot | 0.088 | 0.004 | 0.093 | |
plot.annHeatmap | 0.131 | 0.000 | 0.130 | |
print.annHeatmap | 0.010 | 0.000 | 0.011 | |
regHeatmap | 0.021 | 0.000 | 0.021 | |