Back to Multiple platform build/check report for BioC 3.17 |
|
This page was generated on 2023-04-12 10:55:25 -0400 (Wed, 12 Apr 2023).
Hostname | OS | Arch (*) | R version | Installed pkgs |
---|---|---|---|---|
nebbiolo1 | Linux (Ubuntu 22.04.1 LTS) | x86_64 | 4.3.0 alpha (2023-04-03 r84154) | 4547 |
nebbiolo2 | Linux (Ubuntu 20.04.5 LTS) | x86_64 | R Under development (unstable) (2023-02-14 r83833) -- "Unsuffered Consequences" | 4333 |
Click on any hostname to see more info about the system (e.g. compilers) (*) as reported by 'uname -p', except on Windows and Mac OS X |
To the developers/maintainers of the HiCExperiment package: - Allow up to 24 hours (and sometimes 48 hours) for your latest push to git@git.bioconductor.org:packages/HiCExperiment.git to reflect on this report. See Troubleshooting Build Report for more information. - Use the following Renviron settings to reproduce errors and warnings. Note: If "R CMD check" recently failed on the Linux builder over a missing dependency, add the missing dependency to "Suggests" in your DESCRIPTION file. See the Renviron.bioc for details. |
Package 921/2207 | Hostname | OS / Arch | INSTALL | BUILD | CHECK | BUILD BIN | ||||||||
HiCExperiment 0.99.13 (landing page) Jacques Serizay
| nebbiolo1 | Linux (Ubuntu 22.04.1 LTS) / x86_64 | OK | OK | OK | |||||||||
nebbiolo2 | Linux (Ubuntu 20.04.5 LTS) / x86_64 | OK | OK | OK | ||||||||||
Package: HiCExperiment |
Version: 0.99.13 |
Command: /home/biocbuild/bbs-3.17-bioc/R/bin/R CMD check --install=check:HiCExperiment.install-out.txt --library=/home/biocbuild/bbs-3.17-bioc/R/site-library --timings HiCExperiment_0.99.13.tar.gz |
StartedAt: 2023-04-11 20:52:14 -0400 (Tue, 11 Apr 2023) |
EndedAt: 2023-04-11 21:01:40 -0400 (Tue, 11 Apr 2023) |
EllapsedTime: 566.1 seconds |
RetCode: 0 |
Status: OK |
CheckDir: HiCExperiment.Rcheck |
Warnings: 0 |
############################################################################## ############################################################################## ### ### Running command: ### ### /home/biocbuild/bbs-3.17-bioc/R/bin/R CMD check --install=check:HiCExperiment.install-out.txt --library=/home/biocbuild/bbs-3.17-bioc/R/site-library --timings HiCExperiment_0.99.13.tar.gz ### ############################################################################## ############################################################################## * using log directory ‘/home/biocbuild/bbs-3.17-bioc/meat/HiCExperiment.Rcheck’ * using R version 4.3.0 alpha (2023-04-03 r84154) * using platform: x86_64-pc-linux-gnu (64-bit) * R was compiled by gcc (Ubuntu 11.3.0-1ubuntu1~22.04) 11.3.0 GNU Fortran (Ubuntu 11.3.0-1ubuntu1~22.04) 11.3.0 * running under: Ubuntu 22.04.2 LTS * using session charset: UTF-8 * checking for file ‘HiCExperiment/DESCRIPTION’ ... OK * this is package ‘HiCExperiment’ version ‘0.99.13’ * package encoding: UTF-8 * checking package namespace information ... OK * checking package dependencies ... OK * checking if this is a source package ... OK * checking if there is a namespace ... OK * checking for hidden files and directories ... OK * checking for portable file names ... OK * checking for sufficient/correct file permissions ... OK * checking whether package ‘HiCExperiment’ can be installed ... OK * checking installed package size ... OK * checking package directory ... OK * checking ‘build’ directory ... OK * checking DESCRIPTION meta-information ... OK * checking top-level files ... OK * checking for left-over files ... OK * checking index information ... OK * checking package subdirectories ... OK * checking R files for non-ASCII characters ... OK * checking R files for syntax errors ... OK * checking whether the package can be loaded ... OK * checking whether the package can be loaded with stated dependencies ... OK * checking whether the package can be unloaded cleanly ... OK * checking whether the namespace can be loaded with stated dependencies ... OK * checking whether the namespace can be unloaded cleanly ... OK * checking loading without being on the library search path ... OK * checking dependencies in R code ... OK * checking S3 generic/method consistency ... OK * checking replacement functions ... OK * checking foreign function calls ... NOTE Foreign function call to a different package: .Call("_H5Fis_hdf5", ..., PACKAGE = "rhdf5") See chapter ‘System and foreign language interfaces’ in the ‘Writing R Extensions’ manual. * checking R code for possible problems ... OK * checking Rd files ... OK * checking Rd metadata ... OK * checking Rd cross-references ... OK * checking for missing documentation entries ... OK * checking for code/documentation mismatches ... OK * checking Rd \usage sections ... OK * checking Rd contents ... OK * checking for unstated dependencies in examples ... OK * checking contents of ‘data’ directory ... OK * checking data for non-ASCII characters ... OK * checking data for ASCII and uncompressed saves ... OK * checking files in ‘vignettes’ ... OK * checking examples ... OK Examples with CPU (user + system) or elapsed time > 5s user system elapsed import-methods 29.186 2.898 24.873 HiCExperiment 18.879 2.223 21.968 AggrHiCExperiment 12.675 1.594 14.316 HicproFile-class 5.065 0.846 6.756 * checking for unstated dependencies in ‘tests’ ... OK * checking tests ... Running ‘testthat.R’ OK * checking for unstated dependencies in vignettes ... OK * checking package vignettes in ‘inst/doc’ ... OK * checking running R code from vignettes ... ‘HiCExperiment.Rmd’ using ‘UTF-8’... OK NONE * checking re-building of vignette outputs ... OK * checking PDF version of manual ... OK * DONE Status: 1 NOTE See ‘/home/biocbuild/bbs-3.17-bioc/meat/HiCExperiment.Rcheck/00check.log’ for details.
HiCExperiment.Rcheck/00install.out
############################################################################## ############################################################################## ### ### Running command: ### ### /home/biocbuild/bbs-3.17-bioc/R/bin/R CMD INSTALL HiCExperiment ### ############################################################################## ############################################################################## * installing to library ‘/home/biocbuild/bbs-3.17-bioc/R/site-library’ * installing *source* package ‘HiCExperiment’ ... ** using staged installation ** R ** data ** inst ** byte-compile and prepare package for lazy loading ** help *** installing help indices *** copying figures ** building package indices ** installing vignettes ** testing if installed package can be loaded from temporary location ** testing if installed package can be loaded from final location ** testing if installed package keeps a record of temporary installation path * DONE (HiCExperiment)
HiCExperiment.Rcheck/tests/testthat.Rout
R version 4.3.0 alpha (2023-04-03 r84154) Copyright (C) 2023 The R Foundation for Statistical Computing Platform: x86_64-pc-linux-gnu (64-bit) R is free software and comes with ABSOLUTELY NO WARRANTY. You are welcome to redistribute it under certain conditions. Type 'license()' or 'licence()' for distribution details. R is a collaborative project with many contributors. Type 'contributors()' for more information and 'citation()' on how to cite R or R packages in publications. Type 'demo()' for some demos, 'help()' for on-line help, or 'help.start()' for an HTML browser interface to help. Type 'q()' to quit R. > # This file is part of the standard setup for testthat. > # It is recommended that you do not modify it. > # > # Where should you do additional test configuration? > # Learn more about the roles of various files in: > # * https://r-pkgs.org/tests.html > # * https://testthat.r-lib.org/reference/test_package.html#special-files > > library(testthat) > library(HiCExperiment) > > test_check("HiCExperiment") see ?HiContactsData and browseVignettes('HiContactsData') for documentation loading from cache see ?HiContactsData and browseVignettes('HiContactsData') for documentation loading from cache see ?HiContactsData and browseVignettes('HiContactsData') for documentation loading from cache see ?HiContactsData and browseVignettes('HiContactsData') for documentation loading from cache see ?HiContactsData and browseVignettes('HiContactsData') for documentation loading from cache see ?HiContactsData and browseVignettes('HiContactsData') for documentation loading from cache resolutions(1): 1000 resolutions(5): 1000 2000 4000 8000 16000 resolutions(1): 1000 resolutions(5): 1000 2000 4000 8000 16000 CoolFile object .mcool file: /home/biocbuild/.cache/R/ExperimentHub/3e92c6559ee2a9_7751 resolution: 1000 pairs file: metadata(0): see ?HiContactsData and browseVignettes('HiContactsData') for documentation loading from cache `HiCExperiment` object with 8,757,906 contacts over 763 regions ------- fileName: "/home/biocbuild/.cache/R/ExperimentHub/3e92c6715d6198_7752" focus: "II" resolutions(5): 1000 2000 4000 8000 16000 active resolution: 16000 interactions: 267709 scores(3): count balanced test topologicalFeatures: compartments(0) borders(0) loops(0) viewpoints(0) centromeres(16) test(0) pairsFile: /home/biocbuild/.cache/R/ExperimentHub/3e92c66806c82c_7753 metadata(1): test resolutions(5): 1000 2000 4000 8000 16000 resolutions(5): 1000 2000 4000 8000 16000 HicFile object .hic file: /home/biocbuild/.cache/R/ExperimentHub/a1ea07ab6977e_7836 resolution: 1000 pairs file: metadata(0): HicproFile object HiC-Pro files: $ matrix: /home/biocbuild/.cache/R/ExperimentHub/a1ea03bf6b736_7837 $ regions: /home/biocbuild/.cache/R/ExperimentHub/a1ea028d68c4c_7838 resolution: 1000 pairs file: metadata(0): Going through preflight checklist... Parsing the entire contact matrice as a sparse matrix... Modeling distance decay... Filtering for contacts within provided targets... `AggrHiCExperiment` object over 2 targets ------- fileName: "/home/biocbuild/.cache/R/ExperimentHub/3e92c6715d6198_7752" focus: 2 targets resolutions(5): 1000 2000 4000 8000 16000 active resolution: 8000 interactions: 10201 scores(4): count balanced expected detrended slices(4): count balanced expected detrended topologicalFeatures: targets(2) pairsFile: N/A metadata(0): [ FAIL 0 | WARN 0 | SKIP 0 | PASS 241 ] > > proc.time() user system elapsed 197.463 15.768 183.947
HiCExperiment.Rcheck/HiCExperiment-Ex.timings
name | user | system | elapsed | |
AggrHiCExperiment | 12.675 | 1.594 | 14.316 | |
CoolFile-class | 3.189 | 0.373 | 4.184 | |
HiCExperiment | 18.879 | 2.223 | 21.968 | |
HicFile-class | 3.267 | 0.536 | 4.515 | |
HicproFile-class | 5.065 | 0.846 | 6.756 | |
PairsFile-class | 1.594 | 0.317 | 2.189 | |
as | 2.506 | 0.392 | 3.170 | |
data | 2.676 | 0.480 | 3.437 | |
import-methods | 29.186 | 2.898 | 24.873 | |