Back to Multiple platform build/check report for BioC 3.17 |
|
This page was generated on 2023-04-12 10:55:38 -0400 (Wed, 12 Apr 2023).
Hostname | OS | Arch (*) | R version | Installed pkgs |
---|---|---|---|---|
nebbiolo1 | Linux (Ubuntu 22.04.1 LTS) | x86_64 | 4.3.0 alpha (2023-04-03 r84154) | 4547 |
nebbiolo2 | Linux (Ubuntu 20.04.5 LTS) | x86_64 | R Under development (unstable) (2023-02-14 r83833) -- "Unsuffered Consequences" | 4333 |
Click on any hostname to see more info about the system (e.g. compilers) (*) as reported by 'uname -p', except on Windows and Mac OS X |
To the developers/maintainers of the IONiseR package: - Allow up to 24 hours (and sometimes 48 hours) for your latest push to git@git.bioconductor.org:packages/IONiseR.git to reflect on this report. See Troubleshooting Build Report for more information. - Use the following Renviron settings to reproduce errors and warnings. Note: If "R CMD check" recently failed on the Linux builder over a missing dependency, add the missing dependency to "Suggests" in your DESCRIPTION file. See the Renviron.bioc for details. |
Package 1006/2207 | Hostname | OS / Arch | INSTALL | BUILD | CHECK | BUILD BIN | ||||||||
IONiseR 2.23.0 (landing page) Mike Smith
| nebbiolo1 | Linux (Ubuntu 22.04.1 LTS) / x86_64 | OK | OK | OK | |||||||||
nebbiolo2 | Linux (Ubuntu 20.04.5 LTS) / x86_64 | OK | OK | OK | ||||||||||
Package: IONiseR |
Version: 2.23.0 |
Command: /home/biocbuild/bbs-3.17-bioc/R/bin/R CMD check --install=check:IONiseR.install-out.txt --library=/home/biocbuild/bbs-3.17-bioc/R/site-library --timings IONiseR_2.23.0.tar.gz |
StartedAt: 2023-04-12 06:58:11 -0400 (Wed, 12 Apr 2023) |
EndedAt: 2023-04-12 07:03:54 -0400 (Wed, 12 Apr 2023) |
EllapsedTime: 342.9 seconds |
RetCode: 0 |
Status: OK |
CheckDir: IONiseR.Rcheck |
Warnings: 0 |
############################################################################## ############################################################################## ### ### Running command: ### ### /home/biocbuild/bbs-3.17-bioc/R/bin/R CMD check --install=check:IONiseR.install-out.txt --library=/home/biocbuild/bbs-3.17-bioc/R/site-library --timings IONiseR_2.23.0.tar.gz ### ############################################################################## ############################################################################## * using log directory ‘/home/biocbuild/bbs-3.17-bioc/meat/IONiseR.Rcheck’ * using R Under development (unstable) (2023-02-14 r83833) * using platform: x86_64-pc-linux-gnu (64-bit) * R was compiled by gcc (Ubuntu 9.4.0-1ubuntu1~20.04.1) 9.4.0 GNU Fortran (Ubuntu 9.4.0-1ubuntu1~20.04.1) 9.4.0 * running under: Ubuntu 20.04.6 LTS * using session charset: UTF-8 * checking for file ‘IONiseR/DESCRIPTION’ ... OK * this is package ‘IONiseR’ version ‘2.23.0’ * checking package namespace information ... OK * checking package dependencies ... OK * checking if this is a source package ... OK * checking if there is a namespace ... OK * checking for hidden files and directories ... NOTE Found the following hidden files and directories: .travis.yml These were most likely included in error. See section ‘Package structure’ in the ‘Writing R Extensions’ manual. * checking for portable file names ... OK * checking for sufficient/correct file permissions ... OK * checking whether package ‘IONiseR’ can be installed ... OK * checking installed package size ... OK * checking package directory ... OK * checking ‘build’ directory ... OK * checking DESCRIPTION meta-information ... OK * checking top-level files ... OK * checking for left-over files ... OK * checking index information ... OK * checking package subdirectories ... OK * checking R files for non-ASCII characters ... OK * checking R files for syntax errors ... OK * checking whether the package can be loaded ... OK * checking whether the package can be loaded with stated dependencies ... OK * checking whether the package can be unloaded cleanly ... OK * checking whether the namespace can be loaded with stated dependencies ... OK * checking whether the namespace can be unloaded cleanly ... OK * checking loading without being on the library search path ... OK * checking dependencies in R code ... OK * checking S3 generic/method consistency ... OK * checking replacement functions ... OK * checking foreign function calls ... OK * checking R code for possible problems ... NOTE .fast5status : <anonymous>: no visible binding for global variable ‘group’ .fast5status : <anonymous>: no visible binding for global variable ‘name’ .get2D: no visible binding for global variable ‘full_2D’ .muxToXY: no visible binding for global variable ‘matrixCol’ .muxToXY: no visible binding for global variable ‘mux’ .muxToXY: no visible binding for global variable ‘oddEven’ .muxToXY: no visible global function definition for ‘:=’ .muxToXY: no visible binding for global variable ‘matrixRow’ .processFastq: no visible binding for global variable ‘readIDs’ .strandExistence: no visible binding for global variable ‘name’ .strandExistence: no visible binding for global variable ‘group’ channelActivityPlot: no visible binding for global variable ‘channel’ channelActivityPlot: no visible binding for global variable ‘start_time’ channelActivityPlot: no visible binding for global variable ‘duration’ channelActivityPlot: no visible binding for global variable ‘zvalue’ channelActivityPlot: no visible binding for global variable ‘time_bin’ channelActivityPlot: no visible binding for global variable ‘mean_value’ layoutPlot: no visible binding for global variable ‘channel’ layoutPlot: no visible binding for global variable ‘seq_length’ layoutPlot: no visible binding for global variable ‘median_signal’ layoutPlot: no visible global function definition for ‘error’ muxHeatmap: no visible binding for global variable ‘channel’ muxHeatmap: no visible binding for global variable ‘matrixRow’ muxHeatmap: no visible binding for global variable ‘matrixCol’ muxHeatmap: no visible binding for global variable ‘meanZValue’ muxHeatmap: no visible global function definition for ‘rbindlist’ muxHeatmap: no visible binding for global variable ‘circleFun’ muxHeatmap: no visible binding for global variable ‘x’ muxHeatmap: no visible binding for global variable ‘y’ plot2DYield: no visible binding for global variable ‘start_time’ plot2DYield: no visible binding for global variable ‘pass’ plot2DYield: no visible binding for global variable ‘nbases’ plot2DYield: no visible binding for global variable ‘time_group’ plot2DYield: no visible binding for global variable ‘hour’ plot2DYield: no visible binding for global variable ‘accumulation’ plotActiveChannels: no visible binding for global variable ‘start_time’ plotActiveChannels: no visible binding for global variable ‘duration’ plotActiveChannels: no visible binding for global variable ‘minute’ plotBaseProductionRate: no visible binding for global variable ‘start_time’ plotBaseProductionRate: no visible binding for global variable ‘bases_called’ plotBaseProductionRate: no visible binding for global variable ‘duration’ plotCurrentByTime: no visible binding for global variable ‘start_time’ plotCurrentByTime: no visible binding for global variable ‘median_signal’ plotEventRate: no visible binding for global variable ‘start_time’ plotEventRate: no visible binding for global variable ‘num_events’ plotEventRate: no visible binding for global variable ‘duration’ plotKmerFrequencyCorrelation: no visible binding for global variable ‘full_2D’ plotKmerFrequencyCorrelation: no visible binding for global variable ‘start_time’ plotKmerFrequencyCorrelation: no visible binding for global variable ‘AAAAA’ plotKmerFrequencyCorrelation: no visible binding for global variable ‘TTTTT’ plotKmerFrequencyCorrelation: no visible binding for global variable ‘time_group’ plotKmerFrequencyCorrelation: no visible binding for global variable ‘freq’ plotKmerFrequencyCorrelation: no visible binding for global variable ‘pentamer’ plotKmerFrequencyCorrelation: no visible binding for global variable ‘x’ plotKmerFrequencyCorrelation: no visible binding for global variable ‘y’ plotReadAccumulation: no visible binding for global variable ‘start_time’ plotReadAccumulation: no visible binding for global variable ‘minute’ plotReadAccumulation: no visible binding for global variable ‘new_reads’ plotReadAccumulation: no visible binding for global variable ‘accumulation’ plotReadCategoryCounts: no visible binding for global variable ‘full_2D’ plotReadCategoryCounts: no visible binding for global variable ‘pass’ plotReadCategoryCounts: no visible binding for global variable ‘category’ plotReadTypeProduction: no visible binding for global variable ‘start_time’ plotReadTypeProduction: no visible binding for global variable ‘time_group’ plotReadTypeProduction: no visible binding for global variable ‘full_2D’ plotReadTypeProduction: no visible binding for global variable ‘pass’ plotReadTypeProduction: no visible binding for global variable ‘hour’ readFast5Summary: no visible binding for global variable ‘start_time’ readFast5Summary: no visible binding for global variable ‘duration’ readFast5Summary: no visible binding for global variable ‘num_events’ readFast5Summary.mc: no visible binding for global variable ‘start_time’ readFast5Summary.mc: no visible binding for global variable ‘duration’ readFast5Summary.mc: no visible binding for global variable ‘num_events’ [,Fast5Summary-ANY-ANY-ANY: no visible binding for global variable ‘baseCalledTemplate’ [,Fast5Summary-ANY-ANY-ANY: no visible binding for global variable ‘baseCalledComplement’ [,Fast5Summary-ANY-ANY-ANY: no visible binding for global variable ‘component’ [,Fast5Summary-ANY-ANY-ANY: no visible binding for global variable ‘idx’ show,Fast5Summary: no visible binding for global variable ‘full_2D’ show,Fast5Summary: no visible binding for global variable ‘pass’ Undefined global functions or variables: := AAAAA TTTTT accumulation baseCalledComplement baseCalledTemplate bases_called category channel circleFun component duration error freq full_2D group hour idx matrixCol matrixRow meanZValue mean_value median_signal minute mux name nbases new_reads num_events oddEven pass pentamer rbindlist readIDs seq_length start_time time_bin time_group x y zvalue * checking Rd files ... OK * checking Rd metadata ... OK * checking Rd cross-references ... OK * checking for missing documentation entries ... OK * checking for code/documentation mismatches ... OK * checking Rd \usage sections ... OK * checking Rd contents ... OK * checking for unstated dependencies in examples ... OK * checking files in ‘vignettes’ ... OK * checking examples ... OK Examples with CPU (user + system) or elapsed time > 5s user system elapsed plotKmerFrequencyCorrelation 9.284 0.36 9.644 * checking for unstated dependencies in ‘tests’ ... OK * checking tests ... Running ‘testthat.R’ OK * checking for unstated dependencies in vignettes ... OK * checking package vignettes in ‘inst/doc’ ... OK * checking running R code from vignettes ... ‘IONiseR.Rmd’ using ‘UTF-8’... OK NONE * checking re-building of vignette outputs ... OK * checking PDF version of manual ... OK * DONE Status: 2 NOTEs See ‘/home/biocbuild/bbs-3.17-bioc/meat/IONiseR.Rcheck/00check.log’ for details.
IONiseR.Rcheck/00install.out
############################################################################## ############################################################################## ### ### Running command: ### ### /home/biocbuild/bbs-3.17-bioc/R/bin/R CMD INSTALL IONiseR ### ############################################################################## ############################################################################## * installing to library ‘/home/biocbuild/bbs-3.17-bioc/R/site-library’ * installing *source* package ‘IONiseR’ ... ** using staged installation ** R ** inst ** byte-compile and prepare package for lazy loading ** help *** installing help indices ** building package indices ** installing vignettes ** testing if installed package can be loaded from temporary location ** testing if installed package can be loaded from final location ** testing if installed package keeps a record of temporary installation path * DONE (IONiseR)
IONiseR.Rcheck/tests/testthat.Rout
R Under development (unstable) (2023-02-14 r83833) -- "Unsuffered Consequences" Copyright (C) 2023 The R Foundation for Statistical Computing Platform: x86_64-pc-linux-gnu (64-bit) R is free software and comes with ABSOLUTELY NO WARRANTY. You are welcome to redistribute it under certain conditions. Type 'license()' or 'licence()' for distribution details. R is a collaborative project with many contributors. Type 'contributors()' for more information and 'citation()' on how to cite R or R packages in publications. Type 'demo()' for some demos, 'help()' for on-line help, or 'help.start()' for an HTML browser interface to help. Type 'q()' to quit R. > library(testthat) > library(IONiseR) > > test_check("IONiseR") [ FAIL 0 | WARN 18 | SKIP 0 | PASS 24 ] [ FAIL 0 | WARN 18 | SKIP 0 | PASS 24 ] > > proc.time() user system elapsed 19.349 0.950 20.291
IONiseR.Rcheck/IONiseR-Ex.timings
name | user | system | elapsed | |
Fast5Summary-class | 1.485 | 0.064 | 1.549 | |
baseCalled | 1.415 | 0.095 | 1.511 | |
channelActivityPlot | 1.696 | 0.096 | 1.792 | |
channelHeatmap | 0.787 | 0.056 | 0.843 | |
eventData | 0.541 | 0.027 | 0.570 | |
fast5toFastq | 0 | 0 | 0 | |
fastq | 0.536 | 0.008 | 0.545 | |
fastq2D | 1.501 | 0.095 | 1.596 | |
fastqComplement | 0.523 | 0.020 | 0.543 | |
fastqTemplate | 0.551 | 0.028 | 0.579 | |
layoutPlot | 0.906 | 0.009 | 0.913 | |
plotActiveChannels | 1.728 | 0.019 | 1.748 | |
plotBaseProductionRate | 0.809 | 0.016 | 0.825 | |
plotCurrentByTime | 1.658 | 0.103 | 1.761 | |
plotEventRate | 0.727 | 0.031 | 0.760 | |
plotKmerFrequencyCorrelation | 9.284 | 0.360 | 9.644 | |
plotReadAccumulation | 0.651 | 0.004 | 0.655 | |
plotReadCategoryCounts | 0.997 | 0.019 | 1.017 | |
plotReadCategoryQuals | 0.893 | 0.021 | 0.913 | |
plotReadTypeProduction | 1.618 | 0.031 | 1.650 | |
readFast5Log | 0.006 | 0.000 | 0.006 | |
readFast5Summary | 0 | 0 | 0 | |
readInfo | 0.583 | 0.023 | 0.607 | |