Back to Multiple platform build/check report for BioC 3.17 |
|
This page was generated on 2023-04-12 10:55:39 -0400 (Wed, 12 Apr 2023).
Hostname | OS | Arch (*) | R version | Installed pkgs |
---|---|---|---|---|
nebbiolo1 | Linux (Ubuntu 22.04.1 LTS) | x86_64 | 4.3.0 alpha (2023-04-03 r84154) | 4547 |
nebbiolo2 | Linux (Ubuntu 20.04.5 LTS) | x86_64 | R Under development (unstable) (2023-02-14 r83833) -- "Unsuffered Consequences" | 4333 |
Click on any hostname to see more info about the system (e.g. compilers) (*) as reported by 'uname -p', except on Windows and Mac OS X |
To the developers/maintainers of the MQmetrics package: - Allow up to 24 hours (and sometimes 48 hours) for your latest push to git@git.bioconductor.org:packages/MQmetrics.git to reflect on this report. See Troubleshooting Build Report for more information. - Use the following Renviron settings to reproduce errors and warnings. Note: If "R CMD check" recently failed on the Linux builder over a missing dependency, add the missing dependency to "Suggests" in your DESCRIPTION file. See the Renviron.bioc for details. |
Package 1280/2207 | Hostname | OS / Arch | INSTALL | BUILD | CHECK | BUILD BIN | ||||||||
MQmetrics 1.7.0 (landing page) Alvaro Sanchez-Villalba
| nebbiolo1 | Linux (Ubuntu 22.04.1 LTS) / x86_64 | OK | OK | OK | |||||||||
nebbiolo2 | Linux (Ubuntu 20.04.5 LTS) / x86_64 | OK | OK | OK | ||||||||||
Package: MQmetrics |
Version: 1.7.0 |
Command: /home/biocbuild/bbs-3.17-bioc/R/bin/R CMD check --install=check:MQmetrics.install-out.txt --library=/home/biocbuild/bbs-3.17-bioc/R/site-library --timings MQmetrics_1.7.0.tar.gz |
StartedAt: 2023-04-12 07:40:21 -0400 (Wed, 12 Apr 2023) |
EndedAt: 2023-04-12 07:43:29 -0400 (Wed, 12 Apr 2023) |
EllapsedTime: 187.6 seconds |
RetCode: 0 |
Status: OK |
CheckDir: MQmetrics.Rcheck |
Warnings: 0 |
############################################################################## ############################################################################## ### ### Running command: ### ### /home/biocbuild/bbs-3.17-bioc/R/bin/R CMD check --install=check:MQmetrics.install-out.txt --library=/home/biocbuild/bbs-3.17-bioc/R/site-library --timings MQmetrics_1.7.0.tar.gz ### ############################################################################## ############################################################################## * using log directory ‘/home/biocbuild/bbs-3.17-bioc/meat/MQmetrics.Rcheck’ * using R Under development (unstable) (2023-02-14 r83833) * using platform: x86_64-pc-linux-gnu (64-bit) * R was compiled by gcc (Ubuntu 9.4.0-1ubuntu1~20.04.1) 9.4.0 GNU Fortran (Ubuntu 9.4.0-1ubuntu1~20.04.1) 9.4.0 * running under: Ubuntu 20.04.6 LTS * using session charset: UTF-8 * checking for file ‘MQmetrics/DESCRIPTION’ ... OK * checking extension type ... Package * this is package ‘MQmetrics’ version ‘1.7.0’ * package encoding: UTF-8 * checking package namespace information ... OK * checking package dependencies ... OK * checking if this is a source package ... OK * checking if there is a namespace ... OK * checking for hidden files and directories ... OK * checking for portable file names ... OK * checking for sufficient/correct file permissions ... OK * checking whether package ‘MQmetrics’ can be installed ... OK * checking installed package size ... NOTE installed size is 5.3Mb sub-directories of 1Mb or more: extdata 4.9Mb * checking package directory ... OK * checking ‘build’ directory ... OK * checking DESCRIPTION meta-information ... OK * checking top-level files ... OK * checking for left-over files ... OK * checking index information ... OK * checking package subdirectories ... OK * checking R files for non-ASCII characters ... OK * checking R files for syntax errors ... OK * checking whether the package can be loaded ... OK * checking whether the package can be loaded with stated dependencies ... OK * checking whether the package can be unloaded cleanly ... OK * checking whether the namespace can be loaded with stated dependencies ... OK * checking whether the namespace can be unloaded cleanly ... OK * checking loading without being on the library search path ... OK * checking dependencies in R code ... OK * checking S3 generic/method consistency ... OK * checking replacement functions ... OK * checking foreign function calls ... OK * checking R code for possible problems ... NOTE PlotAndromedaScore: no visible binding for global variable ‘median(Score)’ Undefined global functions or variables: median(Score) * checking Rd files ... OK * checking Rd metadata ... OK * checking Rd cross-references ... OK * checking for missing documentation entries ... OK * checking for code/documentation mismatches ... OK * checking Rd \usage sections ... OK * checking Rd contents ... OK * checking for unstated dependencies in examples ... OK * checking files in ‘vignettes’ ... OK * checking examples ... OK Examples with CPU (user + system) or elapsed time > 5s user system elapsed PlotAcquisitionCycle 6.640 0.511 6.742 PlotPTM 5.375 0.448 5.374 * checking for unstated dependencies in ‘tests’ ... OK * checking tests ... Running ‘testthat.R’ OK * checking for unstated dependencies in vignettes ... OK * checking package vignettes in ‘inst/doc’ ... OK * checking running R code from vignettes ... ‘MQmetrics.Rmd’ using ‘UTF-8’... OK NONE * checking re-building of vignette outputs ... OK * checking PDF version of manual ... OK * DONE Status: 2 NOTEs See ‘/home/biocbuild/bbs-3.17-bioc/meat/MQmetrics.Rcheck/00check.log’ for details.
MQmetrics.Rcheck/00install.out
############################################################################## ############################################################################## ### ### Running command: ### ### /home/biocbuild/bbs-3.17-bioc/R/bin/R CMD INSTALL MQmetrics ### ############################################################################## ############################################################################## * installing to library ‘/home/biocbuild/bbs-3.17-bioc/R/site-library’ * installing *source* package ‘MQmetrics’ ... ** using staged installation ** R ** inst ** byte-compile and prepare package for lazy loading ** help *** installing help indices *** copying figures ** building package indices ** installing vignettes ** testing if installed package can be loaded from temporary location ** testing if installed package can be loaded from final location ** testing if installed package keeps a record of temporary installation path * DONE (MQmetrics)
MQmetrics.Rcheck/tests/testthat.Rout
R Under development (unstable) (2023-02-14 r83833) -- "Unsuffered Consequences" Copyright (C) 2023 The R Foundation for Statistical Computing Platform: x86_64-pc-linux-gnu (64-bit) R is free software and comes with ABSOLUTELY NO WARRANTY. You are welcome to redistribute it under certain conditions. Type 'license()' or 'licence()' for distribution details. R is a collaborative project with many contributors. Type 'contributors()' for more information and 'citation()' on how to cite R or R packages in publications. Type 'demo()' for some demos, 'help()' for on-line help, or 'help.start()' for an HTML browser interface to help. Type 'q()' to quit R. > library(testthat) > library(MQmetrics) > > test_check("MQmetrics") Rows: 7 Columns: 52 -- Column specification -------------------------------------------------------- Delimiter: "\t" chr (8): Raw file, Experiment, Enzyme, Enzyme mode, Variable modifications,... dbl (34): Multiplicity, Max. missed cleavages, MS, MS/MS, MS3, MS/MS Submitt... lgl (10): Enzyme first search, Enzyme mode first search, Use enzyme first se... i Use `spec()` to retrieve the full column specification for this data. i Specify the column types or set `show_col_types = FALSE` to quiet this message. Rows: 2638 Columns: 65 -- Column specification -------------------------------------------------------- Delimiter: "\t" chr (16): Sequence, Identification type QC02_210326, Identification type QC0... dbl (48): Missed cleavages, Experiment QC02_210326, Experiment QC02_210331, ... lgl (1): Reverse i Use `spec()` to retrieve the full column specification for this data. i Specify the column types or set `show_col_types = FALSE` to quiet this message. Rows: 13161 Columns: 9 -- Column specification -------------------------------------------------------- Delimiter: "\t" chr (3): Experiment, Potential contaminant, Sequence dbl (5): Charge, m/z, Retention time, Calibrated retention time, Intensity lgl (1): Reverse i Use `spec()` to retrieve the full column specification for this data. i Specify the column types or set `show_col_types = FALSE` to quiet this message. Rows: 32418 Columns: 4 -- Column specification -------------------------------------------------------- Delimiter: "\t" chr (1): Experiment dbl (3): Retention time, Cycle time, MS/MS count i Use `spec()` to retrieve the full column specification for this data. i Specify the column types or set `show_col_types = FALSE` to quiet this message. Rows: 29621 Columns: 4 -- Column specification -------------------------------------------------------- Delimiter: "\t" chr (2): Experiment, Reverse dbl (2): Retention time, Total ion current i Use `spec()` to retrieve the full column specification for this data. i Specify the column types or set `show_col_types = FALSE` to quiet this message. Rows: 4751 Columns: 32 -- Column specification -------------------------------------------------------- Delimiter: "\t" chr (10): Identification type QC02_210326, Identification type QC02_210331, ... dbl (22): Intensity, Intensity QC02_210326, Intensity QC02_210331, Intensity... i Use `spec()` to retrieve the full column specification for this data. i Specify the column types or set `show_col_types = FALSE` to quiet this message. Rows: 2803 Columns: 16 -- Column specification -------------------------------------------------------- Delimiter: "\t" chr (4): Modifications, Proteins, Potential contaminant, Reverse dbl (12): Intensity QC02_210326, Intensity QC02_210331, Intensity QC02_21040... i Use `spec()` to retrieve the full column specification for this data. i Specify the column types or set `show_col_types = FALSE` to quiet this message. Rows: 108 Columns: 2 -- Column specification -------------------------------------------------------- Delimiter: "\t" chr (2): Parameter, Value i Use `spec()` to retrieve the full column specification for this data. i Specify the column types or set `show_col_types = FALSE` to quiet this message. Rows: 53 Columns: 6 -- Column specification -------------------------------------------------------- Delimiter: "\t" chr (3): Job, Start date, End date dbl (1): Running time [min] time (2): Start time, End time i Use `spec()` to retrieve the full column specification for this data. i Specify the column types or set `show_col_types = FALSE` to quiet this message. Rows: 7 Columns: 52 -- Column specification -------------------------------------------------------- Delimiter: "\t" chr (8): Raw file, Experiment, Enzyme, Enzyme mode, Variable modifications,... dbl (34): Multiplicity, Max. missed cleavages, MS, MS/MS, MS3, MS/MS Submitt... lgl (10): Enzyme first search, Enzyme mode first search, Use enzyme first se... i Use `spec()` to retrieve the full column specification for this data. i Specify the column types or set `show_col_types = FALSE` to quiet this message. Rows: 2638 Columns: 65 -- Column specification -------------------------------------------------------- Delimiter: "\t" chr (16): Sequence, Identification type QC02_210326, Identification type QC0... dbl (48): Missed cleavages, Experiment QC02_210326, Experiment QC02_210331, ... lgl (1): Reverse i Use `spec()` to retrieve the full column specification for this data. i Specify the column types or set `show_col_types = FALSE` to quiet this message. Rows: 13161 Columns: 9 -- Column specification -------------------------------------------------------- Delimiter: "\t" chr (3): Experiment, Potential contaminant, Sequence dbl (5): Charge, m/z, Retention time, Calibrated retention time, Intensity lgl (1): Reverse i Use `spec()` to retrieve the full column specification for this data. i Specify the column types or set `show_col_types = FALSE` to quiet this message. Rows: 32418 Columns: 4 -- Column specification -------------------------------------------------------- Delimiter: "\t" chr (1): Experiment dbl (3): Retention time, Cycle time, MS/MS count i Use `spec()` to retrieve the full column specification for this data. i Specify the column types or set `show_col_types = FALSE` to quiet this message. Rows: 29621 Columns: 4 -- Column specification -------------------------------------------------------- Delimiter: "\t" chr (2): Experiment, Reverse dbl (2): Retention time, Total ion current i Use `spec()` to retrieve the full column specification for this data. i Specify the column types or set `show_col_types = FALSE` to quiet this message. Rows: 4751 Columns: 32 -- Column specification -------------------------------------------------------- Delimiter: "\t" chr (10): Identification type QC02_210326, Identification type QC02_210331, ... dbl (22): Intensity, Intensity QC02_210326, Intensity QC02_210331, Intensity... i Use `spec()` to retrieve the full column specification for this data. i Specify the column types or set `show_col_types = FALSE` to quiet this message. Rows: 2803 Columns: 16 -- Column specification -------------------------------------------------------- Delimiter: "\t" chr (4): Modifications, Proteins, Potential contaminant, Reverse dbl (12): Intensity QC02_210326, Intensity QC02_210331, Intensity QC02_21040... i Use `spec()` to retrieve the full column specification for this data. i Specify the column types or set `show_col_types = FALSE` to quiet this message. Rows: 108 Columns: 2 -- Column specification -------------------------------------------------------- Delimiter: "\t" chr (2): Parameter, Value i Use `spec()` to retrieve the full column specification for this data. i Specify the column types or set `show_col_types = FALSE` to quiet this message. Rows: 53 Columns: 6 -- Column specification -------------------------------------------------------- Delimiter: "\t" chr (3): Job, Start date, End date dbl (1): Running time [min] time (2): Start time, End time i Use `spec()` to retrieve the full column specification for this data. i Specify the column types or set `show_col_types = FALSE` to quiet this message. Rows: 4751 Columns: 32 -- Column specification -------------------------------------------------------- Delimiter: "\t" chr (10): Identification type QC02_210326, Identification type QC02_210331, ... dbl (22): Intensity, Intensity QC02_210326, Intensity QC02_210331, Intensity... i Use `spec()` to retrieve the full column specification for this data. i Specify the column types or set `show_col_types = FALSE` to quiet this message. Rows: 7 Columns: 52 -- Column specification -------------------------------------------------------- Delimiter: "\t" chr (8): Raw file, Experiment, Enzyme, Enzyme mode, Variable modifications,... dbl (34): Multiplicity, Max. missed cleavages, MS, MS/MS, MS3, MS/MS Submitt... lgl (10): Enzyme first search, Enzyme mode first search, Use enzyme first se... i Use `spec()` to retrieve the full column specification for this data. i Specify the column types or set `show_col_types = FALSE` to quiet this message. Using Charge as value column: use value.var to override. Aggregation function missing: defaulting to length Rows: 7 Columns: 52 -- Column specification -------------------------------------------------------- Delimiter: "\t" chr (8): Raw file, Experiment, Enzyme, Enzyme mode, Variable modifications,... dbl (34): Multiplicity, Max. missed cleavages, MS, MS/MS, MS3, MS/MS Submitt... lgl (10): Enzyme first search, Enzyme mode first search, Use enzyme first se... i Use `spec()` to retrieve the full column specification for this data. i Specify the column types or set `show_col_types = FALSE` to quiet this message. Rows: 2638 Columns: 65 -- Column specification -------------------------------------------------------- Delimiter: "\t" chr (16): Sequence, Identification type QC02_210326, Identification type QC0... dbl (48): Missed cleavages, Experiment QC02_210326, Experiment QC02_210331, ... lgl (1): Reverse i Use `spec()` to retrieve the full column specification for this data. i Specify the column types or set `show_col_types = FALSE` to quiet this message. Rows: 13161 Columns: 9 -- Column specification -------------------------------------------------------- Delimiter: "\t" chr (3): Experiment, Potential contaminant, Sequence dbl (5): Charge, m/z, Retention time, Calibrated retention time, Intensity lgl (1): Reverse i Use `spec()` to retrieve the full column specification for this data. i Specify the column types or set `show_col_types = FALSE` to quiet this message. Rows: 32418 Columns: 4 -- Column specification -------------------------------------------------------- Delimiter: "\t" chr (1): Experiment dbl (3): Retention time, Cycle time, MS/MS count i Use `spec()` to retrieve the full column specification for this data. i Specify the column types or set `show_col_types = FALSE` to quiet this message. Rows: 29621 Columns: 4 -- Column specification -------------------------------------------------------- Delimiter: "\t" chr (2): Experiment, Reverse dbl (2): Retention time, Total ion current i Use `spec()` to retrieve the full column specification for this data. i Specify the column types or set `show_col_types = FALSE` to quiet this message. Rows: 4751 Columns: 32 -- Column specification -------------------------------------------------------- Delimiter: "\t" chr (10): Identification type QC02_210326, Identification type QC02_210331, ... dbl (22): Intensity, Intensity QC02_210326, Intensity QC02_210331, Intensity... i Use `spec()` to retrieve the full column specification for this data. i Specify the column types or set `show_col_types = FALSE` to quiet this message. Rows: 2803 Columns: 16 -- Column specification -------------------------------------------------------- Delimiter: "\t" chr (4): Modifications, Proteins, Potential contaminant, Reverse dbl (12): Intensity QC02_210326, Intensity QC02_210331, Intensity QC02_21040... i Use `spec()` to retrieve the full column specification for this data. i Specify the column types or set `show_col_types = FALSE` to quiet this message. Rows: 108 Columns: 2 -- Column specification -------------------------------------------------------- Delimiter: "\t" chr (2): Parameter, Value i Use `spec()` to retrieve the full column specification for this data. i Specify the column types or set `show_col_types = FALSE` to quiet this message. Rows: 53 Columns: 6 -- Column specification -------------------------------------------------------- Delimiter: "\t" chr (3): Job, Start date, End date dbl (1): Running time [min] time (2): Start time, End time i Use `spec()` to retrieve the full column specification for this data. i Specify the column types or set `show_col_types = FALSE` to quiet this message. [ FAIL 0 | WARN 0 | SKIP 0 | PASS 3 ] > > proc.time() user system elapsed 7.819 1.625 8.397
MQmetrics.Rcheck/MQmetrics-Ex.timings
name | user | system | elapsed | |
MaxQuantAnalysisInfo | 2.307 | 0.374 | 2.263 | |
PlotAcquisitionCycle | 6.640 | 0.511 | 6.742 | |
PlotAllDynamicRange | 3.433 | 0.386 | 3.444 | |
PlotAndromedaScore | 3.819 | 0.332 | 3.803 | |
PlotCharge | 3.473 | 0.325 | 3.418 | |
PlotCombinedDynamicRange | 2.571 | 0.208 | 2.404 | |
PlotHydrophobicity | 3.514 | 0.277 | 3.454 | |
PlotIntensity | 3.154 | 0.286 | 3.066 | |
PlotIsotopePattern | 1.969 | 0.373 | 1.984 | |
PlotMsMs | 2.019 | 0.366 | 2.052 | |
PlotPCA | 2.413 | 0.300 | 2.368 | |
PlotPTM | 5.375 | 0.448 | 5.374 | |
PlotPTMAcrossSamples | 1.938 | 0.345 | 1.902 | |
PlotPeaks | 1.764 | 0.428 | 1.814 | |
PlotPeptidesIdentified | 2.179 | 0.347 | 2.151 | |
PlotProteaseSpecificity | 3.973 | 0.266 | 3.883 | |
PlotProteinCoverage | 3.368 | 0.494 | 3.390 | |
PlotProteinOverlap | 2.002 | 0.438 | 2.049 | |
PlotProteinPeptideRatio | 1.846 | 0.460 | 1.997 | |
PlotProteinsIdentified | 2.002 | 0.340 | 2.047 | |
PlotTotalIonCurrent | 2.788 | 0.335 | 2.748 | |
PlotiRT | 2.820 | 0.475 | 2.884 | |
PlotiRTScore | 2.753 | 0.382 | 2.865 | |
ReportTables | 2.401 | 0.561 | 2.644 | |
generateReport | 0.001 | 0.000 | 0.000 | |
make_MQCombined | 1.998 | 0.393 | 2.078 | |