Back to Multiple platform build/check report for BioC 3.17 |
|
This page was generated on 2023-04-12 10:55:27 -0400 (Wed, 12 Apr 2023).
Hostname | OS | Arch (*) | R version | Installed pkgs |
---|---|---|---|---|
nebbiolo1 | Linux (Ubuntu 22.04.1 LTS) | x86_64 | 4.3.0 alpha (2023-04-03 r84154) | 4547 |
nebbiolo2 | Linux (Ubuntu 20.04.5 LTS) | x86_64 | R Under development (unstable) (2023-02-14 r83833) -- "Unsuffered Consequences" | 4333 |
Click on any hostname to see more info about the system (e.g. compilers) (*) as reported by 'uname -p', except on Windows and Mac OS X |
To the developers/maintainers of the MetaNeighbor package: - Allow up to 24 hours (and sometimes 48 hours) for your latest push to git@git.bioconductor.org:packages/MetaNeighbor.git to reflect on this report. See Troubleshooting Build Report for more information. - Use the following Renviron settings to reproduce errors and warnings. Note: If "R CMD check" recently failed on the Linux builder over a missing dependency, add the missing dependency to "Suggests" in your DESCRIPTION file. See the Renviron.bioc for details. |
Package 1169/2207 | Hostname | OS / Arch | INSTALL | BUILD | CHECK | BUILD BIN | ||||||||
MetaNeighbor 1.19.0 (landing page) Stephan Fischer
| nebbiolo1 | Linux (Ubuntu 22.04.1 LTS) / x86_64 | OK | OK | OK | |||||||||
nebbiolo2 | Linux (Ubuntu 20.04.5 LTS) / x86_64 | OK | OK | OK | ||||||||||
Package: MetaNeighbor |
Version: 1.19.0 |
Command: /home/biocbuild/bbs-3.17-bioc/R/bin/R CMD check --install=check:MetaNeighbor.install-out.txt --library=/home/biocbuild/bbs-3.17-bioc/R/site-library --timings MetaNeighbor_1.19.0.tar.gz |
StartedAt: 2023-04-11 21:25:47 -0400 (Tue, 11 Apr 2023) |
EndedAt: 2023-04-11 21:27:55 -0400 (Tue, 11 Apr 2023) |
EllapsedTime: 128.2 seconds |
RetCode: 0 |
Status: OK |
CheckDir: MetaNeighbor.Rcheck |
Warnings: 0 |
############################################################################## ############################################################################## ### ### Running command: ### ### /home/biocbuild/bbs-3.17-bioc/R/bin/R CMD check --install=check:MetaNeighbor.install-out.txt --library=/home/biocbuild/bbs-3.17-bioc/R/site-library --timings MetaNeighbor_1.19.0.tar.gz ### ############################################################################## ############################################################################## * using log directory ‘/home/biocbuild/bbs-3.17-bioc/meat/MetaNeighbor.Rcheck’ * using R version 4.3.0 alpha (2023-04-03 r84154) * using platform: x86_64-pc-linux-gnu (64-bit) * R was compiled by gcc (Ubuntu 11.3.0-1ubuntu1~22.04) 11.3.0 GNU Fortran (Ubuntu 11.3.0-1ubuntu1~22.04) 11.3.0 * running under: Ubuntu 22.04.2 LTS * using session charset: UTF-8 * checking for file ‘MetaNeighbor/DESCRIPTION’ ... OK * checking extension type ... Package * this is package ‘MetaNeighbor’ version ‘1.19.0’ * checking package namespace information ... OK * checking package dependencies ... OK * checking if this is a source package ... OK * checking if there is a namespace ... OK * checking for hidden files and directories ... OK * checking for portable file names ... OK * checking for sufficient/correct file permissions ... OK * checking whether package ‘MetaNeighbor’ can be installed ... OK * checking installed package size ... OK * checking package directory ... OK * checking ‘build’ directory ... OK * checking DESCRIPTION meta-information ... OK * checking top-level files ... OK * checking for left-over files ... OK * checking index information ... OK * checking package subdirectories ... OK * checking R files for non-ASCII characters ... OK * checking R files for syntax errors ... OK * checking whether the package can be loaded ... OK * checking whether the package can be loaded with stated dependencies ... OK * checking whether the package can be unloaded cleanly ... OK * checking whether the namespace can be loaded with stated dependencies ... OK * checking whether the namespace can be unloaded cleanly ... OK * checking loading without being on the library search path ... OK * checking dependencies in R code ... OK * checking S3 generic/method consistency ... OK * checking replacement functions ... OK * checking foreign function calls ... OK * checking R code for possible problems ... NOTE MetaNeighbor : <anonymous>: no visible binding for global variable ‘cell_type’ ggPlotHeatmap: no visible binding for global variable ‘target_ct’ ggPlotHeatmap: no visible binding for global variable ‘ref_ct’ ggPlotHeatmap: no visible binding for global variable ‘auroc’ is_reciprocal_top_hit: no visible binding for global variable ‘auroc’ is_reciprocal_top_hit: no visible binding for global variable ‘ref_cell_type’ is_reciprocal_top_hit: no visible binding for global variable ‘target_cell_type’ is_reciprocal_top_hit: no visible binding for global variable ‘reciprocal_cell_type’ is_reciprocal_top_hit: no visible binding for global variable ‘is_reciprocal’ plotDotPlot: no visible binding for global variable ‘cluster’ plotDotPlot: no visible binding for global variable ‘gene’ plotDotPlot: no visible binding for global variable ‘cell_type’ plotDotPlot: no visible binding for global variable ‘average_expression’ plotDotPlot: no visible binding for global variable ‘percent_expressing’ plotMetaClusters: no visible global function definition for ‘order_sym_matrix’ topHitsByStudy: no visible binding for global variable ‘ref_cell_type’ topHitsByStudy: no visible binding for global variable ‘target_cell_type’ topHitsByStudy: no visible binding for global variable ‘ref_study’ topHitsByStudy: no visible binding for global variable ‘target_study’ topHitsByStudy: no visible binding for global variable ‘.’ topHitsByStudy: no visible binding for global variable ‘pair_id’ topHitsByStudy: no visible binding for global variable ‘is_reciprocal’ topHitsByStudy: no visible global function definition for ‘desc’ topHitsByStudy: no visible binding for global variable ‘Match_type’ variableGenes: no visible binding for global variable ‘gene’ variableGenes: no visible binding for global variable ‘is_hvg’ variableGenes: no visible binding for global variable ‘var_quant’ variableGenes: no visible binding for global variable ‘recurrence’ variableGenes: no visible global function definition for ‘desc’ variableGenes: no visible binding for global variable ‘score’ variable_genes_single_exp: no visible binding for global variable ‘bin_med’ variable_genes_single_exp: no visible binding for global variable ‘variance’ variable_genes_single_exp: no visible binding for global variable ‘var_quant’ Undefined global functions or variables: . Match_type auroc average_expression bin_med cell_type cluster desc gene is_hvg is_reciprocal order_sym_matrix pair_id percent_expressing reciprocal_cell_type recurrence ref_cell_type ref_ct ref_study score target_cell_type target_ct target_study var_quant variance * checking Rd files ... OK * checking Rd metadata ... OK * checking Rd cross-references ... OK * checking for missing documentation entries ... OK * checking for code/documentation mismatches ... OK * checking Rd \usage sections ... OK * checking Rd contents ... OK * checking for unstated dependencies in examples ... OK * checking contents of ‘data’ directory ... OK * checking data for non-ASCII characters ... OK * checking LazyData ... OK * checking data for ASCII and uncompressed saves ... OK * checking files in ‘vignettes’ ... OK * checking examples ... OK Examples with CPU (user + system) or elapsed time > 5s user system elapsed MetaNeighbor 19.412 0.512 19.925 neighborVoting 12.761 1.253 14.013 plotBPlot 12.998 0.423 13.422 * checking for unstated dependencies in ‘tests’ ... OK * checking tests ... Running ‘testthat.R’ OK * checking for unstated dependencies in vignettes ... OK * checking package vignettes in ‘inst/doc’ ... OK * checking running R code from vignettes ... ‘MetaNeighbor.Rmd’ using ‘UTF-8’... OK NONE * checking re-building of vignette outputs ... OK * checking PDF version of manual ... OK * DONE Status: 1 NOTE See ‘/home/biocbuild/bbs-3.17-bioc/meat/MetaNeighbor.Rcheck/00check.log’ for details.
MetaNeighbor.Rcheck/00install.out
############################################################################## ############################################################################## ### ### Running command: ### ### /home/biocbuild/bbs-3.17-bioc/R/bin/R CMD INSTALL MetaNeighbor ### ############################################################################## ############################################################################## * installing to library ‘/home/biocbuild/bbs-3.17-bioc/R/site-library’ * installing *source* package ‘MetaNeighbor’ ... ** using staged installation ** R ** data *** moving datasets to lazyload DB ** inst ** byte-compile and prepare package for lazy loading ** help *** installing help indices ** building package indices ** installing vignettes ** testing if installed package can be loaded from temporary location ** testing if installed package can be loaded from final location ** testing if installed package keeps a record of temporary installation path * DONE (MetaNeighbor)
MetaNeighbor.Rcheck/tests/testthat.Rout
R version 4.3.0 alpha (2023-04-03 r84154) Copyright (C) 2023 The R Foundation for Statistical Computing Platform: x86_64-pc-linux-gnu (64-bit) R is free software and comes with ABSOLUTELY NO WARRANTY. You are welcome to redistribute it under certain conditions. Type 'license()' or 'licence()' for distribution details. R is a collaborative project with many contributors. Type 'contributors()' for more information and 'citation()' on how to cite R or R packages in publications. Type 'demo()' for some demos, 'help()' for on-line help, or 'help.start()' for an HTML browser interface to help. Type 'q()' to quit R. > library(testthat) > library(MetaNeighbor) > > test_check("MetaNeighbor") [ FAIL 0 | WARN 0 | SKIP 0 | PASS 0 ] > > proc.time() user system elapsed 0.475 0.061 0.523
MetaNeighbor.Rcheck/MetaNeighbor-Ex.timings
name | user | system | elapsed | |
MetaNeighbor | 19.412 | 0.512 | 19.925 | |
MetaNeighborUS | 2.215 | 0.083 | 2.299 | |
neighborVoting | 12.761 | 1.253 | 14.013 | |
plotBPlot | 12.998 | 0.423 | 13.422 | |
plotHeatmap | 2.491 | 0.119 | 2.610 | |
plotHeatmapPretrained | 1.917 | 0.036 | 1.953 | |
plotUpset | 1.193 | 0.043 | 1.237 | |
topHits | 2.454 | 0.137 | 2.590 | |
topHitsByStudy | 2.104 | 0.048 | 2.151 | |
trainModel | 0.472 | 0.028 | 0.499 | |
variableGenes | 1.100 | 0.024 | 1.123 | |