Back to Multiple platform build/check report for BioC 3.17 |
|
This page was generated on 2023-04-12 10:55:32 -0400 (Wed, 12 Apr 2023).
Hostname | OS | Arch (*) | R version | Installed pkgs |
---|---|---|---|---|
nebbiolo1 | Linux (Ubuntu 22.04.1 LTS) | x86_64 | 4.3.0 alpha (2023-04-03 r84154) | 4547 |
nebbiolo2 | Linux (Ubuntu 20.04.5 LTS) | x86_64 | R Under development (unstable) (2023-02-14 r83833) -- "Unsuffered Consequences" | 4333 |
Click on any hostname to see more info about the system (e.g. compilers) (*) as reported by 'uname -p', except on Windows and Mac OS X |
To the developers/maintainers of the TBSignatureProfiler package: - Allow up to 24 hours (and sometimes 48 hours) for your latest push to git@git.bioconductor.org:packages/TBSignatureProfiler.git to reflect on this report. See Troubleshooting Build Report for more information. - Use the following Renviron settings to reproduce errors and warnings. Note: If "R CMD check" recently failed on the Linux builder over a missing dependency, add the missing dependency to "Suggests" in your DESCRIPTION file. See the Renviron.bioc for details. |
Package 2052/2207 | Hostname | OS / Arch | INSTALL | BUILD | CHECK | BUILD BIN | ||||||||
TBSignatureProfiler 1.11.3 (landing page) Aubrey R. Odom-Mabey
| nebbiolo1 | Linux (Ubuntu 22.04.1 LTS) / x86_64 | OK | OK | OK | |||||||||
nebbiolo2 | Linux (Ubuntu 20.04.5 LTS) / x86_64 | OK | OK | OK | ||||||||||
Package: TBSignatureProfiler |
Version: 1.11.3 |
Command: /home/biocbuild/bbs-3.17-bioc/R/bin/R CMD check --install=check:TBSignatureProfiler.install-out.txt --library=/home/biocbuild/bbs-3.17-bioc/R/site-library --timings TBSignatureProfiler_1.11.3.tar.gz |
StartedAt: 2023-04-12 00:03:40 -0400 (Wed, 12 Apr 2023) |
EndedAt: 2023-04-12 00:07:00 -0400 (Wed, 12 Apr 2023) |
EllapsedTime: 199.4 seconds |
RetCode: 0 |
Status: OK |
CheckDir: TBSignatureProfiler.Rcheck |
Warnings: 0 |
############################################################################## ############################################################################## ### ### Running command: ### ### /home/biocbuild/bbs-3.17-bioc/R/bin/R CMD check --install=check:TBSignatureProfiler.install-out.txt --library=/home/biocbuild/bbs-3.17-bioc/R/site-library --timings TBSignatureProfiler_1.11.3.tar.gz ### ############################################################################## ############################################################################## * using log directory ‘/home/biocbuild/bbs-3.17-bioc/meat/TBSignatureProfiler.Rcheck’ * using R version 4.3.0 alpha (2023-04-03 r84154) * using platform: x86_64-pc-linux-gnu (64-bit) * R was compiled by gcc (Ubuntu 11.3.0-1ubuntu1~22.04) 11.3.0 GNU Fortran (Ubuntu 11.3.0-1ubuntu1~22.04) 11.3.0 * running under: Ubuntu 22.04.2 LTS * using session charset: UTF-8 * checking for file ‘TBSignatureProfiler/DESCRIPTION’ ... OK * this is package ‘TBSignatureProfiler’ version ‘1.11.3’ * package encoding: UTF-8 * checking package namespace information ... OK * checking package dependencies ... OK * checking if this is a source package ... OK * checking if there is a namespace ... OK * checking for hidden files and directories ... OK * checking for portable file names ... OK * checking for sufficient/correct file permissions ... OK * checking whether package ‘TBSignatureProfiler’ can be installed ... OK * checking installed package size ... OK * checking package directory ... OK * checking ‘build’ directory ... OK * checking DESCRIPTION meta-information ... OK * checking top-level files ... OK * checking for left-over files ... OK * checking index information ... OK * checking package subdirectories ... OK * checking R files for non-ASCII characters ... OK * checking R files for syntax errors ... OK * checking whether the package can be loaded ... OK * checking whether the package can be loaded with stated dependencies ... OK * checking whether the package can be unloaded cleanly ... OK * checking whether the namespace can be loaded with stated dependencies ... OK * checking whether the namespace can be unloaded cleanly ... OK * checking loading without being on the library search path ... OK * checking dependencies in R code ... OK * checking S3 generic/method consistency ... OK * checking replacement functions ... OK * checking foreign function calls ... OK * checking R code for possible problems ... OK * checking Rd files ... OK * checking Rd metadata ... OK * checking Rd cross-references ... OK * checking for missing documentation entries ... OK * checking for code/documentation mismatches ... OK * checking Rd \usage sections ... OK * checking Rd contents ... OK * checking for unstated dependencies in examples ... OK * checking contents of ‘data’ directory ... OK * checking data for non-ASCII characters ... OK * checking LazyData ... OK * checking data for ASCII and uncompressed saves ... OK * checking files in ‘vignettes’ ... OK * checking examples ... OK Examples with CPU (user + system) or elapsed time > 5s user system elapsed bootstrapAUC 9.786 0.529 10.317 signatureROCplot_CI 5.201 0.075 5.277 * checking for unstated dependencies in ‘tests’ ... OK * checking tests ... Running ‘packagecoverage.R’ Running ‘spelling.R’ Running ‘testthat.R’ OK * checking for unstated dependencies in vignettes ... OK * checking package vignettes in ‘inst/doc’ ... OK * checking running R code from vignettes ... ‘tbspVignette.Rmd’ using ‘UTF-8’... OK NONE * checking re-building of vignette outputs ... OK * checking PDF version of manual ... OK * DONE Status: OK
TBSignatureProfiler.Rcheck/00install.out
############################################################################## ############################################################################## ### ### Running command: ### ### /home/biocbuild/bbs-3.17-bioc/R/bin/R CMD INSTALL TBSignatureProfiler ### ############################################################################## ############################################################################## * installing to library ‘/home/biocbuild/bbs-3.17-bioc/R/site-library’ * installing *source* package ‘TBSignatureProfiler’ ... ** using staged installation ** R ** data *** moving datasets to lazyload DB ** inst ** byte-compile and prepare package for lazy loading ** help *** installing help indices ** building package indices ** installing vignettes ** testing if installed package can be loaded from temporary location ** testing if installed package can be loaded from final location ** testing if installed package keeps a record of temporary installation path * DONE (TBSignatureProfiler)
TBSignatureProfiler.Rcheck/tests/packagecoverage.Rout
R version 4.3.0 alpha (2023-04-03 r84154) Copyright (C) 2023 The R Foundation for Statistical Computing Platform: x86_64-pc-linux-gnu (64-bit) R is free software and comes with ABSOLUTELY NO WARRANTY. You are welcome to redistribute it under certain conditions. Type 'license()' or 'licence()' for distribution details. R is a collaborative project with many contributors. Type 'contributors()' for more information and 'citation()' on how to cite R or R packages in publications. Type 'demo()' for some demos, 'help()' for on-line help, or 'help.start()' for an HTML browser interface to help. Type 'q()' to quit R. > # Coverage Script > # Run tests and generate Code Coverage Report > > # Look at a specific script --------------------------------------------------- > #test_for_me <- function(codefile, testfile) { > # test_file(testfile) > # res <- covr::file_coverage(codefile, testfile) > # print(res) > # covr::report(res) > #} > > #test_for_me("R/evaluate.R", "tests/testthat/test-evaluate.R") > # Look at whole package ------------------------------------------------------- > # Gets percent coverage for entire package, by script > #covr::package_coverage() > # > # Report with gui (probably the best here) > #covr::report() > > proc.time() user system elapsed 0.195 0.041 0.221
TBSignatureProfiler.Rcheck/tests/spelling.Rout
R version 4.3.0 alpha (2023-04-03 r84154) Copyright (C) 2023 The R Foundation for Statistical Computing Platform: x86_64-pc-linux-gnu (64-bit) R is free software and comes with ABSOLUTELY NO WARRANTY. You are welcome to redistribute it under certain conditions. Type 'license()' or 'licence()' for distribution details. R is a collaborative project with many contributors. Type 'contributors()' for more information and 'citation()' on how to cite R or R packages in publications. Type 'demo()' for some demos, 'help()' for on-line help, or 'help.start()' for an HTML browser interface to help. Type 'q()' to quit R. > if (requireNamespace("spelling", quietly = TRUE)) + spelling::spell_check_test(vignettes = TRUE, error = FALSE, + skip_on_cran = TRUE) NULL > > proc.time() user system elapsed 0.157 0.037 0.182
TBSignatureProfiler.Rcheck/tests/testthat.Rout
R version 4.3.0 alpha (2023-04-03 r84154) Copyright (C) 2023 The R Foundation for Statistical Computing Platform: x86_64-pc-linux-gnu (64-bit) R is free software and comes with ABSOLUTELY NO WARRANTY. You are welcome to redistribute it under certain conditions. Type 'license()' or 'licence()' for distribution details. R is a collaborative project with many contributors. Type 'contributors()' for more information and 'citation()' on how to cite R or R packages in publications. Type 'demo()' for some demos, 'help()' for on-line help, or 'help.start()' for an HTML browser interface to help. Type 'q()' to quit R. > library(testthat) > library(TBSignatureProfiler) > > test_check("TBSignatureProfiler") | | | 0% | |======================================================================| 100% | | | 0% | |======================================================================| 100% | | | 0% | |======================================================================| 100% | | | 0% | |======================================================================| 100% | | | 0% | |======================================================================| 100% | | | 0% | |======================================================================| 100% | | | 0% | |======================================================================| 100% Estimating ssGSEA scores for 1 gene sets. [1] "Calculating ranks..." [1] "Calculating absolute values from ranks..." | | | 0% | |======= | 10% | |============== | 20% | |===================== | 30% | |============================ | 40% | |=================================== | 50% | |========================================== | 60% | |================================================= | 70% | |======================================================== | 80% | |=============================================================== | 90% | |======================================================================| 100% [1] "Normalizing..." Estimating ssGSEA scores for 1 gene sets. [1] "Calculating ranks..." [1] "Calculating absolute values from ranks..." | | | 0% | |======= | 10% | |============== | 20% | |===================== | 30% | |============================ | 40% | |=================================== | 50% | |========================================== | 60% | |================================================= | 70% | |======================================================== | 80% | |=============================================================== | 90% | |======================================================================| 100% [1] "Normalizing..." | | | 0% | |======================================================================| 100% | | | 0% | |======================================================================| 100% | | | 0% | |======================================================================| 100% | | | 0% | |======================================================================| 100% | | | 0% | |======================================================================| 100% | | | 0% | |======================================================================| 100% | | | 0% | |======================================================================| 100% | | | 0% | |======================================================================| 100% Estimating ssGSEA scores for 1 gene sets. [1] "Calculating ranks..." [1] "Calculating absolute values from ranks..." | | | 0% | |======= | 10% | |============== | 20% | |===================== | 30% | |============================ | 40% | |=================================== | 50% | |========================================== | 60% | |================================================= | 70% | |======================================================== | 80% | |=============================================================== | 90% | |======================================================================| 100% [1] "Normalizing..." Estimating ssGSEA scores for 1 gene sets. [1] "Calculating ranks..." [1] "Calculating absolute values from ranks..." | | | 0% | |======= | 10% | |============== | 20% | |===================== | 30% | |============================ | 40% | |=================================== | 50% | |========================================== | 60% | |================================================= | 70% | |======================================================== | 80% | |=============================================================== | 90% | |======================================================================| 100% [1] "Normalizing..." Estimating GSVA scores for 1 gene sets. Estimating ECDFs with Gaussian kernels | | | 0% | |======================================================================| 100% Estimating ssGSEA scores for 1 gene sets. [1] "Calculating ranks..." [1] "Calculating absolute values from ranks..." | | | 0% | |======= | 10% | |============== | 20% | |===================== | 30% | |============================ | 40% | |=================================== | 50% | |========================================== | 60% | |================================================= | 70% | |======================================================== | 80% | |=============================================================== | 90% | |======================================================================| 100% [1] "Normalizing..." ================================================================================ Estimating PLAGE scores for 1 gene sets. | | | 0% | |======================================================================| 100% Estimating combined z-scores for 1 gene sets. | | | 0% | |======= | 10% | |============== | 20% | |===================== | 30% | |============================ | 40% | |=================================== | 50% | |========================================== | 60% | |================================================= | 70% | |======================================================== | 80% | |=============================================================== | 90% | |======================================================================| 100% Estimating GSVA scores for 1 gene sets. Estimating ECDFs with Gaussian kernels | | | 0% | |======================================================================| 100% Estimating GSVA scores for 1 gene sets. Estimating ECDFs with Gaussian kernels | | | 0% | |======================================================================| 100% Estimating GSVA scores for 1 gene sets. Estimating ECDFs with Gaussian kernels | | | 0% | |======================================================================| 100% Estimating GSVA scores for 1 gene sets. Estimating ECDFs with Gaussian kernels | | | 0% | |======================================================================| 100% Estimating ssGSEA scores for 1 gene sets. [1] "Calculating ranks..." [1] "Calculating absolute values from ranks..." | | | 0% | |======= | 10% | |============== | 20% | |===================== | 30% | |============================ | 40% | |=================================== | 50% | |========================================== | 60% | |================================================= | 70% | |======================================================== | 80% | |=============================================================== | 90% | |======================================================================| 100% [1] "Normalizing..." Estimating combined z-scores for 1 gene sets. | | | 0% | |======= | 10% | |============== | 20% | |===================== | 30% | |============================ | 40% | |=================================== | 50% | |========================================== | 60% | |================================================= | 70% | |======================================================== | 80% | |=============================================================== | 90% | |======================================================================| 100% Estimating GSVA scores for 1 gene sets. Estimating ECDFs with Gaussian kernels | | | 0% | |======================================================================| 100% Estimating ssGSEA scores for 1 gene sets. [1] "Calculating ranks..." [1] "Calculating absolute values from ranks..." | | | 0% | |======= | 10% | |============== | 20% | |===================== | 30% | |============================ | 40% | |=================================== | 50% | |========================================== | 60% | |================================================= | 70% | |======================================================== | 80% | |=============================================================== | 90% | |======================================================================| 100% [1] "Normalizing..." Estimating combined z-scores for 1 gene sets. | | | 0% | |======= | 10% | |============== | 20% | |===================== | 30% | |============================ | 40% | |=================================== | 50% | |========================================== | 60% | |================================================= | 70% | |======================================================== | 80% | |=============================================================== | 90% | |======================================================================| 100% Estimating GSVA scores for 1 gene sets. Estimating ECDFs with Gaussian kernels | | | 0% | |======================================================================| 100% Estimating GSVA scores for 1 gene sets. Estimating ECDFs with Gaussian kernels | | | 0% | |======================================================================| 100% Estimating ssGSEA scores for 1 gene sets. [1] "Calculating ranks..." [1] "Calculating absolute values from ranks..." | | | 0% | |======= | 10% | |============== | 20% | |===================== | 30% | |============================ | 40% | |=================================== | 50% | |========================================== | 60% | |================================================= | 70% | |======================================================== | 80% | |=============================================================== | 90% | |======================================================================| 100% [1] "Normalizing..." ================================================================================ Estimating PLAGE scores for 1 gene sets. | | | 0% | |======================================================================| 100% Estimating combined z-scores for 1 gene sets. | | | 0% | |======= | 10% | |============== | 20% | |===================== | 30% | |============================ | 40% | |=================================== | 50% | |========================================== | 60% | |================================================= | 70% | |======================================================== | 80% | |=============================================================== | 90% | |======================================================================| 100% Estimating GSVA scores for 1 gene sets. Estimating ECDFs with Gaussian kernels | | | 0% | |======================================================================| 100% Estimating GSVA scores for 1 gene sets. Estimating ECDFs with Gaussian kernels | | | 0% | |======================================================================| 100% Estimating GSVA scores for 1 gene sets. Estimating ECDFs with Gaussian kernels | | | 0% | |======================================================================| 100% Estimating GSVA scores for 1 gene sets. Estimating ECDFs with Gaussian kernels | | | 0% | |======================================================================| 100% Estimating ssGSEA scores for 1 gene sets. [1] "Calculating ranks..." [1] "Calculating absolute values from ranks..." | | | 0% | |======= | 10% | |============== | 20% | |===================== | 30% | |============================ | 40% | |=================================== | 50% | |========================================== | 60% | |================================================= | 70% | |======================================================== | 80% | |=============================================================== | 90% | |======================================================================| 100% [1] "Normalizing..." Estimating GSVA scores for 1 gene sets. Estimating ECDFs with Gaussian kernels | | | 0% | |======================================================================| 100% Estimating ssGSEA scores for 1 gene sets. [1] "Calculating ranks..." [1] "Calculating absolute values from ranks..." | | | 0% | |======= | 10% | |============== | 20% | |===================== | 30% | |============================ | 40% | |=================================== | 50% | |========================================== | 60% | |================================================= | 70% | |======================================================== | 80% | |=============================================================== | 90% | |======================================================================| 100% [1] "Normalizing..." ================================================================================ Estimating GSVA scores for 1 gene sets. Estimating ECDFs with Gaussian kernels | | | 0% | |======================================================================| 100% Estimating GSVA scores for 1 gene sets. Estimating ECDFs with Gaussian kernels | | | 0% | |======================================================================| 100% Estimating ssGSEA scores for 1 gene sets. [1] "Calculating ranks..." [1] "Calculating absolute values from ranks..." | | | 0% | |======= | 10% | |============== | 20% | |===================== | 30% | |============================ | 40% | |=================================== | 50% | |========================================== | 60% | |================================================= | 70% | |======================================================== | 80% | |=============================================================== | 90% | |======================================================================| 100% [1] "Normalizing..." Estimating ssGSEA scores for 1 gene sets. [1] "Calculating ranks..." [1] "Calculating absolute values from ranks..." | | | 0% | |======= | 10% | |============== | 20% | |===================== | 30% | |============================ | 40% | |=================================== | 50% | |========================================== | 60% | |================================================= | 70% | |======================================================== | 80% | |=============================================================== | 90% | |======================================================================| 100% [1] "Normalizing..." ================================================================================ ================================================================================ Estimating PLAGE scores for 1 gene sets. | | | 0% | |======================================================================| 100% Estimating PLAGE scores for 1 gene sets. | | | 0% | |======================================================================| 100% Estimating combined z-scores for 1 gene sets. | | | 0% | |======= | 10% | |============== | 20% | |===================== | 30% | |============================ | 40% | |=================================== | 50% | |========================================== | 60% | |================================================= | 70% | |======================================================== | 80% | |=============================================================== | 90% | |======================================================================| 100% Estimating combined z-scores for 1 gene sets. | | | 0% | |======= | 10% | |============== | 20% | |===================== | 30% | |============================ | 40% | |=================================== | 50% | |========================================== | 60% | |================================================= | 70% | |======================================================== | 80% | |=============================================================== | 90% | |======================================================================| 100% Estimating GSVA scores for 1 gene sets. Estimating ECDFs with Gaussian kernels | | | 0% | |======================================================================| 100% Estimating combined z-scores for 1 gene sets. | | | 0% | |======= | 10% | |============== | 20% | |===================== | 30% | |============================ | 40% | |=================================== | 50% | |========================================== | 60% | |================================================= | 70% | |======================================================== | 80% | |=============================================================== | 90% | |======================================================================| 100% Estimating GSVA scores for 1 gene sets. Estimating ECDFs with Gaussian kernels | | | 0% | |======================================================================| 100% Estimating combined z-scores for 1 gene sets. | | | 0% | |======= | 10% | |============== | 20% | |===================== | 30% | |============================ | 40% | |=================================== | 50% | |========================================== | 60% | |================================================= | 70% | |======================================================== | 80% | |=============================================================== | 90% | |======================================================================| 100% Estimating GSVA scores for 1 gene sets. Estimating ECDFs with Gaussian kernels | | | 0% | |======================================================================| 100% Estimating GSVA scores for 1 gene sets. Estimating ECDFs with Gaussian kernels | | | 0% | |======================================================================| 100% Estimating GSVA scores for 1 gene sets. Estimating ECDFs with Gaussian kernels | | | 0% | |======================================================================| 100% Estimating GSVA scores for 1 gene sets. Estimating ECDFs with Gaussian kernels | | | 0% | |======================================================================| 100% [ FAIL 0 | WARN 3 | SKIP 0 | PASS 141 ] [ FAIL 0 | WARN 3 | SKIP 0 | PASS 141 ] > > proc.time() user system elapsed 58.252 1.847 60.091
TBSignatureProfiler.Rcheck/TBSignatureProfiler-Ex.timings
name | user | system | elapsed | |
COVIDsignatures | 0.019 | 0.001 | 0.019 | |
OriginalTrainingData | 0.001 | 0.000 | 0.000 | |
SignatureQuantitative | 3.479 | 0.211 | 3.692 | |
TBSPapp | 0 | 0 | 0 | |
TB_hiv | 0.001 | 0.000 | 0.001 | |
TB_indian | 0.001 | 0.000 | 0.001 | |
TBcommon | 0.001 | 0.000 | 0.001 | |
TBsignatures | 0.000 | 0.000 | 0.001 | |
TBsignaturesSplit | 0.001 | 0.000 | 0.001 | |
addTBsignature | 0.010 | 0.000 | 0.009 | |
bootstrapAUC | 9.786 | 0.529 | 10.317 | |
common_sigAnnotData | 0.001 | 0.000 | 0.001 | |
compareAlgs | 2.540 | 0.196 | 2.737 | |
compareBoxplots | 0.903 | 0.044 | 0.947 | |
deseq2_norm_rle | 0.221 | 0.003 | 0.225 | |
distinctColors | 0.001 | 0.000 | 0.001 | |
evaluateOriginalModel | 0.337 | 0.004 | 0.341 | |
mkAssay | 4.077 | 0.164 | 4.241 | |
plotQuantitative | 1.698 | 0.083 | 1.783 | |
runTBsigProfiler | 0.275 | 0.032 | 0.306 | |
sigAnnotData | 0.001 | 0.000 | 0.001 | |
signatureBoxplot | 0.824 | 0.012 | 0.837 | |
signatureGeneHeatmap | 3.819 | 0.031 | 3.851 | |
signatureHeatmap | 0.857 | 0.021 | 0.877 | |
signatureROCplot | 0.782 | 0.008 | 0.790 | |
signatureROCplot_CI | 5.201 | 0.075 | 5.277 | |
tableAUC | 0.620 | 0.045 | 0.664 | |