Back to Multiple platform build/check report for BioC 3.17 |
|
This page was generated on 2023-04-12 10:55:42 -0400 (Wed, 12 Apr 2023).
Hostname | OS | Arch (*) | R version | Installed pkgs |
---|---|---|---|---|
nebbiolo1 | Linux (Ubuntu 22.04.1 LTS) | x86_64 | 4.3.0 alpha (2023-04-03 r84154) | 4547 |
nebbiolo2 | Linux (Ubuntu 20.04.5 LTS) | x86_64 | R Under development (unstable) (2023-02-14 r83833) -- "Unsuffered Consequences" | 4333 |
Click on any hostname to see more info about the system (e.g. compilers) (*) as reported by 'uname -p', except on Windows and Mac OS X |
To the developers/maintainers of the TitanCNA package: - Allow up to 24 hours (and sometimes 48 hours) for your latest push to git@git.bioconductor.org:packages/TitanCNA.git to reflect on this report. See Troubleshooting Build Report for more information. - Use the following Renviron settings to reproduce errors and warnings. Note: If "R CMD check" recently failed on the Linux builder over a missing dependency, add the missing dependency to "Suggests" in your DESCRIPTION file. See the Renviron.bioc for details. |
Package 2082/2207 | Hostname | OS / Arch | INSTALL | BUILD | CHECK | BUILD BIN | ||||||||
TitanCNA 1.37.0 (landing page) Gavin Ha
| nebbiolo1 | Linux (Ubuntu 22.04.1 LTS) / x86_64 | OK | OK | WARNINGS | |||||||||
nebbiolo2 | Linux (Ubuntu 20.04.5 LTS) / x86_64 | OK | OK | WARNINGS | ||||||||||
Package: TitanCNA |
Version: 1.37.0 |
Command: /home/biocbuild/bbs-3.17-bioc/R/bin/R CMD INSTALL TitanCNA |
StartedAt: 2023-04-12 01:51:06 -0400 (Wed, 12 Apr 2023) |
EndedAt: 2023-04-12 01:52:11 -0400 (Wed, 12 Apr 2023) |
EllapsedTime: 64.5 seconds |
RetCode: 0 |
Status: OK |
############################################################################## ############################################################################## ### ### Running command: ### ### /home/biocbuild/bbs-3.17-bioc/R/bin/R CMD INSTALL TitanCNA ### ############################################################################## ############################################################################## * installing to library ‘/home/biocbuild/bbs-3.17-bioc/R/site-library’ * installing *source* package ‘TitanCNA’ ... ** using staged installation ** libs using C compiler: ‘gcc (Ubuntu 9.4.0-1ubuntu1~20.04.1) 9.4.0’ gcc -I"/home/biocbuild/bbs-3.17-bioc/R/include" -DNDEBUG -I/usr/local/include -fpic -g -O2 -Wall -c fwd_backC_clonalCN.c -o fwd_backC_clonalCN.o gcc -I"/home/biocbuild/bbs-3.17-bioc/R/include" -DNDEBUG -I/usr/local/include -fpic -g -O2 -Wall -c getPositionOverlapC.c -o getPositionOverlapC.o gcc -I"/home/biocbuild/bbs-3.17-bioc/R/include" -DNDEBUG -I/usr/local/include -fpic -g -O2 -Wall -c register.c -o register.o gcc -I"/home/biocbuild/bbs-3.17-bioc/R/include" -DNDEBUG -I/usr/local/include -fpic -g -O2 -Wall -c viterbiC_clonalCN.c -o viterbiC_clonalCN.o gcc -shared -L/home/biocbuild/bbs-3.17-bioc/R/lib -L/usr/local/lib -o TitanCNA.so fwd_backC_clonalCN.o getPositionOverlapC.o register.o viterbiC_clonalCN.o -L/home/biocbuild/bbs-3.17-bioc/R/lib -lR installing to /home/biocbuild/bbs-3.17-bioc/R/site-library/00LOCK-TitanCNA/00new/TitanCNA/libs ** R ** data ** inst ** byte-compile and prepare package for lazy loading Warning: replacing previous import ‘GenomicRanges::shift’ by ‘data.table::shift’ when loading ‘TitanCNA’ Warning: replacing previous import ‘data.table::first’ by ‘dplyr::first’ when loading ‘TitanCNA’ Warning: replacing previous import ‘IRanges::desc’ by ‘dplyr::desc’ when loading ‘TitanCNA’ Warning: replacing previous import ‘IRanges::slice’ by ‘dplyr::slice’ when loading ‘TitanCNA’ Warning: replacing previous import ‘GenomeInfoDb::intersect’ by ‘dplyr::intersect’ when loading ‘TitanCNA’ Warning: replacing previous import ‘data.table::last’ by ‘dplyr::last’ when loading ‘TitanCNA’ Warning: replacing previous import ‘GenomicRanges::union’ by ‘dplyr::union’ when loading ‘TitanCNA’ Warning: replacing previous import ‘data.table::between’ by ‘dplyr::between’ when loading ‘TitanCNA’ Warning: replacing previous import ‘BiocGenerics::combine’ by ‘dplyr::combine’ when loading ‘TitanCNA’ Warning: replacing previous import ‘IRanges::collapse’ by ‘dplyr::collapse’ when loading ‘TitanCNA’ Warning: replacing previous import ‘GenomicRanges::setdiff’ by ‘dplyr::setdiff’ when loading ‘TitanCNA’ Warning: replacing previous import ‘dplyr::select’ by ‘VariantAnnotation::select’ when loading ‘TitanCNA’ ** help *** installing help indices ** building package indices ** installing vignettes ** testing if installed package can be loaded from temporary location Warning: replacing previous import ‘GenomicRanges::shift’ by ‘data.table::shift’ when loading ‘TitanCNA’ Warning: replacing previous import ‘data.table::first’ by ‘dplyr::first’ when loading ‘TitanCNA’ Warning: replacing previous import ‘IRanges::desc’ by ‘dplyr::desc’ when loading ‘TitanCNA’ Warning: replacing previous import ‘IRanges::slice’ by ‘dplyr::slice’ when loading ‘TitanCNA’ Warning: replacing previous import ‘GenomeInfoDb::intersect’ by ‘dplyr::intersect’ when loading ‘TitanCNA’ Warning: replacing previous import ‘data.table::last’ by ‘dplyr::last’ when loading ‘TitanCNA’ Warning: replacing previous import ‘GenomicRanges::union’ by ‘dplyr::union’ when loading ‘TitanCNA’ Warning: replacing previous import ‘data.table::between’ by ‘dplyr::between’ when loading ‘TitanCNA’ Warning: replacing previous import ‘BiocGenerics::combine’ by ‘dplyr::combine’ when loading ‘TitanCNA’ Warning: replacing previous import ‘IRanges::collapse’ by ‘dplyr::collapse’ when loading ‘TitanCNA’ Warning: replacing previous import ‘GenomicRanges::setdiff’ by ‘dplyr::setdiff’ when loading ‘TitanCNA’ Warning: replacing previous import ‘dplyr::select’ by ‘VariantAnnotation::select’ when loading ‘TitanCNA’ ** checking absolute paths in shared objects and dynamic libraries ** testing if installed package can be loaded from final location Warning: replacing previous import ‘GenomicRanges::shift’ by ‘data.table::shift’ when loading ‘TitanCNA’ Warning: replacing previous import ‘data.table::first’ by ‘dplyr::first’ when loading ‘TitanCNA’ Warning: replacing previous import ‘IRanges::desc’ by ‘dplyr::desc’ when loading ‘TitanCNA’ Warning: replacing previous import ‘IRanges::slice’ by ‘dplyr::slice’ when loading ‘TitanCNA’ Warning: replacing previous import ‘GenomeInfoDb::intersect’ by ‘dplyr::intersect’ when loading ‘TitanCNA’ Warning: replacing previous import ‘data.table::last’ by ‘dplyr::last’ when loading ‘TitanCNA’ Warning: replacing previous import ‘GenomicRanges::union’ by ‘dplyr::union’ when loading ‘TitanCNA’ Warning: replacing previous import ‘data.table::between’ by ‘dplyr::between’ when loading ‘TitanCNA’ Warning: replacing previous import ‘BiocGenerics::combine’ by ‘dplyr::combine’ when loading ‘TitanCNA’ Warning: replacing previous import ‘IRanges::collapse’ by ‘dplyr::collapse’ when loading ‘TitanCNA’ Warning: replacing previous import ‘GenomicRanges::setdiff’ by ‘dplyr::setdiff’ when loading ‘TitanCNA’ Warning: replacing previous import ‘dplyr::select’ by ‘VariantAnnotation::select’ when loading ‘TitanCNA’ ** testing if installed package keeps a record of temporary installation path * DONE (TitanCNA)