Back to Multiple platform build/check report for BioC 3.17 |
|
This page was generated on 2023-04-12 10:55:34 -0400 (Wed, 12 Apr 2023).
Hostname | OS | Arch (*) | R version | Installed pkgs |
---|---|---|---|---|
nebbiolo1 | Linux (Ubuntu 22.04.1 LTS) | x86_64 | 4.3.0 alpha (2023-04-03 r84154) | 4547 |
nebbiolo2 | Linux (Ubuntu 20.04.5 LTS) | x86_64 | R Under development (unstable) (2023-02-14 r83833) -- "Unsuffered Consequences" | 4333 |
Click on any hostname to see more info about the system (e.g. compilers) (*) as reported by 'uname -p', except on Windows and Mac OS X |
To the developers/maintainers of the cellbaseR package: - Allow up to 24 hours (and sometimes 48 hours) for your latest push to git@git.bioconductor.org:packages/cellbaseR.git to reflect on this report. See Troubleshooting Build Report for more information. - Use the following Renviron settings to reproduce errors and warnings. Note: If "R CMD check" recently failed on the Linux builder over a missing dependency, add the missing dependency to "Suggests" in your DESCRIPTION file. See the Renviron.bioc for details. |
Package 286/2207 | Hostname | OS / Arch | INSTALL | BUILD | CHECK | BUILD BIN | ||||||||
cellbaseR 1.23.0 (landing page) Mohammed OE Abdallah
| nebbiolo1 | Linux (Ubuntu 22.04.1 LTS) / x86_64 | OK | OK | OK | |||||||||
nebbiolo2 | Linux (Ubuntu 20.04.5 LTS) / x86_64 | OK | OK | OK | ||||||||||
Package: cellbaseR |
Version: 1.23.0 |
Command: /home/biocbuild/bbs-3.17-bioc/R/bin/R CMD check --install=check:cellbaseR.install-out.txt --library=/home/biocbuild/bbs-3.17-bioc/R/site-library --timings cellbaseR_1.23.0.tar.gz |
StartedAt: 2023-04-12 05:11:49 -0400 (Wed, 12 Apr 2023) |
EndedAt: 2023-04-12 05:14:30 -0400 (Wed, 12 Apr 2023) |
EllapsedTime: 161.4 seconds |
RetCode: 0 |
Status: OK |
CheckDir: cellbaseR.Rcheck |
Warnings: 0 |
############################################################################## ############################################################################## ### ### Running command: ### ### /home/biocbuild/bbs-3.17-bioc/R/bin/R CMD check --install=check:cellbaseR.install-out.txt --library=/home/biocbuild/bbs-3.17-bioc/R/site-library --timings cellbaseR_1.23.0.tar.gz ### ############################################################################## ############################################################################## * using log directory ‘/home/biocbuild/bbs-3.17-bioc/meat/cellbaseR.Rcheck’ * using R Under development (unstable) (2023-02-14 r83833) * using platform: x86_64-pc-linux-gnu (64-bit) * R was compiled by gcc (Ubuntu 9.4.0-1ubuntu1~20.04.1) 9.4.0 GNU Fortran (Ubuntu 9.4.0-1ubuntu1~20.04.1) 9.4.0 * running under: Ubuntu 20.04.6 LTS * using session charset: UTF-8 * checking for file ‘cellbaseR/DESCRIPTION’ ... OK * checking extension type ... Package * this is package ‘cellbaseR’ version ‘1.23.0’ * checking package namespace information ... OK * checking package dependencies ... OK * checking if this is a source package ... OK * checking if there is a namespace ... OK * checking for hidden files and directories ... OK * checking for portable file names ... OK * checking for sufficient/correct file permissions ... OK * checking whether package ‘cellbaseR’ can be installed ... OK * checking installed package size ... OK * checking package directory ... OK * checking ‘build’ directory ... OK * checking DESCRIPTION meta-information ... OK * checking top-level files ... OK * checking for left-over files ... OK * checking index information ... OK * checking package subdirectories ... OK * checking R files for non-ASCII characters ... OK * checking R files for syntax errors ... OK * checking whether the package can be loaded ... OK * checking whether the package can be loaded with stated dependencies ... OK * checking whether the package can be unloaded cleanly ... OK * checking whether the namespace can be loaded with stated dependencies ... OK * checking whether the namespace can be unloaded cleanly ... OK * checking loading without being on the library search path ... OK * checking dependencies in R code ... OK * checking S3 generic/method consistency ... OK * checking replacement functions ... OK * checking foreign function calls ... OK * checking R code for possible problems ... OK * checking Rd files ... OK * checking Rd metadata ... OK * checking Rd cross-references ... OK * checking for missing documentation entries ... OK * checking for code/documentation mismatches ... OK * checking Rd \usage sections ... OK * checking Rd contents ... OK * checking for unstated dependencies in examples ... OK * checking files in ‘vignettes’ ... OK * checking examples ... OK Examples with CPU (user + system) or elapsed time > 5s user system elapsed AnnotateVcf-CellBaseR-method 4.781 0.76 9.243 * checking for unstated dependencies in vignettes ... OK * checking package vignettes in ‘inst/doc’ ... OK * checking running R code from vignettes ... ‘cellbaseR.Rmd’ using ‘UTF-8’... OK NONE * checking re-building of vignette outputs ... OK * checking PDF version of manual ... OK * DONE Status: OK
cellbaseR.Rcheck/00install.out
############################################################################## ############################################################################## ### ### Running command: ### ### /home/biocbuild/bbs-3.17-bioc/R/bin/R CMD INSTALL cellbaseR ### ############################################################################## ############################################################################## * installing to library ‘/home/biocbuild/bbs-3.17-bioc/R/site-library’ * installing *source* package ‘cellbaseR’ ... ** using staged installation ** R ** inst ** byte-compile and prepare package for lazy loading ** help *** installing help indices ** building package indices ** installing vignettes ** testing if installed package can be loaded from temporary location ** testing if installed package can be loaded from final location ** testing if installed package keeps a record of temporary installation path * DONE (cellbaseR)
cellbaseR.Rcheck/cellbaseR-Ex.timings
name | user | system | elapsed | |
AnnotateVcf-CellBaseR-method | 4.781 | 0.760 | 9.243 | |
CellBaseParam | 0.002 | 0.000 | 0.002 | |
CellBaseR | 0.031 | 0.004 | 0.258 | |
createGeneModel | 0.125 | 0.008 | 0.413 | |
getCaddScores | 0.048 | 0.000 | 0.283 | |
getCellBase-CellBaseR-method | 0.055 | 0.004 | 0.299 | |
getCellBaseResourceHelp | 0.199 | 0.028 | 2.649 | |
getChromosomeInfo-CellBaseR-method | 0.050 | 0.008 | 0.392 | |
getClinical-CellBaseR-method | 0.491 | 0.028 | 0.989 | |
getClinicalByRegion | 0.925 | 0.060 | 1.916 | |
getConservationByRegion | 0.087 | 0.000 | 0.389 | |
getGene-CellBaseR-method | 0.108 | 0.000 | 0.391 | |
getGeneInfo | 0.064 | 0.004 | 0.309 | |
getMeta-CellBaseR-method | 0.062 | 0.004 | 0.293 | |
getProtein-CellBaseR-method | 0.109 | 0.000 | 0.351 | |
getProteinInfo | 0.093 | 0.000 | 0.335 | |
getRegion-CellBaseR-method | 0.117 | 0.004 | 0.412 | |
getRegulatoryByRegion | 0.121 | 0.000 | 0.541 | |
getSnp-CellBaseR-method | 0.061 | 0.000 | 0.296 | |
getSnpByGene | 0.079 | 0.004 | 0.331 | |
getTf-CellBaseR-method | 0.061 | 0.000 | 2.542 | |
getTfbsByRegion | 0.078 | 0.004 | 0.437 | |
getTranscript-CellBaseR-method | 0.064 | 0.000 | 0.306 | |
getTranscriptByGene | 0.057 | 0.000 | 0.294 | |
getVariant-CellBaseR-method | 0.141 | 0.003 | 0.457 | |
getVariantAnnotation | 0.100 | 0.008 | 0.420 | |
getXref-CellBaseR-method | 0.054 | 0.000 | 0.288 | |