Back to Multiple platform build/check report for BioC 3.17 |
|
This page was generated on 2023-04-12 10:55:23 -0400 (Wed, 12 Apr 2023).
Hostname | OS | Arch (*) | R version | Installed pkgs |
---|---|---|---|---|
nebbiolo1 | Linux (Ubuntu 22.04.1 LTS) | x86_64 | 4.3.0 alpha (2023-04-03 r84154) | 4547 |
nebbiolo2 | Linux (Ubuntu 20.04.5 LTS) | x86_64 | R Under development (unstable) (2023-02-14 r83833) -- "Unsuffered Consequences" | 4333 |
Click on any hostname to see more info about the system (e.g. compilers) (*) as reported by 'uname -p', except on Windows and Mac OS X |
To the developers/maintainers of the comapr package: - Allow up to 24 hours (and sometimes 48 hours) for your latest push to git@git.bioconductor.org:packages/comapr.git to reflect on this report. See Troubleshooting Build Report for more information. - Use the following Renviron settings to reproduce errors and warnings. Note: If "R CMD check" recently failed on the Linux builder over a missing dependency, add the missing dependency to "Suggests" in your DESCRIPTION file. See the Renviron.bioc for details. |
Package 399/2207 | Hostname | OS / Arch | INSTALL | BUILD | CHECK | BUILD BIN | ||||||||
comapr 1.3.0 (landing page) Ruqian Lyu
| nebbiolo1 | Linux (Ubuntu 22.04.1 LTS) / x86_64 | OK | OK | OK | |||||||||
nebbiolo2 | Linux (Ubuntu 20.04.5 LTS) / x86_64 | OK | OK | OK | ||||||||||
Package: comapr |
Version: 1.3.0 |
Command: /home/biocbuild/bbs-3.17-bioc/R/bin/R CMD check --install=check:comapr.install-out.txt --library=/home/biocbuild/bbs-3.17-bioc/R/site-library --timings comapr_1.3.0.tar.gz |
StartedAt: 2023-04-11 19:27:13 -0400 (Tue, 11 Apr 2023) |
EndedAt: 2023-04-11 19:34:57 -0400 (Tue, 11 Apr 2023) |
EllapsedTime: 464.4 seconds |
RetCode: 0 |
Status: OK |
CheckDir: comapr.Rcheck |
Warnings: 0 |
############################################################################## ############################################################################## ### ### Running command: ### ### /home/biocbuild/bbs-3.17-bioc/R/bin/R CMD check --install=check:comapr.install-out.txt --library=/home/biocbuild/bbs-3.17-bioc/R/site-library --timings comapr_1.3.0.tar.gz ### ############################################################################## ############################################################################## * using log directory ‘/home/biocbuild/bbs-3.17-bioc/meat/comapr.Rcheck’ * using R version 4.3.0 alpha (2023-04-03 r84154) * using platform: x86_64-pc-linux-gnu (64-bit) * R was compiled by gcc (Ubuntu 11.3.0-1ubuntu1~22.04) 11.3.0 GNU Fortran (Ubuntu 11.3.0-1ubuntu1~22.04) 11.3.0 * running under: Ubuntu 22.04.2 LTS * using session charset: UTF-8 * checking for file ‘comapr/DESCRIPTION’ ... OK * this is package ‘comapr’ version ‘1.3.0’ * package encoding: UTF-8 * checking package namespace information ... OK * checking package dependencies ... OK * checking if this is a source package ... OK * checking if there is a namespace ... OK * checking for hidden files and directories ... OK * checking for portable file names ... OK * checking for sufficient/correct file permissions ... OK * checking whether package ‘comapr’ can be installed ... OK * checking installed package size ... OK * checking package directory ... OK * checking ‘build’ directory ... OK * checking DESCRIPTION meta-information ... OK * checking top-level files ... OK * checking for left-over files ... OK * checking index information ... OK * checking package subdirectories ... OK * checking R files for non-ASCII characters ... OK * checking R files for syntax errors ... OK * checking whether the package can be loaded ... OK * checking whether the package can be loaded with stated dependencies ... OK * checking whether the package can be unloaded cleanly ... OK * checking whether the namespace can be loaded with stated dependencies ... OK * checking whether the namespace can be unloaded cleanly ... OK * checking loading without being on the library search path ... OK * checking dependencies in R code ... OK * checking S3 generic/method consistency ... OK * checking replacement functions ... OK * checking foreign function calls ... OK * checking R code for possible problems ... OK * checking Rd files ... OK * checking Rd metadata ... OK * checking Rd cross-references ... OK * checking for missing documentation entries ... OK * checking for code/documentation mismatches ... OK * checking Rd \usage sections ... OK * checking Rd contents ... OK * checking for unstated dependencies in examples ... OK * checking contents of ‘data’ directory ... OK * checking data for non-ASCII characters ... OK * checking data for ASCII and uncompressed saves ... OK * checking files in ‘vignettes’ ... OK * checking examples ... OK * checking for unstated dependencies in ‘tests’ ... OK * checking tests ... Running ‘testthat.R’ OK * checking for unstated dependencies in vignettes ... OK * checking package vignettes in ‘inst/doc’ ... OK * checking running R code from vignettes ... ‘getStarted.Rmd’ using ‘UTF-8’... OK ‘single-sperm-co-analysis.Rmd’ using ‘UTF-8’... OK NONE * checking re-building of vignette outputs ... OK * checking PDF version of manual ... OK * DONE Status: OK
comapr.Rcheck/00install.out
############################################################################## ############################################################################## ### ### Running command: ### ### /home/biocbuild/bbs-3.17-bioc/R/bin/R CMD INSTALL comapr ### ############################################################################## ############################################################################## * installing to library ‘/home/biocbuild/bbs-3.17-bioc/R/site-library’ * installing *source* package ‘comapr’ ... ** using staged installation ** R ** data ** inst ** byte-compile and prepare package for lazy loading ** help *** installing help indices ** building package indices ** installing vignettes ** testing if installed package can be loaded from temporary location ** testing if installed package can be loaded from final location ** testing if installed package keeps a record of temporary installation path * DONE (comapr)
comapr.Rcheck/tests/testthat.Rout
R version 4.3.0 alpha (2023-04-03 r84154) Copyright (C) 2023 The R Foundation for Statistical Computing Platform: x86_64-pc-linux-gnu (64-bit) R is free software and comes with ABSOLUTELY NO WARRANTY. You are welcome to redistribute it under certain conditions. Type 'license()' or 'licence()' for distribution details. R is a collaborative project with many contributors. Type 'contributors()' for more information and 'citation()' on how to cite R or R packages in publications. Type 'demo()' for some demos, 'help()' for on-line help, or 'help.start()' for an HTML browser interface to help. Type 'q()' to quit R. > library(testthat) > library(comapr) > > test_check("comapr") [ FAIL 0 | WARN 3 | SKIP 0 | PASS 91 ] [ FAIL 0 | WARN 3 | SKIP 0 | PASS 91 ] > > proc.time() user system elapsed 46.030 4.544 45.587
comapr.Rcheck/comapr-Ex.timings
name | user | system | elapsed | |
bootstrapDist | 4.530 | 0.164 | 4.694 | |
calGeneticDist | 0.157 | 0.187 | 0.158 | |
combineHapState | 2.098 | 0.195 | 2.295 | |
correctGT | 0.010 | 0.000 | 0.009 | |
countBinState | 0.361 | 0.036 | 0.586 | |
countCOs | 0.645 | 0.067 | 0.714 | |
countGT | 0.120 | 0.004 | 0.124 | |
filterGT | 0.087 | 0.000 | 0.087 | |
findDupSamples | 0.004 | 0.004 | 0.008 | |
getAFTracks | 1.250 | 0.007 | 1.258 | |
getCellAFTrack | 0.996 | 0.008 | 1.005 | |
getCellCORange | 0.421 | 0.015 | 0.437 | |
getCellDPTrack | 0.481 | 0.009 | 0.490 | |
getDistortedMarkers | 0.342 | 0.039 | 0.382 | |
getMeanDPTrack | 0.052 | 0.004 | 0.056 | |
getSNPDensityTrack | 0.041 | 0.011 | 0.053 | |
perCellChrQC | 0.044 | 0.004 | 0.048 | |
perSegChrQC | 0.062 | 0.013 | 0.074 | |
permuteDist | 0.025 | 0.004 | 0.029 | |
plotCount | 0.745 | 0.052 | 0.797 | |
plotGTFreq | 0.323 | 0.024 | 0.347 | |
plotGeneticDist | 0.319 | 0.035 | 0.355 | |
plotWholeGenome | 0.368 | 0.024 | 0.393 | |
readColMM | 0.007 | 0.004 | 0.011 | |
readHapState | 0.237 | 0.024 | 0.261 | |