Back to Multiple platform build/check report for BioC 3.17 |
|
This page was generated on 2023-04-12 10:55:23 -0400 (Wed, 12 Apr 2023).
Hostname | OS | Arch (*) | R version | Installed pkgs |
---|---|---|---|---|
nebbiolo1 | Linux (Ubuntu 22.04.1 LTS) | x86_64 | 4.3.0 alpha (2023-04-03 r84154) | 4547 |
nebbiolo2 | Linux (Ubuntu 20.04.5 LTS) | x86_64 | R Under development (unstable) (2023-02-14 r83833) -- "Unsuffered Consequences" | 4333 |
Click on any hostname to see more info about the system (e.g. compilers) (*) as reported by 'uname -p', except on Windows and Mac OS X |
To the developers/maintainers of the crisprDesign package: - Allow up to 24 hours (and sometimes 48 hours) for your latest push to git@git.bioconductor.org:packages/crisprDesign.git to reflect on this report. See Troubleshooting Build Report for more information. - Use the following Renviron settings to reproduce errors and warnings. Note: If "R CMD check" recently failed on the Linux builder over a missing dependency, add the missing dependency to "Suggests" in your DESCRIPTION file. See the Renviron.bioc for details. |
Package 447/2207 | Hostname | OS / Arch | INSTALL | BUILD | CHECK | BUILD BIN | ||||||||
crisprDesign 1.1.24 (landing page) Jean-Philippe Fortin
| nebbiolo1 | Linux (Ubuntu 22.04.1 LTS) / x86_64 | OK | OK | OK | |||||||||
nebbiolo2 | Linux (Ubuntu 20.04.5 LTS) / x86_64 | OK | OK | OK | ||||||||||
Package: crisprDesign |
Version: 1.1.24 |
Command: /home/biocbuild/bbs-3.17-bioc/R/bin/R CMD check --install=check:crisprDesign.install-out.txt --library=/home/biocbuild/bbs-3.17-bioc/R/site-library --timings crisprDesign_1.1.24.tar.gz |
StartedAt: 2023-04-11 19:35:56 -0400 (Tue, 11 Apr 2023) |
EndedAt: 2023-04-11 19:45:37 -0400 (Tue, 11 Apr 2023) |
EllapsedTime: 581.3 seconds |
RetCode: 0 |
Status: OK |
CheckDir: crisprDesign.Rcheck |
Warnings: 0 |
############################################################################## ############################################################################## ### ### Running command: ### ### /home/biocbuild/bbs-3.17-bioc/R/bin/R CMD check --install=check:crisprDesign.install-out.txt --library=/home/biocbuild/bbs-3.17-bioc/R/site-library --timings crisprDesign_1.1.24.tar.gz ### ############################################################################## ############################################################################## * using log directory ‘/home/biocbuild/bbs-3.17-bioc/meat/crisprDesign.Rcheck’ * using R version 4.3.0 alpha (2023-04-03 r84154) * using platform: x86_64-pc-linux-gnu (64-bit) * R was compiled by gcc (Ubuntu 11.3.0-1ubuntu1~22.04) 11.3.0 GNU Fortran (Ubuntu 11.3.0-1ubuntu1~22.04) 11.3.0 * running under: Ubuntu 22.04.2 LTS * using session charset: UTF-8 * checking for file ‘crisprDesign/DESCRIPTION’ ... OK * this is package ‘crisprDesign’ version ‘1.1.24’ * package encoding: UTF-8 * checking package namespace information ... OK * checking package dependencies ... OK * checking if this is a source package ... OK * checking if there is a namespace ... OK * checking for hidden files and directories ... NOTE Found the following hidden files and directories: .BBSoptions These were most likely included in error. See section ‘Package structure’ in the ‘Writing R Extensions’ manual. * checking for portable file names ... OK * checking for sufficient/correct file permissions ... OK * checking whether package ‘crisprDesign’ can be installed ... OK * checking installed package size ... OK * checking package directory ... OK * checking ‘build’ directory ... OK * checking DESCRIPTION meta-information ... OK * checking top-level files ... OK * checking for left-over files ... OK * checking index information ... OK * checking package subdirectories ... OK * checking R files for non-ASCII characters ... OK * checking R files for syntax errors ... OK * checking whether the package can be loaded ... OK * checking whether the package can be loaded with stated dependencies ... OK * checking whether the package can be unloaded cleanly ... OK * checking whether the namespace can be loaded with stated dependencies ... OK * checking whether the namespace can be unloaded cleanly ... OK * checking loading without being on the library search path ... OK * checking dependencies in R code ... OK * checking S3 generic/method consistency ... OK * checking replacement functions ... OK * checking foreign function calls ... OK * checking R code for possible problems ... OK * checking Rd files ... OK * checking Rd metadata ... OK * checking Rd cross-references ... OK * checking for missing documentation entries ... OK * checking for code/documentation mismatches ... OK * checking Rd \usage sections ... OK * checking Rd contents ... OK * checking for unstated dependencies in examples ... OK * checking contents of ‘data’ directory ... OK * checking data for non-ASCII characters ... OK * checking LazyData ... OK * checking data for ASCII and uncompressed saves ... OK * checking files in ‘vignettes’ ... OK * checking examples ... OK Examples with CPU (user + system) or elapsed time > 5s user system elapsed addEditedAlleles 11.545 0.459 12.006 addSNPAnnotation 10.936 0.123 11.060 * checking for unstated dependencies in ‘tests’ ... OK * checking tests ... Running ‘testthat.R’ OK * checking for unstated dependencies in vignettes ... OK * checking package vignettes in ‘inst/doc’ ... OK * checking running R code from vignettes ... ‘intro.Rmd’ using ‘UTF-8’... OK NONE * checking re-building of vignette outputs ... OK * checking PDF version of manual ... OK * DONE Status: 1 NOTE See ‘/home/biocbuild/bbs-3.17-bioc/meat/crisprDesign.Rcheck/00check.log’ for details.
crisprDesign.Rcheck/00install.out
############################################################################## ############################################################################## ### ### Running command: ### ### /home/biocbuild/bbs-3.17-bioc/R/bin/R CMD INSTALL crisprDesign ### ############################################################################## ############################################################################## * installing to library ‘/home/biocbuild/bbs-3.17-bioc/R/site-library’ * installing *source* package ‘crisprDesign’ ... ** using staged installation ** R ** data *** moving datasets to lazyload DB ** inst ** byte-compile and prepare package for lazy loading ** help *** installing help indices ** building package indices ** installing vignettes ** testing if installed package can be loaded from temporary location ** testing if installed package can be loaded from final location ** testing if installed package keeps a record of temporary installation path * DONE (crisprDesign)
crisprDesign.Rcheck/tests/testthat.Rout
R version 4.3.0 alpha (2023-04-03 r84154) Copyright (C) 2023 The R Foundation for Statistical Computing Platform: x86_64-pc-linux-gnu (64-bit) R is free software and comes with ABSOLUTELY NO WARRANTY. You are welcome to redistribute it under certain conditions. Type 'license()' or 'licence()' for distribution details. R is a collaborative project with many contributors. Type 'contributors()' for more information and 'citation()' on how to cite R or R packages in publications. Type 'demo()' for some demos, 'help()' for on-line help, or 'help.start()' for an HTML browser interface to help. Type 'q()' to quit R. > library(testthat) > library(crisprDesign) Loading required package: crisprBase > > test_check("crisprDesign") [runCrisprBowtie] Using BSgenome.Hsapiens.UCSC.hg38 [runCrisprBowtie] Searching for SpCas9 protospacers # reads processed: 7 # reads with at least one alignment: 6 (85.71%) # reads that failed to align: 1 (14.29%) Reported 6 alignments [runCrisprBowtie] Using BSgenome.Hsapiens.UCSC.hg38 [runCrisprBowtie] Searching for SpCas9 protospacers # reads processed: 7 # reads with at least one alignment: 6 (85.71%) # reads that failed to align: 1 (14.29%) Reported 6 alignments [runCrisprBowtie] Using BSgenome.Hsapiens.UCSC.hg38 [runCrisprBowtie] Searching for SpCas9 protospacers # reads processed: 6 # reads with at least one alignment: 6 (100.00%) # reads that failed to align: 0 (0.00%) Reported 6 alignments [runCrisprBowtie] Using BSgenome.Hsapiens.UCSC.hg38 [runCrisprBowtie] Searching for SpCas9 protospacers # reads processed: 6 # reads with at least one alignment: 6 (100.00%) # reads that failed to align: 0 (0.00%) Reported 6 alignments [runCrisprBowtie] Using BSgenome.Hsapiens.UCSC.hg38 [runCrisprBowtie] Searching for SpCas9 protospacers # reads processed: 6 # reads with at least one alignment: 6 (100.00%) # reads that failed to align: 0 (0.00%) Reported 6 alignments [runCrisprBowtie] Using BSgenome.Hsapiens.UCSC.hg38 [runCrisprBowtie] Searching for SpCas9 protospacers # reads processed: 6 # reads with at least one alignment: 6 (100.00%) # reads that failed to align: 0 (0.00%) Reported 6 alignments [runCrisprBowtie] Using BSgenome.Hsapiens.UCSC.hg38 [runCrisprBowtie] Searching for SpCas9 protospacers # reads processed: 6 # reads with at least one alignment: 6 (100.00%) # reads that failed to align: 0 (0.00%) Reported 6 alignments [runCrisprBowtie] Using BSgenome.Hsapiens.UCSC.hg38 [runCrisprBowtie] Searching for SpCas9 protospacers # reads processed: 6 # reads with at least one alignment: 6 (100.00%) # reads that failed to align: 0 (0.00%) Reported 6 alignments [runCrisprBowtie] Using BSgenome.Hsapiens.UCSC.hg38 [runCrisprBowtie] Searching for SpCas9 protospacers # reads processed: 6 # reads with at least one alignment: 6 (100.00%) # reads that failed to align: 0 (0.00%) Reported 6 alignments [runCrisprBowtie] Using BSgenome.Hsapiens.UCSC.hg38 [runCrisprBowtie] Searching for SpCas9 protospacers # reads processed: 6 # reads with at least one alignment: 6 (100.00%) # reads that failed to align: 0 (0.00%) Reported 6 alignments [runCrisprBowtie] Using BSgenome.Hsapiens.UCSC.hg38 [runCrisprBowtie] Searching for SpCas9 protospacers # reads processed: 6 # reads with at least one alignment: 6 (100.00%) # reads that failed to align: 0 (0.00%) Reported 6 alignments [runCrisprBowtie] Using BSgenome.Hsapiens.UCSC.hg38 [runCrisprBowtie] Searching for SpCas9 protospacers # reads processed: 6 # reads with at least one alignment: 6 (100.00%) # reads that failed to align: 0 (0.00%) Reported 6 alignments [ FAIL 0 | WARN 0 | SKIP 78 | PASS 1018 ] ══ Skipped tests ═══════════════════════════════════════════════════════════════ • empty test (69) • long run time (8) • no del for guideSetExample (1) [ FAIL 0 | WARN 0 | SKIP 78 | PASS 1018 ] > > proc.time() user system elapsed 168.884 6.832 176.120
crisprDesign.Rcheck/crisprDesign-Ex.timings
name | user | system | elapsed | |
GuideSet-class | 0.173 | 0.008 | 0.180 | |
GuideSet2DataFrames | 0.802 | 0.052 | 0.854 | |
PairedGuideSet-class | 0.365 | 0.011 | 0.377 | |
TxDb2GRangesList | 0.000 | 0.000 | 0.001 | |
addCompositeScores | 0.975 | 0.044 | 1.018 | |
addDistanceToTss | 0.036 | 0.004 | 0.040 | |
addEditedAlleles | 11.545 | 0.459 | 12.006 | |
addExonTable | 0.000 | 0.000 | 0.001 | |
addGeneAnnotation | 1.390 | 0.044 | 1.435 | |
addIsoformAnnotation | 0.135 | 0.004 | 0.138 | |
addNtcs | 0.323 | 0.000 | 0.323 | |
addOffTargetScores | 0.246 | 0.000 | 0.246 | |
addOnTargetScores | 0.000 | 0.000 | 0.001 | |
addOpsBarcodes | 0.037 | 0.000 | 0.037 | |
addPamScores | 0.408 | 0.004 | 0.412 | |
addRepeats | 0.216 | 0.012 | 0.228 | |
addRestrictionEnzymes | 0.761 | 0.032 | 0.793 | |
addSNPAnnotation | 10.936 | 0.123 | 11.060 | |
addSequenceFeatures | 0.402 | 0.011 | 0.415 | |
addSpacerAlignments | 0.001 | 0.000 | 0.001 | |
addTssAnnotation | 0.163 | 0.004 | 0.167 | |
addTxTable | 0.000 | 0.000 | 0.001 | |
completeSpacers | 0.343 | 0.024 | 0.368 | |
convertToMinMaxGRanges | 0.057 | 0.000 | 0.057 | |
convertToProtospacerGRanges | 0.179 | 0.012 | 0.191 | |
designOpsLibrary | 0.106 | 0.007 | 0.113 | |
findSpacerPairs | 1.904 | 0.040 | 1.943 | |
findSpacers | 1.288 | 0.031 | 1.320 | |
getBarcodeDistanceMatrix | 1.563 | 0.052 | 1.616 | |
getConsensusIsoform | 0.061 | 0.003 | 0.066 | |
getMrnaSequences | 0.272 | 0.012 | 0.284 | |
getPreMrnaSequences | 0.373 | 0.048 | 0.421 | |
getTssObjectFromTxObject | 0.053 | 0.000 | 0.052 | |
getTxDb | 0.001 | 0.000 | 0.000 | |
getTxInfoDataFrame | 0.636 | 0.063 | 0.699 | |
preparePfamTable | 0.002 | 0.000 | 0.002 | |
queryTss | 0.032 | 0.000 | 0.032 | |
queryTxObject | 0.023 | 0.003 | 0.027 | |
rankSpacers | 1.651 | 0.040 | 1.691 | |
removeRepeats | 0.184 | 0.020 | 0.204 | |
updateOpsLibrary | 0.161 | 0.015 | 0.177 | |
validateOpsLibrary | 0.164 | 0.001 | 0.164 | |