Back to Multiple platform build/check report for BioC 3.17 |
|
This page was generated on 2023-04-12 10:55:37 -0400 (Wed, 12 Apr 2023).
Hostname | OS | Arch (*) | R version | Installed pkgs |
---|---|---|---|---|
nebbiolo1 | Linux (Ubuntu 22.04.1 LTS) | x86_64 | 4.3.0 alpha (2023-04-03 r84154) | 4547 |
nebbiolo2 | Linux (Ubuntu 20.04.5 LTS) | x86_64 | R Under development (unstable) (2023-02-14 r83833) -- "Unsuffered Consequences" | 4333 |
Click on any hostname to see more info about the system (e.g. compilers) (*) as reported by 'uname -p', except on Windows and Mac OS X |
To the developers/maintainers of the intansv package: - Allow up to 24 hours (and sometimes 48 hours) for your latest push to git@git.bioconductor.org:packages/intansv.git to reflect on this report. See Troubleshooting Build Report for more information. - Use the following Renviron settings to reproduce errors and warnings. Note: If "R CMD check" recently failed on the Linux builder over a missing dependency, add the missing dependency to "Suggests" in your DESCRIPTION file. See the Renviron.bioc for details. |
Package 995/2207 | Hostname | OS / Arch | INSTALL | BUILD | CHECK | BUILD BIN | ||||||||
intansv 1.39.0 (landing page) Wen Yao
| nebbiolo1 | Linux (Ubuntu 22.04.1 LTS) / x86_64 | OK | OK | OK | |||||||||
nebbiolo2 | Linux (Ubuntu 20.04.5 LTS) / x86_64 | OK | OK | OK | ||||||||||
Package: intansv |
Version: 1.39.0 |
Command: /home/biocbuild/bbs-3.17-bioc/R/bin/R CMD check --install=check:intansv.install-out.txt --library=/home/biocbuild/bbs-3.17-bioc/R/site-library --timings intansv_1.39.0.tar.gz |
StartedAt: 2023-04-12 06:56:19 -0400 (Wed, 12 Apr 2023) |
EndedAt: 2023-04-12 07:03:58 -0400 (Wed, 12 Apr 2023) |
EllapsedTime: 459.2 seconds |
RetCode: 0 |
Status: OK |
CheckDir: intansv.Rcheck |
Warnings: 0 |
############################################################################## ############################################################################## ### ### Running command: ### ### /home/biocbuild/bbs-3.17-bioc/R/bin/R CMD check --install=check:intansv.install-out.txt --library=/home/biocbuild/bbs-3.17-bioc/R/site-library --timings intansv_1.39.0.tar.gz ### ############################################################################## ############################################################################## * using log directory ‘/home/biocbuild/bbs-3.17-bioc/meat/intansv.Rcheck’ * using R Under development (unstable) (2023-02-14 r83833) * using platform: x86_64-pc-linux-gnu (64-bit) * R was compiled by gcc (Ubuntu 9.4.0-1ubuntu1~20.04.1) 9.4.0 GNU Fortran (Ubuntu 9.4.0-1ubuntu1~20.04.1) 9.4.0 * running under: Ubuntu 20.04.6 LTS * using session charset: UTF-8 * checking for file ‘intansv/DESCRIPTION’ ... OK * this is package ‘intansv’ version ‘1.39.0’ * checking package namespace information ... OK * checking package dependencies ... OK * checking if this is a source package ... OK * checking if there is a namespace ... OK * checking for hidden files and directories ... OK * checking for portable file names ... OK * checking for sufficient/correct file permissions ... OK * checking whether package ‘intansv’ can be installed ... OK * checking installed package size ... OK * checking package directory ... OK * checking ‘build’ directory ... OK * checking DESCRIPTION meta-information ... OK * checking top-level files ... OK * checking for left-over files ... OK * checking index information ... OK * checking package subdirectories ... OK * checking R files for non-ASCII characters ... OK * checking R files for syntax errors ... OK * checking whether the package can be loaded ... OK * checking whether the package can be loaded with stated dependencies ... OK * checking whether the package can be unloaded cleanly ... OK * checking whether the namespace can be loaded with stated dependencies ... OK * checking whether the namespace can be unloaded cleanly ... OK * checking loading without being on the library search path ... OK * checking dependencies in R code ... OK * checking S3 generic/method consistency ... OK * checking replacement functions ... OK * checking foreign function calls ... OK * checking R code for possible problems ... NOTE DellyCluster: no visible global function definition for 'subjectHits' LumpyCluster: no visible global function definition for 'subjectHits' PindelCluster: no visible global function definition for 'subjectHits' breakDancerCluster: no visible global function definition for 'subjectHits' mergeOLCNVs: no visible global function definition for 'subjectHits' methodsMerge: no visible global function definition for 'subjectHits' plotChromosome: no visible global function definition for 'queryHits' plotChromosome: no visible global function definition for 'subjectHits' plotChromosome: no visible global function definition for 'seqlengths<-' plotChromosome: no visible global function definition for 'seqlengths' plotChromosome: no visible global function definition for 'aes' plotRegion: no visible global function definition for 'seqlengths<-' plotRegion: no visible global function definition for 'subjectHits' plotRegion: no visible global function definition for 'aes' plotRegion: no visible binding for global variable 'name' readCnvnator: no visible global function definition for 'subjectHits' readDelly: no visible global function definition for 'subjectHits' readLumpy: no visible global function definition for 'subjectHits' readPindel: no visible global function definition for 'subjectHits' readSoftSearch: no visible global function definition for 'subjectHits' readSvseq: no visible global function definition for 'subjectHits' readSvseq : <anonymous>: no visible global function definition for 'subjectHits' softSearchCluster: no visible global function definition for 'subjectHits' tellOLPercantage: no visible global function definition for 'queryHits' tellOLPercantage: no visible global function definition for 'subjectHits' Undefined global functions or variables: aes name queryHits seqlengths seqlengths<- subjectHits * checking Rd files ... OK * checking Rd metadata ... OK * checking Rd cross-references ... OK * checking for missing documentation entries ... OK * checking for code/documentation mismatches ... OK * checking Rd \usage sections ... OK * checking Rd contents ... OK * checking for unstated dependencies in examples ... OK * checking files in ‘vignettes’ ... OK * checking examples ... OK Examples with CPU (user + system) or elapsed time > 5s user system elapsed methodsMerge 21.097 0.327 21.428 * checking for unstated dependencies in vignettes ... OK * checking package vignettes in ‘inst/doc’ ... OK * checking running R code from vignettes ... ‘intansvOverview.Rnw’... OK OK * checking re-building of vignette outputs ... OK * checking PDF version of manual ... OK * DONE Status: 1 NOTE See ‘/home/biocbuild/bbs-3.17-bioc/meat/intansv.Rcheck/00check.log’ for details.
intansv.Rcheck/00install.out
############################################################################## ############################################################################## ### ### Running command: ### ### /home/biocbuild/bbs-3.17-bioc/R/bin/R CMD INSTALL intansv ### ############################################################################## ############################################################################## * installing to library ‘/home/biocbuild/bbs-3.17-bioc/R/site-library’ * installing *source* package ‘intansv’ ... ** using staged installation ** R ** inst ** byte-compile and prepare package for lazy loading ** help *** installing help indices ** building package indices ** installing vignettes ** testing if installed package can be loaded from temporary location ** testing if installed package can be loaded from final location ** testing if installed package keeps a record of temporary installation path * DONE (intansv)
intansv.Rcheck/intansv-Ex.timings
name | user | system | elapsed | |
methodsMerge | 21.097 | 0.327 | 21.428 | |
plotChromosome | 4.626 | 0.048 | 4.674 | |
plotRegion | 3.651 | 0.008 | 3.659 | |
readBreakDancer | 1.179 | 0.004 | 1.183 | |
readCnvnator | 0.552 | 0.008 | 0.561 | |
readDelly | 2.948 | 0.016 | 2.963 | |
readLumpy | 3.062 | 0.012 | 3.073 | |
readPindel | 2.780 | 0.004 | 2.784 | |
readSoftSearch | 0.297 | 0.008 | 0.304 | |
readSvseq | 0.271 | 0.000 | 0.271 | |
svAnnotation | 1.328 | 0.000 | 1.329 | |