Back to Multiple platform build/check report for BioC 3.17 |
|
This page was generated on 2023-04-12 10:55:42 -0400 (Wed, 12 Apr 2023).
Hostname | OS | Arch (*) | R version | Installed pkgs |
---|---|---|---|---|
nebbiolo1 | Linux (Ubuntu 22.04.1 LTS) | x86_64 | 4.3.0 alpha (2023-04-03 r84154) | 4547 |
nebbiolo2 | Linux (Ubuntu 20.04.5 LTS) | x86_64 | R Under development (unstable) (2023-02-14 r83833) -- "Unsuffered Consequences" | 4333 |
Click on any hostname to see more info about the system (e.g. compilers) (*) as reported by 'uname -p', except on Windows and Mac OS X |
To the developers/maintainers of the sesame package: - Allow up to 24 hours (and sometimes 48 hours) for your latest push to git@git.bioconductor.org:packages/sesame.git to reflect on this report. See Troubleshooting Build Report for more information. - Use the following Renviron settings to reproduce errors and warnings. Note: If "R CMD check" recently failed on the Linux builder over a missing dependency, add the missing dependency to "Suggests" in your DESCRIPTION file. See the Renviron.bioc for details. |
Package 1877/2207 | Hostname | OS / Arch | INSTALL | BUILD | CHECK | BUILD BIN | ||||||||
sesame 1.17.9 (landing page) Wanding Zhou
| nebbiolo1 | Linux (Ubuntu 22.04.1 LTS) / x86_64 | OK | OK | OK | |||||||||
nebbiolo2 | Linux (Ubuntu 20.04.5 LTS) / x86_64 | OK | OK | OK | ||||||||||
Package: sesame |
Version: 1.17.9 |
Command: /home/biocbuild/bbs-3.17-bioc/R/bin/R CMD check --install=check:sesame.install-out.txt --library=/home/biocbuild/bbs-3.17-bioc/R/site-library --timings sesame_1.17.9.tar.gz |
StartedAt: 2023-04-12 09:21:29 -0400 (Wed, 12 Apr 2023) |
EndedAt: 2023-04-12 09:43:53 -0400 (Wed, 12 Apr 2023) |
EllapsedTime: 1344.5 seconds |
RetCode: 0 |
Status: OK |
CheckDir: sesame.Rcheck |
Warnings: 0 |
############################################################################## ############################################################################## ### ### Running command: ### ### /home/biocbuild/bbs-3.17-bioc/R/bin/R CMD check --install=check:sesame.install-out.txt --library=/home/biocbuild/bbs-3.17-bioc/R/site-library --timings sesame_1.17.9.tar.gz ### ############################################################################## ############################################################################## * using log directory ‘/home/biocbuild/bbs-3.17-bioc/meat/sesame.Rcheck’ * using R Under development (unstable) (2023-02-14 r83833) * using platform: x86_64-pc-linux-gnu (64-bit) * R was compiled by gcc (Ubuntu 9.4.0-1ubuntu1~20.04.1) 9.4.0 GNU Fortran (Ubuntu 9.4.0-1ubuntu1~20.04.1) 9.4.0 * running under: Ubuntu 20.04.6 LTS * using session charset: UTF-8 * checking for file ‘sesame/DESCRIPTION’ ... OK * checking extension type ... Package * this is package ‘sesame’ version ‘1.17.9’ * package encoding: UTF-8 * checking package namespace information ... OK * checking package dependencies ... OK * checking if this is a source package ... OK * checking if there is a namespace ... OK * checking for hidden files and directories ... OK * checking for portable file names ... OK * checking for sufficient/correct file permissions ... OK * checking whether package ‘sesame’ can be installed ... OK * checking installed package size ... OK * checking package directory ... OK * checking ‘build’ directory ... OK * checking DESCRIPTION meta-information ... OK * checking top-level files ... OK * checking for left-over files ... OK * checking index information ... OK * checking package subdirectories ... OK * checking R files for non-ASCII characters ... OK * checking R files for syntax errors ... OK * checking whether the package can be loaded ... OK * checking whether the package can be loaded with stated dependencies ... OK * checking whether the package can be unloaded cleanly ... OK * checking whether the namespace can be loaded with stated dependencies ... OK * checking whether the namespace can be unloaded cleanly ... OK * checking loading without being on the library search path ... OK * checking dependencies in R code ... OK * checking S3 generic/method consistency ... OK * checking replacement functions ... OK * checking foreign function calls ... OK * checking R code for possible problems ... OK * checking Rd files ... OK * checking Rd metadata ... OK * checking Rd cross-references ... OK * checking for missing documentation entries ... OK * checking for code/documentation mismatches ... OK * checking Rd \usage sections ... OK * checking Rd contents ... OK * checking for unstated dependencies in examples ... OK * checking files in ‘vignettes’ ... OK * checking examples ... OK Examples with CPU (user + system) or elapsed time > 5s user system elapsed testEnrichmentGene 139.404 2.829 146.743 KYCG_plotMeta 24.958 0.380 26.030 KYCG_plotEnrichAll 24.589 0.532 26.938 sesameQC_calcStats 23.807 0.180 24.242 sesameQC_plotHeatSNPs 23.199 0.308 23.679 inferSpecies 18.970 0.859 20.340 ELBAR 17.650 0.385 18.307 diffRefSet 17.389 0.292 18.118 matchDesign 15.940 0.164 16.378 compareMouseStrainReference 14.874 0.168 15.552 KYCG_annoProbes 14.432 0.395 15.539 getRefSet 14.322 0.288 15.040 compareReference 13.970 0.172 14.562 KYCG_plotMetaEnrichment 13.174 0.216 14.069 DMR 12.638 0.396 13.559 sesameQC_plotBar 12.623 0.176 13.324 sdf_read_table 12.402 0.340 13.169 sesameQC_plotBetaByDesign 12.417 0.064 12.481 getSexInfo 12.170 0.184 13.120 createUCSCtrack 11.875 0.187 12.572 inferTissue 11.453 0.180 12.326 KYCG_buildGeneDBs 11.194 0.332 11.947 dbStats 10.190 0.344 10.964 testEnrichmentSEA 9.934 0.283 10.910 visualizeGene 10.000 0.152 10.757 estimateLeukocyte 9.748 0.196 10.389 testEnrichment 9.546 0.332 10.577 KYCG_plotSetEnrichment 9.015 0.148 9.689 inferStrain 7.872 0.360 8.739 deidentify 7.920 0.120 8.568 DML 7.492 0.303 8.326 visualizeProbes 6.768 0.160 7.199 inferSex 6.816 0.088 7.411 dyeBiasNL 6.551 0.092 6.808 dyeBiasCorrMostBalanced 6.468 0.096 7.005 reIdentify 6.453 0.081 6.790 bisConversionControl 6.359 0.129 11.991 checkLevels 6.011 0.232 6.416 KYCG_getDBs 5.332 0.144 5.901 probeSuccessRate 4.894 0.076 5.482 KYCG_plotPointRange 4.815 0.055 5.141 sdf_write_table 4.515 0.156 5.071 print.DMLSummary 4.399 0.112 5.019 sesameQC_rankStats 4.198 0.088 5.007 * checking for unstated dependencies in ‘tests’ ... OK * checking tests ... Running ‘testthat.R’ OK * checking for unstated dependencies in vignettes ... OK * checking package vignettes in ‘inst/doc’ ... OK * checking running R code from vignettes ... ‘KYCG.Rmd’ using ‘UTF-8’... OK ‘QC.Rmd’ using ‘UTF-8’... OK ‘inferences.Rmd’ using ‘UTF-8’... OK ‘modeling.Rmd’ using ‘UTF-8’... OK ‘nonhuman.Rmd’ using ‘UTF-8’... OK ‘sesame.Rmd’ using ‘UTF-8’... OK NONE * checking re-building of vignette outputs ... OK * checking PDF version of manual ... OK * DONE Status: OK
sesame.Rcheck/00install.out
############################################################################## ############################################################################## ### ### Running command: ### ### /home/biocbuild/bbs-3.17-bioc/R/bin/R CMD INSTALL sesame ### ############################################################################## ############################################################################## * installing to library ‘/home/biocbuild/bbs-3.17-bioc/R/site-library’ * installing *source* package ‘sesame’ ... ** using staged installation ** R ** inst ** byte-compile and prepare package for lazy loading ** help *** installing help indices ** building package indices ** installing vignettes ** testing if installed package can be loaded from temporary location ** testing if installed package can be loaded from final location ** testing if installed package keeps a record of temporary installation path * DONE (sesame)
sesame.Rcheck/tests/testthat.Rout
R Under development (unstable) (2023-02-14 r83833) -- "Unsuffered Consequences" Copyright (C) 2023 The R Foundation for Statistical Computing Platform: x86_64-pc-linux-gnu (64-bit) R is free software and comes with ABSOLUTELY NO WARRANTY. You are welcome to redistribute it under certain conditions. Type 'license()' or 'licence()' for distribution details. R is a collaborative project with many contributors. Type 'contributors()' for more information and 'citation()' on how to cite R or R packages in publications. Type 'demo()' for some demos, 'help()' for on-line help, or 'help.start()' for an HTML browser interface to help. Type 'q()' to quit R. > library(testthat) > library(sesame) Loading required package: sesameData Loading required package: ExperimentHub Loading required package: BiocGenerics Attaching package: 'BiocGenerics' The following objects are masked from 'package:stats': IQR, mad, sd, var, xtabs The following objects are masked from 'package:base': Filter, Find, Map, Position, Reduce, anyDuplicated, aperm, append, as.data.frame, basename, cbind, colnames, dirname, do.call, duplicated, eval, evalq, get, grep, grepl, intersect, is.unsorted, lapply, mapply, match, mget, order, paste, pmax, pmax.int, pmin, pmin.int, rank, rbind, rownames, sapply, setdiff, sort, table, tapply, union, unique, unsplit, which.max, which.min Loading required package: AnnotationHub Loading required package: BiocFileCache Loading required package: dbplyr Loading sesameData. ---------------------------------------------------------- | SEnsible Step-wise Analysis of DNA MEthylation (SeSAMe) | -------------------------------------------------------- | Please cache auxiliary data by "sesameDataCache()". | This needs to be done only once per SeSAMe installation. ---------------------------------------------------------- > > test_check("sesame") [ FAIL 0 | WARN 0 | SKIP 0 | PASS 1 ] > > proc.time() user system elapsed 16.679 0.708 17.644
sesame.Rcheck/sesame-Ex.timings
name | user | system | elapsed | |
BetaValueToMValue | 0.000 | 0.000 | 0.001 | |
DML | 7.492 | 0.303 | 8.326 | |
DMLpredict | 1.308 | 0.032 | 1.593 | |
DMR | 12.638 | 0.396 | 13.559 | |
ELBAR | 17.650 | 0.385 | 18.307 | |
KYCG_annoProbes | 14.432 | 0.395 | 15.539 | |
KYCG_buildGeneDBs | 11.194 | 0.332 | 11.947 | |
KYCG_getDBs | 5.332 | 0.144 | 5.901 | |
KYCG_listDBGroups | 0.026 | 0.003 | 0.030 | |
KYCG_loadDBs | 0.001 | 0.000 | 0.000 | |
KYCG_plotBar | 0.214 | 0.000 | 0.214 | |
KYCG_plotDot | 0.27 | 0.00 | 0.27 | |
KYCG_plotEnrichAll | 24.589 | 0.532 | 26.938 | |
KYCG_plotLollipop | 0.162 | 0.000 | 0.162 | |
KYCG_plotManhattan | 1.614 | 0.012 | 1.625 | |
KYCG_plotMeta | 24.958 | 0.380 | 26.030 | |
KYCG_plotMetaEnrichment | 13.174 | 0.216 | 14.069 | |
KYCG_plotPointRange | 4.815 | 0.055 | 5.141 | |
KYCG_plotSetEnrichment | 9.015 | 0.148 | 9.689 | |
KYCG_plotVolcano | 0.185 | 0.000 | 0.185 | |
KYCG_plotWaterfall | 4.666 | 0.064 | 4.983 | |
MValueToBetaValue | 0.000 | 0.000 | 0.001 | |
SigDF | 0.534 | 0.024 | 0.812 | |
addMask | 0.708 | 0.012 | 0.720 | |
aggregateTestEnrichments | 3.901 | 0.016 | 3.916 | |
betasCollapseToPfx | 0.003 | 0.000 | 0.004 | |
bisConversionControl | 6.359 | 0.129 | 11.991 | |
calcEffectSize | 2.132 | 0.096 | 2.418 | |
checkLevels | 6.011 | 0.232 | 6.416 | |
cnSegmentation | 0.491 | 0.028 | 0.684 | |
compareMouseStrainReference | 14.874 | 0.168 | 15.552 | |
compareMouseTissueReference | 0 | 0 | 0 | |
compareReference | 13.970 | 0.172 | 14.562 | |
controls | 3.635 | 0.092 | 4.152 | |
createUCSCtrack | 11.875 | 0.187 | 12.572 | |
dataFrame2sesameQC | 1.893 | 0.072 | 2.221 | |
dbStats | 10.190 | 0.344 | 10.964 | |
deidentify | 7.920 | 0.120 | 8.568 | |
detectionPnegEcdf | 3.714 | 0.072 | 3.952 | |
diffRefSet | 17.389 | 0.292 | 18.118 | |
dmContrasts | 2.325 | 0.048 | 2.643 | |
dyeBiasCorr | 3.381 | 0.136 | 4.039 | |
dyeBiasCorrMostBalanced | 6.468 | 0.096 | 7.005 | |
dyeBiasL | 3.395 | 0.020 | 3.585 | |
dyeBiasNL | 6.551 | 0.092 | 6.808 | |
estimateLeukocyte | 9.748 | 0.196 | 10.389 | |
formatVCF | 4.091 | 0.096 | 4.612 | |
getAFTypeIbySumAlleles | 1.849 | 0.059 | 2.347 | |
getAFs | 1.221 | 0.032 | 1.509 | |
getBetas | 1.166 | 0.044 | 1.378 | |
getRefSet | 14.322 | 0.288 | 15.040 | |
getSexInfo | 12.170 | 0.184 | 13.120 | |
imputeTo | 2.558 | 0.084 | 2.811 | |
inferEthnicity | 3.230 | 0.096 | 3.502 | |
inferInfiniumIChannel | 0.289 | 0.136 | 0.425 | |
inferSex | 6.816 | 0.088 | 7.411 | |
inferSexKaryotypes | 3.445 | 0.020 | 3.720 | |
inferSpecies | 18.970 | 0.859 | 20.340 | |
inferStrain | 7.872 | 0.360 | 8.739 | |
inferTissue | 11.453 | 0.180 | 12.326 | |
initFileSet | 1.346 | 0.036 | 1.635 | |
listAvailableMasks | 0.002 | 0.001 | 0.002 | |
mapFileSet | 0.035 | 0.000 | 0.036 | |
mapToMammal40 | 3.388 | 0.095 | 4.030 | |
matchDesign | 15.940 | 0.164 | 16.378 | |
meanIntensity | 2.761 | 0.068 | 3.164 | |
medianTotalIntensity | 1.322 | 0.028 | 1.565 | |
noMasked | 1.894 | 0.080 | 2.245 | |
noob | 2.163 | 0.008 | 2.171 | |
openSesame | 4.487 | 0.066 | 4.807 | |
openSesameToFile | 1.956 | 0.013 | 1.969 | |
pOOBAH | 1.560 | 0.004 | 1.563 | |
palgen | 0.042 | 0.000 | 0.043 | |
parseGEOsignalMU | 3.531 | 0.036 | 3.820 | |
predictAge | 2.491 | 0.044 | 2.704 | |
predictAgeHorvath353 | 0 | 0 | 0 | |
predictAgeSkinBlood | 0.001 | 0.000 | 0.000 | |
predictMouseAgeInMonth | 0 | 0 | 0 | |
prefixMask | 0.479 | 0.000 | 0.478 | |
prefixMaskButC | 0.135 | 0.000 | 0.136 | |
prefixMaskButCG | 0.052 | 0.000 | 0.052 | |
prepSesame | 2.658 | 0.040 | 2.698 | |
prepSesameList | 0.001 | 0.000 | 0.001 | |
print.DMLSummary | 4.399 | 0.112 | 5.019 | |
print.fileSet | 1.882 | 0.044 | 2.099 | |
probeID_designType | 0.000 | 0.000 | 0.001 | |
probeSuccessRate | 4.894 | 0.076 | 5.482 | |
qualityMask | 0.861 | 0.012 | 1.041 | |
reIdentify | 6.453 | 0.081 | 6.790 | |
readFileSet | 0.044 | 0.006 | 0.051 | |
readIDATpair | 0.121 | 0.000 | 0.121 | |
resetMask | 0.662 | 0.016 | 0.841 | |
scrub | 3.417 | 0.064 | 3.481 | |
scrubSoft | 3.38 | 0.04 | 3.42 | |
sdfPlatform | 0.516 | 0.024 | 0.706 | |
sdf_read_table | 12.402 | 0.340 | 13.169 | |
sdf_write_table | 4.515 | 0.156 | 5.071 | |
searchIDATprefixes | 0.007 | 0.000 | 0.008 | |
sesame-package | 1.044 | 0.032 | 1.076 | |
sesameAnno_download | 0.000 | 0.001 | 0.000 | |
sesameAnno_get | 0.000 | 0.001 | 0.001 | |
sesameData_getAnno | 0.000 | 0.000 | 0.001 | |
sesameQC_calcStats | 23.807 | 0.180 | 24.242 | |
sesameQC_getStats | 2.078 | 0.024 | 2.102 | |
sesameQC_plotBar | 12.623 | 0.176 | 13.324 | |
sesameQC_plotBetaByDesign | 12.417 | 0.064 | 12.481 | |
sesameQC_plotHeatSNPs | 23.199 | 0.308 | 23.679 | |
sesameQC_plotIntensVsBetas | 2.596 | 0.048 | 2.916 | |
sesameQC_plotRedGrnQQ | 2.062 | 0.028 | 2.259 | |
sesameQC_rankStats | 4.198 | 0.088 | 5.007 | |
setMask | 0.134 | 0.000 | 0.134 | |
signalMU | 1.942 | 0.016 | 2.150 | |
sliceFileSet | 0.05 | 0.00 | 0.05 | |
summaryExtractTest | 3.761 | 0.072 | 4.342 | |
testEnrichment | 9.546 | 0.332 | 10.577 | |
testEnrichmentGene | 139.404 | 2.829 | 146.743 | |
testEnrichmentSEA | 9.934 | 0.283 | 10.910 | |
totalIntensities | 2.970 | 0.060 | 3.554 | |
updateSigDF | 3.944 | 0.112 | 4.478 | |
visualizeGene | 10.000 | 0.152 | 10.757 | |
visualizeProbes | 6.768 | 0.160 | 7.199 | |
visualizeRegion | 0.332 | 0.000 | 0.333 | |
visualizeSegments | 1.861 | 0.068 | 2.200 | |