Back to Multiple platform build/check report for BioC 3.17 |
|
This page was generated on 2023-04-12 10:55:42 -0400 (Wed, 12 Apr 2023).
Hostname | OS | Arch (*) | R version | Installed pkgs |
---|---|---|---|---|
nebbiolo1 | Linux (Ubuntu 22.04.1 LTS) | x86_64 | 4.3.0 alpha (2023-04-03 r84154) | 4547 |
nebbiolo2 | Linux (Ubuntu 20.04.5 LTS) | x86_64 | R Under development (unstable) (2023-02-14 r83833) -- "Unsuffered Consequences" | 4333 |
Click on any hostname to see more info about the system (e.g. compilers) (*) as reported by 'uname -p', except on Windows and Mac OS X |
To the developers/maintainers of the specL package: - Allow up to 24 hours (and sometimes 48 hours) for your latest push to git@git.bioconductor.org:packages/specL.git to reflect on this report. See Troubleshooting Build Report for more information. - Use the following Renviron settings to reproduce errors and warnings. Note: If "R CMD check" recently failed on the Linux builder over a missing dependency, add the missing dependency to "Suggests" in your DESCRIPTION file. See the Renviron.bioc for details. |
Package 1959/2207 | Hostname | OS / Arch | INSTALL | BUILD | CHECK | BUILD BIN | ||||||||
specL 1.33.3 (landing page) Christian Panse
| nebbiolo1 | Linux (Ubuntu 22.04.1 LTS) / x86_64 | OK | OK | OK | |||||||||
nebbiolo2 | Linux (Ubuntu 20.04.5 LTS) / x86_64 | OK | OK | OK | ||||||||||
Package: specL |
Version: 1.33.3 |
Command: /home/biocbuild/bbs-3.17-bioc/R/bin/R CMD check --install=check:specL.install-out.txt --library=/home/biocbuild/bbs-3.17-bioc/R/site-library --timings specL_1.33.3.tar.gz |
StartedAt: 2023-04-12 09:35:40 -0400 (Wed, 12 Apr 2023) |
EndedAt: 2023-04-12 09:36:51 -0400 (Wed, 12 Apr 2023) |
EllapsedTime: 71.2 seconds |
RetCode: 0 |
Status: OK |
CheckDir: specL.Rcheck |
Warnings: 0 |
############################################################################## ############################################################################## ### ### Running command: ### ### /home/biocbuild/bbs-3.17-bioc/R/bin/R CMD check --install=check:specL.install-out.txt --library=/home/biocbuild/bbs-3.17-bioc/R/site-library --timings specL_1.33.3.tar.gz ### ############################################################################## ############################################################################## * using log directory ‘/home/biocbuild/bbs-3.17-bioc/meat/specL.Rcheck’ * using R Under development (unstable) (2023-02-14 r83833) * using platform: x86_64-pc-linux-gnu (64-bit) * R was compiled by gcc (Ubuntu 9.4.0-1ubuntu1~20.04.1) 9.4.0 GNU Fortran (Ubuntu 9.4.0-1ubuntu1~20.04.1) 9.4.0 * running under: Ubuntu 20.04.6 LTS * using session charset: UTF-8 * checking for file ‘specL/DESCRIPTION’ ... OK * checking extension type ... Package * this is package ‘specL’ version ‘1.33.3’ * checking package namespace information ... OK * checking package dependencies ... OK * checking if this is a source package ... OK * checking if there is a namespace ... OK * checking for hidden files and directories ... OK * checking for portable file names ... OK * checking for sufficient/correct file permissions ... OK * checking whether package ‘specL’ can be installed ... OK * checking installed package size ... OK * checking package directory ... OK * checking ‘build’ directory ... OK * checking DESCRIPTION meta-information ... OK * checking top-level files ... OK * checking for left-over files ... OK * checking index information ... OK * checking package subdirectories ... OK * checking R files for non-ASCII characters ... OK * checking R files for syntax errors ... OK * checking whether the package can be loaded ... OK * checking whether the package can be loaded with stated dependencies ... OK * checking whether the package can be unloaded cleanly ... OK * checking whether the namespace can be loaded with stated dependencies ... OK * checking whether the namespace can be unloaded cleanly ... OK * checking loading without being on the library search path ... OK * checking dependencies in R code ... OK * checking S3 generic/method consistency ... NOTE Found the following apparent S3 methods exported but not registered: merge.specLSet plot.psm plot.psmSet summary.psmSet See section ‘Registering S3 methods’ in the ‘Writing R Extensions’ manual. * checking replacement functions ... OK * checking foreign function calls ... OK * checking R code for possible problems ... NOTE .retentiontimePlotFile : <anonymous>: no visible global function definition for ‘head’ summary,specLSet : <anonymous>: no visible binding for global variable ‘iRTpeptides’ Undefined global functions or variables: head iRTpeptides Consider adding importFrom("utils", "head") to your NAMESPACE file. * checking Rd files ... OK * checking Rd metadata ... OK * checking Rd cross-references ... OK * checking for missing documentation entries ... OK * checking for code/documentation mismatches ... OK * checking Rd \usage sections ... OK * checking Rd contents ... OK * checking for unstated dependencies in examples ... OK * checking contents of ‘data’ directory ... OK * checking data for non-ASCII characters ... OK * checking LazyData ... OK * checking data for ASCII and uncompressed saves ... OK * checking files in ‘vignettes’ ... OK * checking examples ... OK * checking for unstated dependencies in ‘tests’ ... OK * checking tests ... Running ‘runTests.R’ OK * checking for unstated dependencies in vignettes ... OK * checking package vignettes in ‘inst/doc’ ... OK * checking running R code from vignettes ... ‘report.Rmd’ using ‘UTF-8’... OK ‘specL.Rmd’ using ‘UTF-8’... OK NONE * checking re-building of vignette outputs ... OK * checking PDF version of manual ... OK * DONE Status: 2 NOTEs See ‘/home/biocbuild/bbs-3.17-bioc/meat/specL.Rcheck/00check.log’ for details.
specL.Rcheck/00install.out
############################################################################## ############################################################################## ### ### Running command: ### ### /home/biocbuild/bbs-3.17-bioc/R/bin/R CMD INSTALL specL ### ############################################################################## ############################################################################## * installing to library ‘/home/biocbuild/bbs-3.17-bioc/R/site-library’ * installing *source* package ‘specL’ ... ** using staged installation ** R ** data *** moving datasets to lazyload DB ** inst ** byte-compile and prepare package for lazy loading ** help *** installing help indices ** building package indices ** installing vignettes ** testing if installed package can be loaded from temporary location ** testing if installed package can be loaded from final location ** testing if installed package keeps a record of temporary installation path * DONE (specL)
specL.Rcheck/tests/runTests.Rout
R Under development (unstable) (2023-02-14 r83833) -- "Unsuffered Consequences" Copyright (C) 2023 The R Foundation for Statistical Computing Platform: x86_64-pc-linux-gnu (64-bit) R is free software and comes with ABSOLUTELY NO WARRANTY. You are welcome to redistribute it under certain conditions. Type 'license()' or 'licence()' for distribution details. R is a collaborative project with many contributors. Type 'contributors()' for more information and 'citation()' on how to cite R or R packages in publications. Type 'demo()' for some demos, 'help()' for on-line help, or 'help.start()' for an HTML browser interface to help. Type 'q()' to quit R. > BiocGenerics:::testPackage("specL") Attaching package: 'specL' The following objects are masked from 'package:protViz': plot.psm, plot.psmSet, summary.psmSet start protein annotation ... time taken: 0.000679179032643636 minutes start protein annotation ... time taken: 0.000214540958404541 minutes normalizing RT ... found 7 iRT peptide(s) in s:\p1239\Proteomics\QEXACTIVE_3\ctrachse_20140910_Nuclei_diff_extraction_methods\20140910_01_fetuin_400amol_1.raw found 7 iRT peptide(s) in s:\p1239\Proteomics\QEXACTIVE_3\ctrachse_20140910_Nuclei_diff_extraction_methods\20140910_07_fetuin_400amol_2.raw building model ... generating ion library ... start generating specLSet object ... length of findNN idx 137 length of genSwathIonLibSpecL 137 time taken: 0.254941463470459 secs length of genSwathIonLibSpecL after fragmentIonRange filtering 137 normalizing RT ... found 7 iRT peptide(s) in s:\p1239\Proteomics\QEXACTIVE_3\ctrachse_20140910_Nuclei_diff_extraction_methods\20140910_01_fetuin_400amol_1.raw found 7 iRT peptide(s) in s:\p1239\Proteomics\QEXACTIVE_3\ctrachse_20140910_Nuclei_diff_extraction_methods\20140910_07_fetuin_400amol_2.raw building model ... generating ion library ... start generating specLSet object ... length of findNN idx 137 length of genSwathIonLibSpecL 137 time taken: 0.27644681930542 secs length of genSwathIonLibSpecL after fragmentIonRange filtering 137 normalizing RT ... found 7 iRT peptide(s) in s:\p1239\Proteomics\QEXACTIVE_3\ctrachse_20140910_Nuclei_diff_extraction_methods\20140910_01_fetuin_400amol_1.raw found 7 iRT peptide(s) in s:\p1239\Proteomics\QEXACTIVE_3\ctrachse_20140910_Nuclei_diff_extraction_methods\20140910_07_fetuin_400amol_2.raw building model ... generating ion library ... start generating specLSet object ... length of findNN idx 137 length of genSwathIonLibSpecL 137 time taken: 0.293850898742676 secs length of genSwathIonLibSpecL after fragmentIonRange filtering 137 normalizing RT ... no iRT peptides found for building the model. => no iRT regression applied, using orgiginal rt instead! generating ion library ... start generating specLSet object ... length of findNN idx 137 length of genSwathIonLibSpecL 137 time taken: 0.253689050674438 secs length of genSwathIonLibSpecL after fragmentIonRange filtering 137 normalizing RT ... found 7 iRT peptide(s) in s:\p1239\Proteomics\QEXACTIVE_3\ctrachse_20140910_Nuclei_diff_extraction_methods\20140910_01_fetuin_400amol_1.raw found 7 iRT peptide(s) in s:\p1239\Proteomics\QEXACTIVE_3\ctrachse_20140910_Nuclei_diff_extraction_methods\20140910_07_fetuin_400amol_2.raw building model ... model with only one file. generating ion library ... start generating specLSet object ... length of findNN idx 1 length of genSwathIonLibSpecL 1 time taken: 0.00941753387451172 secs length of genSwathIonLibSpecL after fragmentIonRange filtering 1 normalizing RT ... found 7 iRT peptide(s) in s:\p1239\Proteomics\QEXACTIVE_3\ctrachse_20140910_Nuclei_diff_extraction_methods\20140910_01_fetuin_400amol_1.raw found 7 iRT peptide(s) in s:\p1239\Proteomics\QEXACTIVE_3\ctrachse_20140910_Nuclei_diff_extraction_methods\20140910_07_fetuin_400amol_2.raw building model ... model with only one file. generating ion library ... start generating specLSet object ... length of findNN idx 1 length of genSwathIonLibSpecL 1 time taken: 0.00915956497192383 secs length of genSwathIonLibSpecL after fragmentIonRange filtering 1 normalizing RT ... found 7 iRT peptide(s) in s:\p1239\Proteomics\QEXACTIVE_3\ctrachse_20140910_Nuclei_diff_extraction_methods\20140910_01_fetuin_400amol_1.raw found 7 iRT peptide(s) in s:\p1239\Proteomics\QEXACTIVE_3\ctrachse_20140910_Nuclei_diff_extraction_methods\20140910_07_fetuin_400amol_2.raw building model ... generating ion library ... start generating specLSet object ... length of findNN idx 137 length of genSwathIonLibSpecL 137 time taken: 0.20637035369873 secs length of genSwathIonLibSpecL after fragmentIonRange filtering 137 normalizing RT ... no iRT peptides found for building the model. => no iRT regression applied, using orgiginal rt instead! generating ion library ... start generating specLSet object ... length of findNN idx 137 length of genSwathIonLibSpecL 137 time taken: 0.253385782241821 secs length of genSwathIonLibSpecL after fragmentIonRange filtering 137 normalizing RT ... found 7 iRT peptide(s) in s:\p1239\Proteomics\QEXACTIVE_3\ctrachse_20140910_Nuclei_diff_extraction_methods\20140910_01_fetuin_400amol_1.raw found 7 iRT peptide(s) in s:\p1239\Proteomics\QEXACTIVE_3\ctrachse_20140910_Nuclei_diff_extraction_methods\20140910_07_fetuin_400amol_2.raw building model ... model with only one file. generating ion library ... start generating specLSet object ... length of findNN idx 1 length of genSwathIonLibSpecL 1 time taken: 0.00857949256896973 secs length of genSwathIonLibSpecL after fragmentIonRange filtering 1 normalizing RT ... found 7 iRT peptide(s) in s:\p1239\Proteomics\QEXACTIVE_3\ctrachse_20140910_Nuclei_diff_extraction_methods\20140910_01_fetuin_400amol_1.raw found 7 iRT peptide(s) in s:\p1239\Proteomics\QEXACTIVE_3\ctrachse_20140910_Nuclei_diff_extraction_methods\20140910_07_fetuin_400amol_2.raw building model ... model with only one file. generating ion library ... start generating specLSet object ... length of findNN idx 1 length of genSwathIonLibSpecL 1 time taken: 0.0089573860168457 secs length of genSwathIonLibSpecL after fragmentIonRange filtering 1 normalizing RT ... found 7 iRT peptide(s) in s:\p1239\Proteomics\QEXACTIVE_3\ctrachse_20140910_Nuclei_diff_extraction_methods\20140910_01_fetuin_400amol_1.raw found 7 iRT peptide(s) in s:\p1239\Proteomics\QEXACTIVE_3\ctrachse_20140910_Nuclei_diff_extraction_methods\20140910_07_fetuin_400amol_2.raw building model ... generating ion library ... start generating specLSet object ... length of findNN idx 69 length of genSwathIonLibSpecL 69 time taken: 0.134424686431885 secs length of genSwathIonLibSpecL after fragmentIonRange filtering 69 normalizing RT ... found 7 iRT peptide(s) in s:\p1239\Proteomics\QEXACTIVE_3\ctrachse_20140910_Nuclei_diff_extraction_methods\20140910_01_fetuin_400amol_1.raw found 7 iRT peptide(s) in s:\p1239\Proteomics\QEXACTIVE_3\ctrachse_20140910_Nuclei_diff_extraction_methods\20140910_07_fetuin_400amol_2.raw building model ... generating ion library ... start generating specLSet object ... length of findNN idx 68 length of genSwathIonLibSpecL 68 time taken: 0.136742353439331 secs length of genSwathIonLibSpecL after fragmentIonRange filtering 68 normalizing RT ... found 7 iRT peptide(s) in s:\p1239\Proteomics\QEXACTIVE_3\ctrachse_20140910_Nuclei_diff_extraction_methods\20140910_01_fetuin_400amol_1.raw found 7 iRT peptide(s) in s:\p1239\Proteomics\QEXACTIVE_3\ctrachse_20140910_Nuclei_diff_extraction_methods\20140910_07_fetuin_400amol_2.raw building model ... generating ion library ... start generating specLSet object ... length of findNN idx 137 length of genSwathIonLibSpecL 137 time taken: 0.265893936157227 secs length of genSwathIonLibSpecL after fragmentIonRange filtering 137 normalizing RT ... found 7 iRT peptide(s) in s:\p1239\Proteomics\QEXACTIVE_3\ctrachse_20140910_Nuclei_diff_extraction_methods\20140910_01_fetuin_400amol_1.raw found 7 iRT peptide(s) in s:\p1239\Proteomics\QEXACTIVE_3\ctrachse_20140910_Nuclei_diff_extraction_methods\20140910_07_fetuin_400amol_2.raw building model ... generating ion library ... start generating specLSet object ... length of findNN idx 69 length of genSwathIonLibSpecL 69 time taken: 0.136091232299805 secs length of genSwathIonLibSpecL after fragmentIonRange filtering 69 normalizing RT ... found 7 iRT peptide(s) in s:\p1239\Proteomics\QEXACTIVE_3\ctrachse_20140910_Nuclei_diff_extraction_methods\20140910_01_fetuin_400amol_1.raw found 7 iRT peptide(s) in s:\p1239\Proteomics\QEXACTIVE_3\ctrachse_20140910_Nuclei_diff_extraction_methods\20140910_07_fetuin_400amol_2.raw building model ... generating ion library ... start generating specLSet object ... length of findNN idx 68 length of genSwathIonLibSpecL 68 time taken: 0.147901296615601 secs length of genSwathIonLibSpecL after fragmentIonRange filtering 68 normalizing RT ... found 7 iRT peptide(s) in s:\p1239\Proteomics\QEXACTIVE_3\ctrachse_20140910_Nuclei_diff_extraction_methods\20140910_01_fetuin_400amol_1.raw found 7 iRT peptide(s) in s:\p1239\Proteomics\QEXACTIVE_3\ctrachse_20140910_Nuclei_diff_extraction_methods\20140910_07_fetuin_400amol_2.raw building model ... generating ion library ... start generating specLSet object ... length of findNN idx 137 length of genSwathIonLibSpecL 137 time taken: 0.254111289978027 secs length of genSwathIonLibSpecL after fragmentIonRange filtering 137 fetched 137 rows. assigning 28 modifications ... fetched 184 rows. assigning 37 modifications ... normalizing RT ... found 7 iRT peptide(s) in s:\p1239\Proteomics\QEXACTIVE_3\ctrachse_20140910_Nuclei_diff_extraction_methods\20140910_01_fetuin_400amol_1.raw found 7 iRT peptide(s) in s:\p1239\Proteomics\QEXACTIVE_3\ctrachse_20140910_Nuclei_diff_extraction_methods\20140910_07_fetuin_400amol_2.raw building model ... generating ion library ... start generating specLSet object ... length of findNN idx 137 length of genSwathIonLibSpecL 137 time taken: 0.212629318237305 secs length of genSwathIonLibSpecL after fragmentIonRange filtering 137 fetched 137 rows. assigning 28 modifications ... fetched 184 rows. assigning 37 modifications ... normalizing RT ... found 7 iRT peptide(s) in s:\p1239\Proteomics\QEXACTIVE_3\ctrachse_20140910_Nuclei_diff_extraction_methods\20140910_01_fetuin_400amol_1.raw found 7 iRT peptide(s) in s:\p1239\Proteomics\QEXACTIVE_3\ctrachse_20140910_Nuclei_diff_extraction_methods\20140910_07_fetuin_400amol_2.raw building model ... generating ion library ... start generating specLSet object ... length of findNN idx 137 length of genSwathIonLibSpecL 137 time taken: 0.221951246261597 secs length of genSwathIonLibSpecL after fragmentIonRange filtering 137 RUNIT TEST PROTOCOL -- Wed Apr 12 09:36:31 2023 *********************************************** Number of test functions: 9 Number of errors: 0 Number of failures: 0 1 Test Suite : specL RUnit Tests - 9 test functions, 0 errors, 0 failures Number of test functions: 9 Number of errors: 0 Number of failures: 0 There were 13 warnings (use warnings() to see them) > > > proc.time() user system elapsed 6.041 0.200 6.216
specL.Rcheck/specL-Ex.timings
name | user | system | elapsed | |
annotate.protein_id | 0.039 | 0.004 | 0.062 | |
cdsw | 0.016 | 0.000 | 0.016 | |
genSwathIonLib | 0.397 | 0.009 | 0.403 | |
iRTpeptides | 0.005 | 0.000 | 0.005 | |
peptideStd | 0.008 | 0.000 | 0.009 | |
read.bibliospec | 0.001 | 0.000 | 0.001 | |
specL-class | 0.000 | 0.000 | 0.001 | |
specLSet-class | 0.001 | 0.000 | 0.000 | |