Back to Multiple platform build/check report for BioC 3.18: simplified long |
|
This page was generated on 2023-10-19 11:40:07 -0400 (Thu, 19 Oct 2023).
Hostname | OS | Arch (*) | R version | Installed pkgs |
---|---|---|---|---|
nebbiolo2 | Linux (Ubuntu 22.04.2 LTS) | x86_64 | 4.3.1 (2023-06-16) -- "Beagle Scouts" | 4699 |
palomino4 | Windows Server 2022 Datacenter | x64 | 4.3.1 (2023-06-16 ucrt) -- "Beagle Scouts" | 4433 |
lconway | macOS 12.6.5 Monterey | x86_64 | 4.3.1 Patched (2023-06-17 r84564) -- "Beagle Scouts" | 4452 |
kunpeng2 | Linux (openEuler 22.03 LTS-SP1) | aarch64 | 4.3.1 (2023-06-16) -- "Beagle Scouts" | 4436 |
Click on any hostname to see more info about the system (e.g. compilers) (*) as reported by 'uname -p', except on Windows and Mac OS X |
Package 86/2255 | Hostname | OS / Arch | INSTALL | BUILD | CHECK | BUILD BIN | ||||||||
APL 1.5.0 (landing page) Elzbieta Gralinska
| nebbiolo2 | Linux (Ubuntu 22.04.2 LTS) / x86_64 | OK | OK | OK | ![]() | ||||||||
palomino4 | Windows Server 2022 Datacenter / x64 | OK | OK | OK | OK | ![]() | ||||||||
lconway | macOS 12.6.5 Monterey / x86_64 | OK | OK | OK | OK | ![]() | ||||||||
kjohnson1 | macOS 13.3.1 Ventura / arm64 | see weekly results here | ||||||||||||
kunpeng2 | Linux (openEuler 22.03 LTS-SP1) / aarch64 | OK | OK | OK | ||||||||||
To the developers/maintainers of the APL package: - Allow up to 24 hours (and sometimes 48 hours) for your latest push to git@git.bioconductor.org:packages/APL.git to reflect on this report. See Troubleshooting Build Report for more information. - Use the following Renviron settings to reproduce errors and warnings. - If 'R CMD check' started to fail recently on the Linux builder(s) over a missing dependency, add the missing dependency to 'Suggests:' in your DESCRIPTION file. See Renviron.bioc for more information. - See Martin Grigorov's blog post for how to debug Linux ARM64 related issues on a x86_64 host. |
Package: APL |
Version: 1.5.0 |
Command: /home/biocbuild/R/R-4.3.1/bin/R CMD check --install=check:APL.install-out.txt --library=/home/biocbuild/R/R-4.3.1/site-library --timings APL_1.5.0.tar.gz |
StartedAt: 2023-10-19 02:38:40 -0000 (Thu, 19 Oct 2023) |
EndedAt: 2023-10-19 02:53:12 -0000 (Thu, 19 Oct 2023) |
EllapsedTime: 871.4 seconds |
RetCode: 0 |
Status: OK |
CheckDir: APL.Rcheck |
Warnings: 0 |
############################################################################## ############################################################################## ### ### Running command: ### ### /home/biocbuild/R/R-4.3.1/bin/R CMD check --install=check:APL.install-out.txt --library=/home/biocbuild/R/R-4.3.1/site-library --timings APL_1.5.0.tar.gz ### ############################################################################## ############################################################################## * using log directory ‘/home/biocbuild/bbs-3.18-bioc/meat/APL.Rcheck’ * using R version 4.3.1 (2023-06-16) * using platform: aarch64-unknown-linux-gnu (64-bit) * R was compiled by gcc (GCC) 10.3.1 GNU Fortran (GCC) 10.3.1 * running under: openEuler 22.03 (LTS-SP1) * using session charset: UTF-8 * checking for file ‘APL/DESCRIPTION’ ... OK * checking extension type ... Package * this is package ‘APL’ version ‘1.5.0’ * package encoding: UTF-8 * checking package namespace information ... OK * checking package dependencies ... OK * checking if this is a source package ... OK * checking if there is a namespace ... OK * checking for hidden files and directories ... OK * checking for portable file names ... OK * checking for sufficient/correct file permissions ... OK * checking whether package ‘APL’ can be installed ... OK * checking installed package size ... OK * checking package directory ... OK * checking ‘build’ directory ... OK * checking DESCRIPTION meta-information ... OK * checking top-level files ... OK * checking for left-over files ... OK * checking index information ... OK * checking package subdirectories ... NOTE Problems with news in ‘NEWS.md’: No news entries found. * checking R files for non-ASCII characters ... OK * checking R files for syntax errors ... OK * checking whether the package can be loaded ... OK * checking whether the package can be loaded with stated dependencies ... OK * checking whether the package can be unloaded cleanly ... OK * checking whether the namespace can be loaded with stated dependencies ... OK * checking whether the namespace can be unloaded cleanly ... OK * checking loading without being on the library search path ... OK * checking dependencies in R code ... OK * checking S3 generic/method consistency ... OK * checking replacement functions ... OK * checking foreign function calls ... OK * checking R code for possible problems ... OK * checking Rd files ... OK * checking Rd metadata ... OK * checking Rd cross-references ... OK * checking for missing documentation entries ... OK * checking for code/documentation mismatches ... OK * checking Rd \usage sections ... OK * checking Rd contents ... OK * checking for unstated dependencies in examples ... OK * checking files in ‘vignettes’ ... OK * checking examples ... OK Examples with CPU (user + system) or elapsed time > 5s user system elapsed apl_topGO 8.731 0.228 8.98 plot_enrichment 7.549 0.144 7.71 * checking for unstated dependencies in ‘tests’ ... OK * checking tests ... Running ‘testthat.R’ OK * checking for unstated dependencies in vignettes ... OK * checking package vignettes in ‘inst/doc’ ... OK * checking running R code from vignettes ... ‘APL.Rmd’ using ‘UTF-8’... OK NONE * checking re-building of vignette outputs ... OK * checking PDF version of manual ... OK * DONE Status: 1 NOTE See ‘/home/biocbuild/bbs-3.18-bioc/meat/APL.Rcheck/00check.log’ for details.
APL.Rcheck/00install.out
############################################################################## ############################################################################## ### ### Running command: ### ### /home/biocbuild/R/R-4.3.1/bin/R CMD INSTALL APL ### ############################################################################## ############################################################################## * installing to library ‘/home/biocbuild/R/R-4.3.1/site-library’ * installing *source* package ‘APL’ ... ** using staged installation ** R ** inst ** byte-compile and prepare package for lazy loading ** help *** installing help indices *** copying figures ** building package indices ** installing vignettes ** testing if installed package can be loaded from temporary location ** testing if installed package can be loaded from final location ** testing if installed package keeps a record of temporary installation path * DONE (APL)
APL.Rcheck/tests/testthat.Rout
R version 4.3.1 (2023-06-16) -- "Beagle Scouts" Copyright (C) 2023 The R Foundation for Statistical Computing Platform: aarch64-unknown-linux-gnu (64-bit) R is free software and comes with ABSOLUTELY NO WARRANTY. You are welcome to redistribute it under certain conditions. Type 'license()' or 'licence()' for distribution details. R is a collaborative project with many contributors. Type 'contributors()' for more information and 'citation()' on how to cite R or R packages in publications. Type 'demo()' for some demos, 'help()' for on-line help, or 'help.start()' for an HTML browser interface to help. Type 'q()' to quit R. > library(testthat) > library(APL) > test_check("APL") Calling cacomp to recompute from matrix. [ FAIL 0 | WARN 0 | SKIP 0 | PASS 38 ] > > proc.time() user system elapsed 20.559 1.321 22.919
APL.Rcheck/APL-Ex.timings
name | user | system | elapsed | |
apl | 0.248 | 0.020 | 0.270 | |
apl_coords | 0.008 | 0.000 | 0.009 | |
apl_score | 0.429 | 0.032 | 0.461 | |
apl_topGO | 8.731 | 0.228 | 8.980 | |
as.cacomp | 1.211 | 0.048 | 1.262 | |
as.list-cacomp-method | 0.022 | 0.000 | 0.023 | |
ca_3Dplot | 0.274 | 0.016 | 0.291 | |
ca_biplot | 0.118 | 0.008 | 0.126 | |
ca_coords | 0.008 | 0.000 | 0.007 | |
cacomp-class | 0.015 | 0.000 | 0.014 | |
cacomp | 2.032 | 0.056 | 2.093 | |
cacomp_names | 0.007 | 0.000 | 0.007 | |
cacomp_slot | 0.007 | 0.000 | 0.006 | |
check_cacomp | 0.008 | 0.000 | 0.007 | |
elbow_method | 0.724 | 0.011 | 0.737 | |
pick_dims | 1.579 | 0.032 | 1.614 | |
pipe | 0 | 0 | 0 | |
plot_enrichment | 7.549 | 0.144 | 7.710 | |
runAPL | 2.323 | 0.036 | 2.364 | |
show.cacomp | 0.008 | 0.000 | 0.008 | |
subset_dims | 0.006 | 0.000 | 0.006 | |
var_rows | 0.024 | 0.000 | 0.024 | |