Back to Multiple platform build/check report for BioC 3.18:   simplified   long
AB[C]DEFGHIJKLMNOPQRSTUVWXYZ

This page was generated on 2023-11-02 11:40:30 -0400 (Thu, 02 Nov 2023).

HostnameOSArch (*)R versionInstalled pkgs
nebbiolo2Linux (Ubuntu 22.04.2 LTS)x86_644.3.1 (2023-06-16) -- "Beagle Scouts" 4729
palomino4Windows Server 2022 Datacenterx644.3.1 (2023-06-16 ucrt) -- "Beagle Scouts" 4463
lconwaymacOS 12.6.5 Montereyx86_644.3.1 Patched (2023-06-17 r84564) -- "Beagle Scouts" 4478
kunpeng2Linux (openEuler 22.03 LTS-SP1)aarch644.3.1 (2023-06-16) -- "Beagle Scouts" 4464
Click on any hostname to see more info about the system (e.g. compilers)      (*) as reported by 'uname -p', except on Windows and Mac OS X

Package 280/2266HostnameOS / ArchINSTALLBUILDCHECKBUILD BIN
CBNplot 1.2.0  (landing page)
Noriaki Sato
Snapshot Date: 2023-11-01 14:05:06 -0400 (Wed, 01 Nov 2023)
git_url: https://git.bioconductor.org/packages/CBNplot
git_branch: RELEASE_3_18
git_last_commit: 98040ef
git_last_commit_date: 2023-10-24 11:48:27 -0400 (Tue, 24 Oct 2023)
nebbiolo2Linux (Ubuntu 22.04.2 LTS) / x86_64  OK    OK    OK  UNNEEDED, same version is already published
palomino4Windows Server 2022 Datacenter / x64  OK    OK    OK    OK  UNNEEDED, same version is already published
lconwaymacOS 12.6.5 Monterey / x86_64  OK    OK    OK    OK  UNNEEDED, same version is already published
kjohnson1macOS 13.6.1 Ventura / arm64see weekly results here
kunpeng2Linux (openEuler 22.03 LTS-SP1) / aarch64  OK    OK    TIMEOUT  

CHECK results for CBNplot on kunpeng2


To the developers/maintainers of the CBNplot package:
- Allow up to 24 hours (and sometimes 48 hours) for your latest push to git@git.bioconductor.org:packages/CBNplot.git to reflect on this report. See Troubleshooting Build Report for more information.
- Use the following Renviron settings to reproduce errors and warnings.
- If 'R CMD check' started to fail recently on the Linux builder(s) over a missing dependency, add the missing dependency to 'Suggests:' in your DESCRIPTION file. See Renviron.bioc for more information.
- See Martin Grigorov's blog post for how to debug Linux ARM64 related issues on a x86_64 host.

raw results


Summary

Package: CBNplot
Version: 1.2.0
Command: /home/biocbuild/R/R-4.3.1/bin/R CMD check --install=check:CBNplot.install-out.txt --library=/home/biocbuild/R/R-4.3.1/site-library --no-vignettes --timings CBNplot_1.2.0.tar.gz
StartedAt: 2023-11-02 09:02:03 -0000 (Thu, 02 Nov 2023)
EndedAt: 2023-11-02 09:42:03 -0000 (Thu, 02 Nov 2023)
EllapsedTime: 2400.5 seconds
RetCode: None
Status:   TIMEOUT  
CheckDir: CBNplot.Rcheck
Warnings: NA

Command output

##############################################################################
##############################################################################
###
### Running command:
###
###   /home/biocbuild/R/R-4.3.1/bin/R CMD check --install=check:CBNplot.install-out.txt --library=/home/biocbuild/R/R-4.3.1/site-library --no-vignettes --timings CBNplot_1.2.0.tar.gz
###
##############################################################################
##############################################################################


* using log directory ‘/home/biocbuild/bbs-3.18-bioc/meat/CBNplot.Rcheck’
* using R version 4.3.1 (2023-06-16)
* using platform: aarch64-unknown-linux-gnu (64-bit)
* R was compiled by
    gcc (GCC) 10.3.1
    GNU Fortran (GCC) 10.3.1
* running under: openEuler 22.03 (LTS-SP1)
* using session charset: UTF-8
* using option ‘--no-vignettes’
* checking for file ‘CBNplot/DESCRIPTION’ ... OK
* checking extension type ... Package
* this is package ‘CBNplot’ version ‘1.2.0’
* package encoding: UTF-8
* checking package namespace information ... OK
* checking package dependencies ... OK
* checking if this is a source package ... OK
* checking if there is a namespace ... OK
* checking for hidden files and directories ... OK
* checking for portable file names ... OK
* checking for sufficient/correct file permissions ... OK
* checking whether package ‘CBNplot’ can be installed ... OK
* checking installed package size ... OK
* checking package directory ... OK
* checking ‘build’ directory ... OK
* checking DESCRIPTION meta-information ... OK
* checking top-level files ... OK
* checking for left-over files ... OK
* checking index information ... OK
* checking package subdirectories ... OK
* checking R files for non-ASCII characters ... OK
* checking R files for syntax errors ... OK
* checking whether the package can be loaded ... OK
* checking whether the package can be loaded with stated dependencies ... OK
* checking whether the package can be unloaded cleanly ... OK
* checking whether the namespace can be loaded with stated dependencies ... OK
* checking whether the namespace can be unloaded cleanly ... OK
* checking loading without being on the library search path ... OK
* checking dependencies in R code ...

Installation output

CBNplot.Rcheck/00install.out

##############################################################################
##############################################################################
###
### Running command:
###
###   /home/biocbuild/R/R-4.3.1/bin/R CMD INSTALL CBNplot
###
##############################################################################
##############################################################################


* installing to library ‘/home/biocbuild/R/R-4.3.1/site-library’
* installing *source* package ‘CBNplot’ ...
** using staged installation
** R
** data
** byte-compile and prepare package for lazy loading
** help
*** installing help indices
** building package indices
** installing vignettes
** testing if installed package can be loaded from temporary location
** testing if installed package can be loaded from final location
** testing if installed package keeps a record of temporary installation path
* DONE (CBNplot)

Tests output


Example timings