Back to Multiple platform build/check report for BioC 3.18:   simplified   long
ABCDE[F]GHIJKLMNOPQRSTUVWXYZ

This page was generated on 2023-07-08 11:39:03 -0400 (Sat, 08 Jul 2023).

HostnameOSArch (*)R versionInstalled pkgs
nebbiolo2Linux (Ubuntu 22.04.2 LTS)x86_644.3.1 (2023-06-16) -- "Beagle Scouts" 4610
palomino4Windows Server 2022 Datacenterx644.3.1 (2023-06-16 ucrt) -- "Beagle Scouts" 4344
lconwaymacOS 12.6.5 Montereyx86_644.3.1 Patched (2023-06-17 r84564) -- "Beagle Scouts" 4350
kunpeng2Linux (openEuler 22.03 LTS-SP1)aarch644.3.1 (2023-06-16) -- "Beagle Scouts" 4347
Click on any hostname to see more info about the system (e.g. compilers)      (*) as reported by 'uname -p', except on Windows and Mac OS X

Package 690/2211HostnameOS / ArchINSTALLBUILDCHECKBUILD BIN
FELLA 1.21.0  (landing page)
Sergio Picart-Armada
Snapshot Date: 2023-07-07 14:05:07 -0400 (Fri, 07 Jul 2023)
git_url: https://git.bioconductor.org/packages/FELLA
git_branch: devel
git_last_commit: 26df715
git_last_commit_date: 2023-04-25 10:59:59 -0400 (Tue, 25 Apr 2023)
nebbiolo2Linux (Ubuntu 22.04.2 LTS) / x86_64  OK    OK    OK  UNNEEDED, same version is already published
palomino4Windows Server 2022 Datacenter / x64  OK    ERROR  skippedskipped
lconwaymacOS 12.6.5 Monterey / x86_64  OK    OK    OK    OK  UNNEEDED, same version is already published
kunpeng2Linux (openEuler 22.03 LTS-SP1) / aarch64  OK    OK    ERROR  

CHECK results for FELLA on kunpeng2


The builds on kunpeng2 (Linux ARM64) are experimental!
To the developers/maintainers of the FELLA package:
- Allow up to 24 hours (and sometimes 48 hours) for your latest push to git@git.bioconductor.org:packages/FELLA.git to reflect on this report. See Troubleshooting Build Report for more information.
- Use the following Renviron settings to reproduce errors and warnings.
- If 'R CMD check' started to fail recently on the Linux builder(s) over a missing dependency, add the missing dependency to 'Suggests:' in your DESCRIPTION file. See Renviron.bioc for more information.
- See Martin Grigorov's blog post for how to debug Linux ARM64 related issues on a x86_64 host.

raw results


Summary

Package: FELLA
Version: 1.21.0
Command: /home/biocbuild/R/R-4.3.1/bin/R CMD check --install=check:FELLA.install-out.txt --library=/home/biocbuild/R/R-4.3.1/site-library --timings FELLA_1.21.0.tar.gz
StartedAt: 2023-07-08 07:08:09 -0000 (Sat, 08 Jul 2023)
EndedAt: 2023-07-08 07:28:31 -0000 (Sat, 08 Jul 2023)
EllapsedTime: 1222.0 seconds
RetCode: 1
Status:   ERROR  
CheckDir: FELLA.Rcheck
Warnings: NA

Command output

##############################################################################
##############################################################################
###
### Running command:
###
###   /home/biocbuild/R/R-4.3.1/bin/R CMD check --install=check:FELLA.install-out.txt --library=/home/biocbuild/R/R-4.3.1/site-library --timings FELLA_1.21.0.tar.gz
###
##############################################################################
##############################################################################


* using log directory ‘/home/biocbuild/bbs-3.18-bioc/meat/FELLA.Rcheck’
* using R version 4.3.1 (2023-06-16)
* using platform: aarch64-unknown-linux-gnu (64-bit)
* R was compiled by
    gcc (GCC) 10.3.1
    GNU Fortran (GCC) 10.3.1
* running under: openEuler 22.03 (LTS-SP1)
* using session charset: UTF-8
* checking for file ‘FELLA/DESCRIPTION’ ... OK
* checking extension type ... Package
* this is package ‘FELLA’ version ‘1.21.0’
* package encoding: UTF-8
* checking package namespace information ... OK
* checking package dependencies ... OK
* checking if this is a source package ... OK
* checking if there is a namespace ... OK
* checking for hidden files and directories ... OK
* checking for portable file names ... OK
* checking for sufficient/correct file permissions ... OK
* checking whether package ‘FELLA’ can be installed ... OK
* checking installed package size ... OK
* checking package directory ... OK
* checking ‘build’ directory ... OK
* checking DESCRIPTION meta-information ... OK
* checking top-level files ... OK
* checking for left-over files ... OK
* checking index information ... OK
* checking package subdirectories ... OK
* checking R files for non-ASCII characters ... OK
* checking R files for syntax errors ... OK
* checking whether the package can be loaded ... OK
* checking whether the package can be loaded with stated dependencies ... OK
* checking whether the package can be unloaded cleanly ... OK
* checking whether the namespace can be loaded with stated dependencies ... OK
* checking whether the namespace can be unloaded cleanly ... OK
* checking loading without being on the library search path ... OK
* checking dependencies in R code ... OK
* checking S3 generic/method consistency ... OK
* checking replacement functions ... OK
* checking foreign function calls ... OK
* checking R code for possible problems ... NOTE
buildGraphFromKEGGREST: no visible global function definition for
  ‘capture.output’
Undefined global functions or variables:
  capture.output
Consider adding
  importFrom("utils", "capture.output")
to your NAMESPACE file.
* checking Rd files ... OK
* checking Rd metadata ... OK
* checking Rd cross-references ... OK
* checking for missing documentation entries ... OK
* checking for code/documentation mismatches ... OK
* checking Rd \usage sections ... OK
* checking Rd contents ... OK
* checking for unstated dependencies in examples ... OK
* checking contents of ‘data’ directory ... OK
* checking data for non-ASCII characters ... OK
* checking data for ASCII and uncompressed saves ... OK
* checking files in ‘vignettes’ ... OK
* checking examples ... OK
Examples with CPU (user + system) or elapsed time > 5s
             user system elapsed
enrich-funs 3.632  1.036   5.958
* checking for unstated dependencies in ‘tests’ ... OK
* checking tests ...
  Running ‘testthat.R’/home/biocbuild/R/R-4.3.1/bin/BATCH: line 60: 3923885 Killed                  ${R_HOME}/bin/R -f ${in} ${opts} ${R_BATCH_OPTIONS} > ${out} 2>&1

 ERROR
Running the tests in ‘tests/testthat.R’ failed.
Last 13 lines of output:
    |=====================                                                 |  30%
    |                                                                            
    |============================                                          |  40%
    |                                                                            
    |===================================                                   |  50%
    |                                                                            
    |==========================================                            |  60%
    |                                                                            
    |=================================================                     |  70%
    |                                                                            
    |========================================================              |  80%
    |                                                                            
    |===============================================================       |  90%
    |                                                                            
    |======================================================================| 100%
* checking for unstated dependencies in vignettes ... OK
* checking package vignettes in ‘inst/doc’ ... OK
* checking running R code from vignettes ...
  ‘musmusculus.Rmd’ using ‘UTF-8’... OK
  ‘quickstart.Rmd’ using ‘UTF-8’... OK
  ‘zebrafish.Rmd’ using ‘UTF-8’... OK
  ‘FELLA.Rnw’ using ‘UTF-8’... failed to complete the test
 ERROR
Errors in running code in vignettes:
when running code in ‘FELLA.Rnw’
  ...
  |                                                                            
  |===================================================================== |  98%
  |                                                                            
  |======================================================================| 100%
Directory /home/biocbuild/tmp/RtmpJFJGtx/my_database does not exist. Creating it...
Done.
Done.
Computing diffusion.matrix... (this may take a while and use some memory)

... incomplete output.  Crash?

* checking re-building of vignette outputs ... NOTE
Error(s) in re-building vignettes:
--- re-building ‘musmusculus.Rmd’ using rmarkdown

Quitting from lines 75-84 [unnamed-chunk-2] (musmusculus.Rmd)
Error: processing vignette 'musmusculus.Rmd' failed with diagnostics:
Timeout was reached: [rest.kegg.jp] Connection timeout after 10001 ms
--- failed re-building ‘musmusculus.Rmd’

--- re-building ‘quickstart.Rmd’ using rmarkdown
The magick package is required to crop "/home/biocbuild/bbs-3.18-bioc/meat/FELLA.Rcheck/vign_test/FELLA/vignettes/quickstart_files/figure-html/unnamed-chunk-12-1.png" but not available.
The magick package is required to crop "/home/biocbuild/bbs-3.18-bioc/meat/FELLA.Rcheck/vign_test/FELLA/vignettes/quickstart_files/figure-html/unnamed-chunk-13-1.png" but not available.
The magick package is required to crop "/home/biocbuild/bbs-3.18-bioc/meat/FELLA.Rcheck/vign_test/FELLA/vignettes/quickstart_files/figure-html/unnamed-chunk-14-1.png" but not available.
--- finished re-building ‘quickstart.Rmd’

--- re-building ‘zebrafish.Rmd’ using rmarkdown
Warning: LaTeX Warning: You have requested package `/home/biocbuild/R/R-4.3.1/site-libra
Warning: ry/BiocStyle/resources/tex/Bioconductor',
Warning:                but the package provides `Bioconductor'.
--- finished re-building ‘zebrafish.Rmd’

--- re-building ‘FELLA.Rnw’ using Sweave
Building through KEGGREST...
Available gene annotations: ncbi-geneid, ncbi-proteinid. Using ncbi-geneid
Done.
Building graph...
Filtering 5 pathways.
Done.
Pruning graph...
Current weight: 1 out of 4...
Current weight: 2 out of 4...
Current weight: 3 out of 4...
Current weight: 4 out of 4...
Done.
Computing probabilities for random subgraphs... (this may take a while)
Directory /home/biocbuild/tmp/Rtmp3ZUgC1/my_database does not exist. Creating it...
Done.
Done.
Computing diffusion.matrix... (this may take a while and use some memory)
SUMMARY: processing the following files failed:
  ‘musmusculus.Rmd’ ‘FELLA.Rnw’

Error: Vignette re-building failed.
Execution halted

* checking PDF version of manual ... OK
* DONE

Status: 2 ERRORs, 2 NOTEs
See
  ‘/home/biocbuild/bbs-3.18-bioc/meat/FELLA.Rcheck/00check.log’
for details.


Installation output

FELLA.Rcheck/00install.out

##############################################################################
##############################################################################
###
### Running command:
###
###   /home/biocbuild/R/R-4.3.1/bin/R CMD INSTALL FELLA
###
##############################################################################
##############################################################################


* installing to library ‘/home/biocbuild/R/R-4.3.1/site-library’
* installing *source* package ‘FELLA’ ...
** using staged installation
** R
** data
** inst
** byte-compile and prepare package for lazy loading
** help
*** installing help indices
** building package indices
** installing vignettes
** testing if installed package can be loaded from temporary location
** testing if installed package can be loaded from final location
** testing if installed package keeps a record of temporary installation path
* DONE (FELLA)

Tests output

FELLA.Rcheck/tests/testthat.Rout.fail


R version 4.3.1 (2023-06-16) -- "Beagle Scouts"
Copyright (C) 2023 The R Foundation for Statistical Computing
Platform: aarch64-unknown-linux-gnu (64-bit)

R is free software and comes with ABSOLUTELY NO WARRANTY.
You are welcome to redistribute it under certain conditions.
Type 'license()' or 'licence()' for distribution details.

R is a collaborative project with many contributors.
Type 'contributors()' for more information and
'citation()' on how to cite R or R packages in publications.

Type 'demo()' for some demos, 'help()' for on-line help, or
'help.start()' for an HTML browser interface to help.
Type 'q()' to quit R.

> library(testthat)
> library(FELLA)
> 
> test_check("FELLA")

  |                                                                            
  |                                                                      |   0%
  |                                                                            
  |==============                                                        |  20%
  |                                                                            
  |============================                                          |  40%
  |                                                                            
  |==========================================                            |  60%
  |                                                                            
  |========================================================              |  80%
  |                                                                            
  |======================================================================| 100%

  |                                                                            
  |                                                                      |   0%
  |                                                                            
  |=======                                                               |  10%
  |                                                                            
  |==============                                                        |  20%
  |                                                                            
  |=====================                                                 |  30%
  |                                                                            
  |============================                                          |  40%
  |                                                                            
  |===================================                                   |  50%
  |                                                                            
  |==========================================                            |  60%
  |                                                                            
  |=================================================                     |  70%
  |                                                                            
  |========================================================              |  80%
  |                                                                            
  |===============================================================       |  90%
  |                                                                            
  |======================================================================| 100%

Example timings

FELLA.Rcheck/FELLA-Ex.timings

nameusersystemelapsed
FELLA0.3050.0160.361
FELLA.sample0.0120.0000.013
checkArguments0.0020.0000.002
data-funs3.0730.0763.156
enrich-funs3.6321.0365.958
export-funs0.2550.0020.277
getBackground0.3950.0160.411
getCom0.0110.0000.011
getExcluded0.0130.0000.013
getGraph0.0110.0000.011
getInfo0.0110.0000.011
getInput0.0130.0010.014
getMatrix0.0120.0110.023
getName0.0110.0000.011
getPscores0.0290.0030.032
getPvaluesSize0.0300.0000.031
getStatus0.0110.0000.011
getSums0.5180.0000.518
getValid0.0210.0040.026
infere.con2ec0.0030.0000.003
input.sample0.0010.0000.001
is.FELLA.DATA0.0110.0000.011
is.FELLA.USER0.0250.0000.025
largestcc0.0220.0000.021
launchApp000
listApprox000
listCategories000
listInternalDatabases0.0020.0000.002
listMethods000
mytriangle0.0230.0000.023
plotBipartite0.0790.0000.079
plotLegend0.0330.0040.038
sanitise000