Back to Multiple platform build/check report for BioC 3.18:   simplified   long
ABCDEFGHIJKLMNOPQR[S]TUVWXYZ

This page was generated on 2023-10-20 11:40:53 -0400 (Fri, 20 Oct 2023).

HostnameOSArch (*)R versionInstalled pkgs
nebbiolo2Linux (Ubuntu 22.04.2 LTS)x86_644.3.1 (2023-06-16) -- "Beagle Scouts" 4706
palomino4Windows Server 2022 Datacenterx644.3.1 (2023-06-16 ucrt) -- "Beagle Scouts" 4436
lconwaymacOS 12.6.5 Montereyx86_644.3.1 Patched (2023-06-17 r84564) -- "Beagle Scouts" 4455
kunpeng2Linux (openEuler 22.03 LTS-SP1)aarch644.3.1 (2023-06-16) -- "Beagle Scouts" 4439
Click on any hostname to see more info about the system (e.g. compilers)      (*) as reported by 'uname -p', except on Windows and Mac OS X

Package 1984/2257HostnameOS / ArchINSTALLBUILDCHECKBUILD BIN
SNPhood 1.31.0  (landing page)
Christian Arnold
Snapshot Date: 2023-10-19 14:05:07 -0400 (Thu, 19 Oct 2023)
git_url: https://git.bioconductor.org/packages/SNPhood
git_branch: devel
git_last_commit: 1948d37
git_last_commit_date: 2023-04-25 10:42:22 -0400 (Tue, 25 Apr 2023)
nebbiolo2Linux (Ubuntu 22.04.2 LTS) / x86_64  OK    OK    OK  UNNEEDED, same version is already published
palomino4Windows Server 2022 Datacenter / x64  OK    OK    OK    OK  UNNEEDED, same version is already published
lconwaymacOS 12.6.5 Monterey / x86_64  OK    OK    OK    OK  UNNEEDED, same version is already published
kjohnson1macOS 13.3.1 Ventura / arm64see weekly results here
kunpeng2Linux (openEuler 22.03 LTS-SP1) / aarch64  OK    OK    OK  

CHECK results for SNPhood on kunpeng2


To the developers/maintainers of the SNPhood package:
- Allow up to 24 hours (and sometimes 48 hours) for your latest push to git@git.bioconductor.org:packages/SNPhood.git to reflect on this report. See Troubleshooting Build Report for more information.
- Use the following Renviron settings to reproduce errors and warnings.
- If 'R CMD check' started to fail recently on the Linux builder(s) over a missing dependency, add the missing dependency to 'Suggests:' in your DESCRIPTION file. See Renviron.bioc for more information.
- See Martin Grigorov's blog post for how to debug Linux ARM64 related issues on a x86_64 host.

raw results


Summary

Package: SNPhood
Version: 1.31.0
Command: /home/biocbuild/R/R-4.3.1/bin/R CMD check --install=check:SNPhood.install-out.txt --library=/home/biocbuild/R/R-4.3.1/site-library --timings SNPhood_1.31.0.tar.gz
StartedAt: 2023-10-20 12:53:53 -0000 (Fri, 20 Oct 2023)
EndedAt: 2023-10-20 13:12:23 -0000 (Fri, 20 Oct 2023)
EllapsedTime: 1109.7 seconds
RetCode: 0
Status:   OK  
CheckDir: SNPhood.Rcheck
Warnings: 0

Command output

##############################################################################
##############################################################################
###
### Running command:
###
###   /home/biocbuild/R/R-4.3.1/bin/R CMD check --install=check:SNPhood.install-out.txt --library=/home/biocbuild/R/R-4.3.1/site-library --timings SNPhood_1.31.0.tar.gz
###
##############################################################################
##############################################################################


* using log directory ‘/home/biocbuild/bbs-3.18-bioc/meat/SNPhood.Rcheck’
* using R version 4.3.1 (2023-06-16)
* using platform: aarch64-unknown-linux-gnu (64-bit)
* R was compiled by
    gcc (GCC) 10.3.1
    GNU Fortran (GCC) 10.3.1
* running under: openEuler 22.03 (LTS-SP1)
* using session charset: UTF-8
* checking for file ‘SNPhood/DESCRIPTION’ ... OK
* this is package ‘SNPhood’ version ‘1.31.0’
* checking package namespace information ... OK
* checking package dependencies ... OK
* checking if this is a source package ... OK
* checking if there is a namespace ... OK
* checking for hidden files and directories ... OK
* checking for portable file names ... OK
* checking for sufficient/correct file permissions ... OK
* checking whether package ‘SNPhood’ can be installed ... OK
* checking installed package size ... OK
* checking package directory ... OK
* checking ‘build’ directory ... OK
* checking DESCRIPTION meta-information ... NOTE
BugReports field is not a suitable URL but contains an email address:
   use the Contact field instead
* checking top-level files ... OK
* checking for left-over files ... OK
* checking index information ... OK
* checking package subdirectories ... OK
* checking R files for non-ASCII characters ... OK
* checking R files for syntax errors ... OK
* checking whether the package can be loaded ... OK
* checking whether the package can be loaded with stated dependencies ... OK
* checking whether the package can be unloaded cleanly ... OK
* checking whether the namespace can be loaded with stated dependencies ... OK
* checking whether the namespace can be unloaded cleanly ... OK
* checking loading without being on the library search path ... OK
* checking startup messages can be suppressed ... OK
* checking dependencies in R code ... OK
* checking S3 generic/method consistency ... OK
* checking replacement functions ... OK
* checking foreign function calls ... OK
* checking R code for possible problems ... NOTE
.calcBinomTestVector: no visible binding for global variable ‘pp’
Undefined global functions or variables:
  pp
* checking Rd files ... OK
* checking Rd metadata ... OK
* checking Rd cross-references ... OK
* checking for missing documentation entries ... OK
* checking for code/documentation mismatches ... OK
* checking Rd \usage sections ... OK
* checking Rd contents ... OK
* checking for unstated dependencies in examples ... OK
* checking contents of ‘data’ directory ... OK
* checking data for non-ASCII characters ... OK
* checking LazyData ... OK
* checking data for ASCII and uncompressed saves ... OK
* checking files in ‘vignettes’ ... OK
* checking examples ... OK
Examples with CPU (user + system) or elapsed time > 5s
                                   user system elapsed
analyzeSNPhood                  148.600  2.140 151.937
plotAllelicBiasResults           44.217  0.292  44.446
plotAndSummarizeAllelicBiasTest  40.789  0.099  40.817
testForAllelicBiases             40.297  0.247  40.511
plotFDRResults                   39.093  0.120  39.169
annotationBins2                  11.853  0.016  11.890
associateGenotypes                8.470  0.036   8.522
results                           2.225  2.793   5.034
* checking for unstated dependencies in vignettes ... OK
* checking package vignettes in ‘inst/doc’ ... OK
* checking running R code from vignettes ...
  ‘IntroductionToSNPhood.Rmd’ using ‘UTF-8’... OK
  ‘workflow.Rmd’ using ‘UTF-8’... OK
 NONE
* checking re-building of vignette outputs ... OK
* checking PDF version of manual ... OK
* DONE

Status: 2 NOTEs
See
  ‘/home/biocbuild/bbs-3.18-bioc/meat/SNPhood.Rcheck/00check.log’
for details.



Installation output

SNPhood.Rcheck/00install.out

##############################################################################
##############################################################################
###
### Running command:
###
###   /home/biocbuild/R/R-4.3.1/bin/R CMD INSTALL SNPhood
###
##############################################################################
##############################################################################


* installing to library ‘/home/biocbuild/R/R-4.3.1/site-library’
* installing *source* package ‘SNPhood’ ...
** using staged installation
** R
** data
*** moving datasets to lazyload DB
** byte-compile and prepare package for lazy loading
** help
*** installing help indices
** building package indices
** installing vignettes
** testing if installed package can be loaded from temporary location
** testing if installed package can be loaded from final location
** testing if installed package keeps a record of temporary installation path
* DONE (SNPhood)

Tests output


Example timings

SNPhood.Rcheck/SNPhood-Ex.timings

nameusersystemelapsed
analyzeSNPhood148.600 2.140151.937
annotation-methods0.3620.0280.391
annotationBins0.2520.0000.253
annotationBins211.853 0.01611.890
annotationDatasets0.2440.0160.260
annotationReadGroups0.2630.0000.263
annotationRegions0.2660.0000.266
associateGenotypes8.4700.0368.522
bins-methods0.2180.0390.258
changeObjectIntegrityChecking0.2730.0010.273
collectFiles0.0420.0000.041
convertToAllelicFractions0.3080.0030.313
counts-method0.4320.0110.445
datasets-methods0.2500.0040.254
deleteDatasets0.2990.0040.303
deleteReadGroups0.2940.0000.294
deleteRegions1.4780.0081.489
enrichment-methods0.2810.0080.289
getDefaultParameterList0.0010.0000.000
mergeReadGroups0.3590.0080.368
parameters-methods0.2630.0000.264
plotAllelicBiasResults44.217 0.29244.446
plotAllelicBiasResultsOverview1.5560.0201.579
plotAndCalculateCorrelationDatasets0.4550.0040.460
plotAndCalculateWeakAndStrongGenotype2.2710.0162.292
plotAndClusterMatrix0.8690.0040.875
plotAndSummarizeAllelicBiasTest40.789 0.09940.817
plotBinCounts2.1500.0202.173
plotClusterAverage2.1660.0402.209
plotFDRResults39.093 0.12039.169
plotGenotypesPerCluster0.6790.0080.688
plotGenotypesPerSNP0.6010.0120.614
plotRegionCounts4.0770.0044.088
readGroups-methods0.2230.0160.240
regions-methods0.2540.0040.257
renameBins0.2570.0000.257
renameDatasets0.2760.0040.280
renameReadGroups0.2760.0000.276
renameRegions3.2380.0003.244
results2.2252.7935.034
testForAllelicBiases40.297 0.24740.511