Back to Multiple platform build/check report for BioC 3.18:   simplified   long
ABCDEFG[H]IJKLMNOPQRSTUVWXYZ

This page was generated on 2023-11-02 11:40:47 -0400 (Thu, 02 Nov 2023).

HostnameOSArch (*)R versionInstalled pkgs
nebbiolo2Linux (Ubuntu 22.04.2 LTS)x86_644.3.1 (2023-06-16) -- "Beagle Scouts" 4729
palomino4Windows Server 2022 Datacenterx644.3.1 (2023-06-16 ucrt) -- "Beagle Scouts" 4463
lconwaymacOS 12.6.5 Montereyx86_644.3.1 Patched (2023-06-17 r84564) -- "Beagle Scouts" 4478
kunpeng2Linux (openEuler 22.03 LTS-SP1)aarch644.3.1 (2023-06-16) -- "Beagle Scouts" 4464
Click on any hostname to see more info about the system (e.g. compilers)      (*) as reported by 'uname -p', except on Windows and Mac OS X

Package 946/2266HostnameOS / ArchINSTALLBUILDCHECKBUILD BIN
hiAnnotator 1.36.0  (landing page)
Nirav V Malani
Snapshot Date: 2023-11-01 14:05:06 -0400 (Wed, 01 Nov 2023)
git_url: https://git.bioconductor.org/packages/hiAnnotator
git_branch: RELEASE_3_18
git_last_commit: 5c4211d
git_last_commit_date: 2023-10-24 09:59:04 -0400 (Tue, 24 Oct 2023)
nebbiolo2Linux (Ubuntu 22.04.2 LTS) / x86_64  OK    OK    OK  UNNEEDED, same version is already published
palomino4Windows Server 2022 Datacenter / x64  OK    OK    OK    OK  UNNEEDED, same version is already published
lconwaymacOS 12.6.5 Monterey / x86_64  OK    OK    OK    OK  UNNEEDED, same version is already published
kjohnson1macOS 13.6.1 Ventura / arm64see weekly results here
kunpeng2Linux (openEuler 22.03 LTS-SP1) / aarch64  OK    OK    OK  

CHECK results for hiAnnotator on kunpeng2


To the developers/maintainers of the hiAnnotator package:
- Allow up to 24 hours (and sometimes 48 hours) for your latest push to git@git.bioconductor.org:packages/hiAnnotator.git to reflect on this report. See Troubleshooting Build Report for more information.
- Use the following Renviron settings to reproduce errors and warnings.
- If 'R CMD check' started to fail recently on the Linux builder(s) over a missing dependency, add the missing dependency to 'Suggests:' in your DESCRIPTION file. See Renviron.bioc for more information.
- See Martin Grigorov's blog post for how to debug Linux ARM64 related issues on a x86_64 host.

raw results


Summary

Package: hiAnnotator
Version: 1.36.0
Command: /home/biocbuild/R/R-4.3.1/bin/R CMD check --install=check:hiAnnotator.install-out.txt --library=/home/biocbuild/R/R-4.3.1/site-library --no-vignettes --timings hiAnnotator_1.36.0.tar.gz
StartedAt: 2023-11-02 11:15:09 -0000 (Thu, 02 Nov 2023)
EndedAt: 2023-11-02 11:20:06 -0000 (Thu, 02 Nov 2023)
EllapsedTime: 297.3 seconds
RetCode: 0
Status:   OK  
CheckDir: hiAnnotator.Rcheck
Warnings: 0

Command output

##############################################################################
##############################################################################
###
### Running command:
###
###   /home/biocbuild/R/R-4.3.1/bin/R CMD check --install=check:hiAnnotator.install-out.txt --library=/home/biocbuild/R/R-4.3.1/site-library --no-vignettes --timings hiAnnotator_1.36.0.tar.gz
###
##############################################################################
##############################################################################


* using log directory ‘/home/biocbuild/bbs-3.18-bioc/meat/hiAnnotator.Rcheck’
* using R version 4.3.1 (2023-06-16)
* using platform: aarch64-unknown-linux-gnu (64-bit)
* R was compiled by
    gcc (GCC) 10.3.1
    GNU Fortran (GCC) 10.3.1
* running under: openEuler 22.03 (LTS-SP1)
* using session charset: UTF-8
* using option ‘--no-vignettes’
* checking for file ‘hiAnnotator/DESCRIPTION’ ... OK
* this is package ‘hiAnnotator’ version ‘1.36.0’
* checking package namespace information ... OK
* checking package dependencies ... OK
* checking if this is a source package ... OK
* checking if there is a namespace ... OK
* checking for hidden files and directories ... OK
* checking for portable file names ... OK
* checking for sufficient/correct file permissions ... OK
* checking whether package ‘hiAnnotator’ can be installed ... OK
* checking installed package size ... OK
* checking package directory ... OK
* checking ‘build’ directory ... OK
* checking DESCRIPTION meta-information ... OK
* checking top-level files ... OK
* checking for left-over files ... OK
* checking index information ... OK
* checking package subdirectories ... OK
* checking R files for non-ASCII characters ... OK
* checking R files for syntax errors ... OK
* checking whether the package can be loaded ... OK
* checking whether the package can be loaded with stated dependencies ... OK
* checking whether the package can be unloaded cleanly ... OK
* checking whether the namespace can be loaded with stated dependencies ... OK
* checking whether the namespace can be unloaded cleanly ... OK
* checking loading without being on the library search path ... OK
* checking dependencies in R code ... OK
* checking S3 generic/method consistency ... OK
* checking replacement functions ... OK
* checking foreign function calls ... OK
* checking R code for possible problems ... NOTE
get2NearestFeature: no visible global function definition for ‘IRanges’
get2NearestFeature: no visible global function definition for ‘mid’
get2NearestFeature: no visible binding for global variable ‘qStrand’
get2NearestFeature: no visible binding for global variable
  ‘subjectHits’
get2NearestFeature : <anonymous>: no visible binding for global
  variable ‘queryHits’
get2NearestFeature : <anonymous>: no visible binding for global
  variable ‘featureName’
getFeatureCounts : <anonymous>: no visible global function definition
  for ‘countQueryHits’
getFeatureCountsBig: no visible global function definition for ‘mid’
getLowestDists: no visible binding for global variable ‘queryHits’
getNearestFeature: no visible global function definition for ‘IRanges’
getNearestFeature: no visible global function definition for ‘mid’
getNearestFeature: no visible binding for global variable ‘queryHits’
getNearestFeature: no visible binding for global variable ‘n’
getNearestFeature: no visible binding for global variable ‘featureName’
getSitesInFeature: no visible global function definition for
  ‘overlapsAny’
getSitesInFeature: no visible binding for global variable ‘queryHits’
getSitesInFeature: no visible global function definition for ‘n’
getSitesInFeature: no visible binding for global variable ‘featureName’
makeChunks: no visible global function definition for ‘breakInChunks’
makeChunks: no visible global function definition for ‘detectCores’
makeChunks : <anonymous>: no visible global function definition for
  ‘keepSeqlevels’
makeChunks : <anonymous>: no visible global function definition for
  ‘seqlevelsInUse’
makeGRanges: no visible global function definition for ‘IRanges’
makeGRanges: no visible global function definition for ‘seqlengths’
makeGRanges: no visible global function definition for ‘seqlevels<-’
makeGRanges: no visible global function definition for ‘sortSeqlevels’
makeGRanges: no visible global function definition for ‘seqlevelsInUse’
makeGRanges: no visible global function definition for ‘seqlengths<-’
makeGRanges: no visible global function definition for ‘seqlevels’
Undefined global functions or variables:
  IRanges breakInChunks countQueryHits detectCores featureName
  keepSeqlevels mid n overlapsAny qStrand queryHits seqlengths
  seqlengths<- seqlevels seqlevels<- seqlevelsInUse sortSeqlevels
  subjectHits
* checking Rd files ... OK
* checking Rd metadata ... OK
* checking Rd cross-references ... OK
* checking for missing documentation entries ... OK
* checking for code/documentation mismatches ... OK
* checking Rd \usage sections ... OK
* checking Rd contents ... OK
* checking for unstated dependencies in examples ... OK
* checking contents of ‘data’ directory ... OK
* checking data for non-ASCII characters ... OK
* checking data for ASCII and uncompressed saves ... OK
* checking files in ‘vignettes’ ... NOTE
The following directory looks like a leftover from 'knitr':
  ‘figure’
Please remove from your package.
* checking examples ... OK
* checking for unstated dependencies in vignettes ... OK
* checking package vignettes in ‘inst/doc’ ... OK
* checking running R code from vignettes ... SKIPPED
* checking re-building of vignette outputs ... SKIPPED
* checking PDF version of manual ... OK
* DONE

Status: 2 NOTEs
See
  ‘/home/biocbuild/bbs-3.18-bioc/meat/hiAnnotator.Rcheck/00check.log’
for details.



Installation output

hiAnnotator.Rcheck/00install.out

##############################################################################
##############################################################################
###
### Running command:
###
###   /home/biocbuild/R/R-4.3.1/bin/R CMD INSTALL hiAnnotator
###
##############################################################################
##############################################################################


* installing to library ‘/home/biocbuild/R/R-4.3.1/site-library’
* installing *source* package ‘hiAnnotator’ ...
** using staged installation
** R
** data
** byte-compile and prepare package for lazy loading
** help
*** installing help indices
** building package indices
** installing vignettes
** testing if installed package can be loaded from temporary location
** testing if installed package can be loaded from final location
** testing if installed package keeps a record of temporary installation path
* DONE (hiAnnotator)

Tests output


Example timings

hiAnnotator.Rcheck/hiAnnotator-Ex.timings

nameusersystemelapsed
cleanColname0.0010.0000.002
doAnnotation0.9810.0481.035
get2NearestFeature1.5750.8823.610
getFeatureCounts0.6250.0120.643
getFeatureCountsBig0.6580.0160.676
getLowestDists0.110.000.11
getNearestFeature2.4200.0002.431
getRelevantCol0.0060.0000.005
getSitesInFeature0.6670.0440.712
getUCSCtable000
getWindowLabel0.0010.0000.001
makeChunks0.4100.0120.423
makeGRanges0.3770.0000.378
makeUCSCsession0.0000.0000.001
plotdisFeature1.5660.0071.594