Back to Mac ARM64 build report for BioC 3.18
ABCDEF[G]HIJKLMNOPQRSTUVWXYZ

This page was generated on 2023-06-21 11:30:18 -0400 (Wed, 21 Jun 2023).

HostnameOSArch (*)R versionInstalled pkgs
kjohnson1macOS 13.3.1 Venturaarm644.3.0 (2023-04-21) -- "Already Tomorrow" 4263
Click on any hostname to see more info about the system (e.g. compilers)      (*) as reported by 'uname -p', except on Windows and Mac OS X

Package 855/2199HostnameOS / ArchINSTALLBUILDCHECKBUILD BIN
GOsummaries 2.37.0  (landing page)
Raivo Kolde
Snapshot Date: 2023-06-19 14:00:03 -0400 (Mon, 19 Jun 2023)
git_url: https://git.bioconductor.org/packages/GOsummaries
git_branch: devel
git_last_commit: 7e6c63d
git_last_commit_date: 2023-04-25 10:34:30 -0400 (Tue, 25 Apr 2023)
kjohnson1macOS 13.3.1 Ventura / arm64  OK    OK    ERROR    ERROR  

CHECK results for GOsummaries on kjohnson1


To the developers/maintainers of the GOsummaries package:
- Use the following Renviron settings to reproduce errors and warnings.
- If 'R CMD check' started to fail recently on the Linux builder(s) over a missing dependency, add the missing dependency to 'Suggests:' in your DESCRIPTION file. See Renviron.bioc for more information.

raw results


Summary

Package: GOsummaries
Version: 2.37.0
Command: /Library/Frameworks/R.framework/Resources/bin/R CMD check --install=check:GOsummaries.install-out.txt --library=/Library/Frameworks/R.framework/Resources/library --no-vignettes --timings GOsummaries_2.37.0.tar.gz
StartedAt: 2023-06-20 14:13:55 -0400 (Tue, 20 Jun 2023)
EndedAt: 2023-06-20 14:13:55 -0400 (Tue, 20 Jun 2023)
EllapsedTime: 0.0 seconds
RetCode: 127
Status:   ERROR  
CheckDir: None
Warnings: NA

Command output

##############################################################################
##############################################################################
###
### Running command:
###
###   /Library/Frameworks/R.framework/Resources/bin/R CMD check --install=check:GOsummaries.install-out.txt --library=/Library/Frameworks/R.framework/Resources/library --no-vignettes --timings GOsummaries_2.37.0.tar.gz
###
##############################################################################
##############################################################################


/bin/sh: /Library/Frameworks/R.framework/Resources/bin/R: No such file or directory

Installation output


Tests output

Due to an anomaly in the Build System, this output is not available. We apologize for the inconvenience.


Example timings

Due to an anomaly in the Build System, the timings are not available. We apologize for the inconvenience.