Back to Mac ARM64 build report for BioC 3.18 |
|
This page was generated on 2024-03-07 14:40:00 -0500 (Thu, 07 Mar 2024).
Hostname | OS | Arch (*) | R version | Installed pkgs |
---|---|---|---|---|
kjohnson1 | macOS 13.6.1 Ventura | arm64 | 4.3.2 (2023-10-31) -- "Eye Holes" | 4346 |
Click on any hostname to see more info about the system (e.g. compilers) (*) as reported by 'uname -p', except on Windows and Mac OS X |
Package 1547/2266 | Hostname | OS / Arch | INSTALL | BUILD | CHECK | BUILD BIN | ||||||||
Pi 2.14.0 (landing page) Hai Fang
| kjohnson1 | macOS 13.6.1 Ventura / arm64 | OK | OK | WARNINGS | OK | ||||||||
To the developers/maintainers of the Pi package: - Use the following Renviron settings to reproduce errors and warnings. - If 'R CMD check' started to fail recently on the Linux builder(s) over a missing dependency, add the missing dependency to 'Suggests:' in your DESCRIPTION file. See Renviron.bioc for more information. |
Package: Pi |
Version: 2.14.0 |
Command: rm -rf Pi.buildbin-libdir && mkdir Pi.buildbin-libdir && /Users/biocbuild/BBS/utils/build-universal.sh Pi_2.14.0.tar.gz /Library/Frameworks/R.framework/Resources/bin/R Pi.buildbin-libdir |
StartedAt: 2024-03-07 09:53:03 -0500 (Thu, 07 Mar 2024) |
EndedAt: 2024-03-07 09:53:47 -0500 (Thu, 07 Mar 2024) |
EllapsedTime: 44.5 seconds |
RetCode: 0 |
Status: OK |
PackageFile: Pi_2.14.0.tgz |
PackageFileSize: 2.878 MiB |
############################################################################## ############################################################################## ### ### Running command: ### ### rm -rf Pi.buildbin-libdir && mkdir Pi.buildbin-libdir && /Users/biocbuild/BBS/utils/build-universal.sh Pi_2.14.0.tar.gz /Library/Frameworks/R.framework/Resources/bin/R Pi.buildbin-libdir ### ############################################################################## ############################################################################## >>>>>>> >>>>>>> INSTALLATION WITH 'R CMD INSTALL --preclean --no-multiarch --library=Pi.buildbin-libdir Pi_2.14.0.tar.gz' >>>>>>> * installing *source* package ‘Pi’ ... ** using staged installation ** R ** inst ** byte-compile and prepare package for lazy loading Warning: replacing previous import ‘ROCR::plot’ by ‘graphics::plot’ when loading ‘Pi’ ** help *** installing help indices ** building package indices ** installing vignettes ** testing if installed package can be loaded from temporary location Warning: replacing previous import ‘ROCR::plot’ by ‘graphics::plot’ when loading ‘Pi’ ** testing if installed package can be loaded from final location Warning: replacing previous import ‘ROCR::plot’ by ‘graphics::plot’ when loading ‘Pi’ ** testing if installed package keeps a record of temporary installation path * DONE (Pi)