Back to Multiple platform build/check report for BioC 3.19: simplified long |
|
This page was generated on 2024-06-11 14:42 -0400 (Tue, 11 Jun 2024).
Hostname | OS | Arch (*) | R version | Installed pkgs |
---|---|---|---|---|
nebbiolo1 | Linux (Ubuntu 22.04.3 LTS) | x86_64 | 4.4.0 (2024-04-24) -- "Puppy Cup" | 4757 |
palomino3 | Windows Server 2022 Datacenter | x64 | 4.4.0 (2024-04-24 ucrt) -- "Puppy Cup" | 4491 |
lconway | macOS 12.7.1 Monterey | x86_64 | 4.4.0 (2024-04-24) -- "Puppy Cup" | 4522 |
kjohnson3 | macOS 13.6.5 Ventura | arm64 | 4.4.0 (2024-04-24) -- "Puppy Cup" | 4468 |
Click on any hostname to see more info about the system (e.g. compilers) (*) as reported by 'uname -p', except on Windows and Mac OS X |
Package 750/2300 | Hostname | OS / Arch | INSTALL | BUILD | CHECK | BUILD BIN | ||||||||
FlowSOM 2.12.0 (landing page) Sofie Van Gassen
| nebbiolo1 | Linux (Ubuntu 22.04.3 LTS) / x86_64 | OK | OK | OK | |||||||||
palomino3 | Windows Server 2022 Datacenter / x64 | OK | OK | OK | OK | |||||||||
lconway | macOS 12.7.1 Monterey / x86_64 | OK | OK | OK | OK | |||||||||
kjohnson3 | macOS 13.6.5 Ventura / arm64 | OK | OK | OK | OK | |||||||||
To the developers/maintainers of the FlowSOM package: - Allow up to 24 hours (and sometimes 48 hours) for your latest push to git@git.bioconductor.org:packages/FlowSOM.git to reflect on this report. See Troubleshooting Build Report for more information. - Use the following Renviron settings to reproduce errors and warnings. - If 'R CMD check' started to fail recently on the Linux builder(s) over a missing dependency, add the missing dependency to 'Suggests:' in your DESCRIPTION file. See Renviron.bioc for more information. |
Package: FlowSOM |
Version: 2.12.0 |
Command: /Library/Frameworks/R.framework/Resources/bin/R CMD check --install=check:FlowSOM.install-out.txt --library=/Library/Frameworks/R.framework/Resources/library --no-vignettes --timings FlowSOM_2.12.0.tar.gz |
StartedAt: 2024-06-09 20:26:23 -0400 (Sun, 09 Jun 2024) |
EndedAt: 2024-06-09 20:35:43 -0400 (Sun, 09 Jun 2024) |
EllapsedTime: 560.4 seconds |
RetCode: 0 |
Status: OK |
CheckDir: FlowSOM.Rcheck |
Warnings: 0 |
############################################################################## ############################################################################## ### ### Running command: ### ### /Library/Frameworks/R.framework/Resources/bin/R CMD check --install=check:FlowSOM.install-out.txt --library=/Library/Frameworks/R.framework/Resources/library --no-vignettes --timings FlowSOM_2.12.0.tar.gz ### ############################################################################## ############################################################################## * using log directory ‘/Users/biocbuild/bbs-3.19-bioc/meat/FlowSOM.Rcheck’ * using R version 4.4.0 (2024-04-24) * using platform: x86_64-apple-darwin20 * R was compiled by Apple clang version 14.0.0 (clang-1400.0.29.202) GNU Fortran (GCC) 12.2.0 * running under: macOS Monterey 12.7.1 * using session charset: UTF-8 * using option ‘--no-vignettes’ * checking for file ‘FlowSOM/DESCRIPTION’ ... OK * this is package ‘FlowSOM’ version ‘2.12.0’ * package encoding: UTF-8 * checking package namespace information ... OK * checking package dependencies ... OK * checking if this is a source package ... OK * checking if there is a namespace ... OK * checking for hidden files and directories ... OK * checking for portable file names ... OK * checking for sufficient/correct file permissions ... OK * checking whether package ‘FlowSOM’ can be installed ... OK * used C compiler: ‘Apple clang version 14.0.0 (clang-1400.0.29.202)’ * used SDK: ‘MacOSX11.3.sdk’ * checking installed package size ... OK * checking package directory ... OK * checking ‘build’ directory ... OK * checking DESCRIPTION meta-information ... OK * checking top-level files ... OK * checking for left-over files ... OK * checking index information ... OK * checking package subdirectories ... OK * checking code files for non-ASCII characters ... OK * checking R files for syntax errors ... OK * checking whether the package can be loaded ... OK * checking whether the package can be loaded with stated dependencies ... OK * checking whether the package can be unloaded cleanly ... OK * checking whether the namespace can be loaded with stated dependencies ... OK * checking whether the namespace can be unloaded cleanly ... OK * checking whether startup messages can be suppressed ... OK * checking dependencies in R code ... OK * checking S3 generic/method consistency ... OK * checking replacement functions ... OK * checking foreign function calls ... OK * checking R code for possible problems ... OK * checking Rd files ... NOTE checkRd: (-1) PlotDimRed.Rd:55: Lost braces 55 | of the dimred default = function(dimred){dimred$Y}.} | ^ * checking Rd metadata ... OK * checking Rd cross-references ... OK * checking for missing documentation entries ... OK * checking for code/documentation mismatches ... OK * checking Rd \usage sections ... OK * checking Rd contents ... OK * checking for unstated dependencies in examples ... OK * checking line endings in C/C++/Fortran sources/headers ... OK * checking compiled code ... NOTE Note: information on .o files is not available * checking sizes of PDF files under ‘inst/doc’ ... OK * checking files in ‘vignettes’ ... OK * checking examples ... OK Examples with CPU (user + system) or elapsed time > 5s user system elapsed FlowSOMmary 49.820 2.338 52.121 PlotDimRed 39.156 2.510 41.943 PlotMarker 18.672 1.504 20.291 PlotOutliers 18.136 1.248 19.475 UpdateMetaclusters 15.946 1.848 18.037 PlotStars 14.142 1.438 15.678 GroupStats 12.664 1.147 13.876 FlowSOM 11.695 1.211 12.966 PlotGroups 11.351 1.413 12.820 query_multiple 9.675 0.561 10.291 AddAnnotation 9.492 0.647 10.177 QueryMultiple 8.706 0.682 9.429 Plot2DScatters 7.754 1.107 8.931 PlotManualBars 7.478 1.053 8.585 GetFlowJoLabels 7.719 0.749 8.518 PlotNode 6.851 0.925 7.832 PlotPies 6.544 1.109 7.709 PlotVariable 6.545 1.016 7.601 PlotNumbers 6.430 1.019 7.497 QueryStarPlot 7.036 0.373 7.442 SaveClustersToFCS 5.708 1.063 6.859 NClusters 5.647 1.009 6.724 CountGroups 5.962 0.678 6.668 MetaclusterMFIs 5.428 1.124 6.624 PlotFlowSOM 5.536 0.861 6.437 UpdateNodeSize 5.871 0.281 6.172 PlotLabels 5.121 0.950 6.126 NMetaclusters 5.031 0.961 6.041 TestOutliers 4.911 0.976 5.940 GetMetaclusterMFIs 4.810 0.972 5.820 GetFeatures 5.105 0.523 5.654 print.FlowSOM 4.656 0.848 5.557 PlotOverview2D 4.612 0.850 5.508 GetMetaclusters 4.300 1.134 5.496 GetMFIs 4.616 0.815 5.477 MetaclusterCVs 4.447 0.857 5.349 GetPercentages 4.392 0.871 5.316 GetMetaclusterCVs 4.584 0.662 5.277 GetClusters 4.443 0.690 5.170 FlowSOMSubset 4.582 0.480 5.100 * checking for unstated dependencies in vignettes ... OK * checking package vignettes ... OK * checking running R code from vignettes ... SKIPPED * checking re-building of vignette outputs ... SKIPPED * checking PDF version of manual ... OK * DONE Status: 2 NOTEs See ‘/Users/biocbuild/bbs-3.19-bioc/meat/FlowSOM.Rcheck/00check.log’ for details.
FlowSOM.Rcheck/00install.out
############################################################################## ############################################################################## ### ### Running command: ### ### /Library/Frameworks/R.framework/Resources/bin/R CMD INSTALL FlowSOM ### ############################################################################## ############################################################################## * installing to library ‘/Library/Frameworks/R.framework/Versions/4.4-x86_64/Resources/library’ * installing *source* package ‘FlowSOM’ ... ** using staged installation ** libs using C compiler: ‘Apple clang version 14.0.0 (clang-1400.0.29.202)’ using SDK: ‘MacOSX11.3.sdk’ clang -arch x86_64 -I"/Library/Frameworks/R.framework/Resources/include" -DNDEBUG -I/opt/R/x86_64/include -fPIC -falign-functions=64 -Wall -g -O2 -c som.c -o som.o clang -arch x86_64 -dynamiclib -Wl,-headerpad_max_install_names -undefined dynamic_lookup -L/Library/Frameworks/R.framework/Resources/lib -L/opt/R/x86_64/lib -o FlowSOM.so som.o -F/Library/Frameworks/R.framework/.. -framework R -Wl,-framework -Wl,CoreFoundation installing to /Library/Frameworks/R.framework/Versions/4.4-x86_64/Resources/library/00LOCK-FlowSOM/00new/FlowSOM/libs ** R ** inst ** byte-compile and prepare package for lazy loading ** help *** installing help indices ** building package indices ** installing vignettes ** testing if installed package can be loaded from temporary location ** checking absolute paths in shared objects and dynamic libraries ** testing if installed package can be loaded from final location ** testing if installed package keeps a record of temporary installation path * DONE (FlowSOM)
FlowSOM.Rcheck/FlowSOM-Ex.timings
name | user | system | elapsed | |
AddAnnotation | 9.492 | 0.647 | 10.177 | |
AggregateFlowFrames | 0.110 | 0.007 | 0.119 | |
BuildMST | 1.313 | 0.110 | 1.428 | |
BuildSOM | 1.298 | 0.075 | 1.382 | |
CountGroups | 5.962 | 0.678 | 6.668 | |
FMeasure | 0.002 | 0.000 | 0.002 | |
FlowSOM | 11.695 | 1.211 | 12.966 | |
FlowSOMSubset | 4.582 | 0.480 | 5.100 | |
FlowSOMmary | 49.820 | 2.338 | 52.121 | |
GetChannels | 0.044 | 0.005 | 0.060 | |
GetClusterMFIs | 3.922 | 0.641 | 4.595 | |
GetClusterPercentagesPositive | 4.106 | 0.683 | 4.831 | |
GetClusters | 4.443 | 0.690 | 5.170 | |
GetCounts | 4.039 | 0.607 | 4.682 | |
GetFeatures | 5.105 | 0.523 | 5.654 | |
GetFlowJoLabels | 7.719 | 0.749 | 8.518 | |
GetMFIs | 4.616 | 0.815 | 5.477 | |
GetMarkers | 0.043 | 0.003 | 0.046 | |
GetMetaclusterCVs | 4.584 | 0.662 | 5.277 | |
GetMetaclusterMFIs | 4.810 | 0.972 | 5.820 | |
GetMetaclusterPercentagesPositive | 4.158 | 0.729 | 4.913 | |
GetMetaclusters | 4.300 | 1.134 | 5.496 | |
GetPercentages | 4.392 | 0.871 | 5.316 | |
GroupStats | 12.664 | 1.147 | 13.876 | |
Initialize_KWSP | 0.006 | 0.000 | 0.006 | |
Initialize_PCA | 0.001 | 0.000 | 0.001 | |
MetaClustering | 3.602 | 0.766 | 4.416 | |
MetaclusterCVs | 4.447 | 0.857 | 5.349 | |
MetaclusterMFIs | 5.428 | 1.124 | 6.624 | |
NClusters | 5.647 | 1.009 | 6.724 | |
NMetaclusters | 5.031 | 0.961 | 6.041 | |
NewData | 3.850 | 0.694 | 4.583 | |
Plot2DScatters | 7.754 | 1.107 | 8.931 | |
PlotCenters | 1.279 | 0.179 | 1.471 | |
PlotClusters2D | 1.229 | 0.161 | 1.397 | |
PlotDimRed | 39.156 | 2.510 | 41.943 | |
PlotFileScatters | 0.748 | 0.031 | 0.782 | |
PlotFlowSOM | 5.536 | 0.861 | 6.437 | |
PlotGroups | 11.351 | 1.413 | 12.820 | |
PlotLabels | 5.121 | 0.950 | 6.126 | |
PlotManualBars | 7.478 | 1.053 | 8.585 | |
PlotMarker | 18.672 | 1.504 | 20.291 | |
PlotNode | 6.851 | 0.925 | 7.832 | |
PlotNumbers | 6.430 | 1.019 | 7.497 | |
PlotOutliers | 18.136 | 1.248 | 19.475 | |
PlotOverview2D | 4.612 | 0.850 | 5.508 | |
PlotPies | 6.544 | 1.109 | 7.709 | |
PlotSD | 2.119 | 0.248 | 2.380 | |
PlotStars | 14.142 | 1.438 | 15.678 | |
PlotVariable | 6.545 | 1.016 | 7.601 | |
Purity | 0.001 | 0.000 | 0.001 | |
QueryMultiple | 8.706 | 0.682 | 9.429 | |
QueryStarPlot | 7.036 | 0.373 | 7.442 | |
ReadInput | 3.729 | 1.006 | 4.823 | |
SaveClustersToFCS | 5.708 | 1.063 | 6.859 | |
TestOutliers | 4.911 | 0.976 | 5.940 | |
UpdateMetaclusters | 15.946 | 1.848 | 18.037 | |
UpdateNodeSize | 5.871 | 0.281 | 6.172 | |
get_channels | 0.041 | 0.002 | 0.044 | |
get_markers | 0.045 | 0.003 | 0.048 | |
metaClustering_consensus | 2.633 | 0.586 | 3.239 | |
plotStarLegend | 0.454 | 0.003 | 0.459 | |
print.FlowSOM | 4.656 | 0.848 | 5.557 | |
query_multiple | 9.675 | 0.561 | 10.291 | |