Back to Multiple platform build/check report for BioC 3.19:   simplified   long
ABCDEFGH[I]JKLMNOPQRSTUVWXYZ

This page was generated on 2024-10-15 21:55 -0400 (Tue, 15 Oct 2024).

HostnameOSArch (*)R versionInstalled pkgs
nebbiolo1Linux (Ubuntu 22.04.3 LTS)x86_644.4.1 (2024-06-14) -- "Race for Your Life" 4763
merida1macOS 12.7.5 Montereyx86_644.4.1 (2024-06-14) -- "Race for Your Life" 4529
kjohnson1macOS 13.6.6 Venturaarm644.4.1 (2024-06-14) -- "Race for Your Life" 4479
Click on any hostname to see more info about the system (e.g. compilers)      (*) as reported by 'uname -p', except on Windows and Mac OS X

Package 1040/2300HostnameOS / ArchINSTALLBUILDCHECKBUILD BIN
INSPEcT 1.34.0  (landing page)
Stefano de Pretis
Snapshot Date: 2024-10-13 14:00 -0400 (Sun, 13 Oct 2024)
git_url: https://git.bioconductor.org/packages/INSPEcT
git_branch: RELEASE_3_19
git_last_commit: 455938d
git_last_commit_date: 2024-04-30 10:44:32 -0400 (Tue, 30 Apr 2024)
nebbiolo1Linux (Ubuntu 22.04.3 LTS) / x86_64  OK    OK    OK  UNNEEDED, same version is already published
merida1macOS 12.7.5 Monterey / x86_64  OK    OK    OK    OK  UNNEEDED, same version is already published
kjohnson1macOS 13.6.6 Ventura / arm64  OK    OK    OK    OK  UNNEEDED, same version is already published


CHECK results for INSPEcT on kjohnson1

To the developers/maintainers of the INSPEcT package:
- Allow up to 24 hours (and sometimes 48 hours) for your latest push to git@git.bioconductor.org:packages/INSPEcT.git to reflect on this report. See Troubleshooting Build Report for more information.
- Use the following Renviron settings to reproduce errors and warnings.
- If 'R CMD check' started to fail recently on the Linux builder(s) over a missing dependency, add the missing dependency to 'Suggests:' in your DESCRIPTION file. See Renviron.bioc for more information.

raw results


Summary

Package: INSPEcT
Version: 1.34.0
Command: /Library/Frameworks/R.framework/Resources/bin/R CMD check --install=check:INSPEcT.install-out.txt --library=/Library/Frameworks/R.framework/Resources/library --no-vignettes --timings INSPEcT_1.34.0.tar.gz
StartedAt: 2024-10-15 00:50:09 -0400 (Tue, 15 Oct 2024)
EndedAt: 2024-10-15 01:03:58 -0400 (Tue, 15 Oct 2024)
EllapsedTime: 828.9 seconds
RetCode: 0
Status:   OK  
CheckDir: INSPEcT.Rcheck
Warnings: 0

Command output

##############################################################################
##############################################################################
###
### Running command:
###
###   /Library/Frameworks/R.framework/Resources/bin/R CMD check --install=check:INSPEcT.install-out.txt --library=/Library/Frameworks/R.framework/Resources/library --no-vignettes --timings INSPEcT_1.34.0.tar.gz
###
##############################################################################
##############################################################################


* using log directory ‘/Users/biocbuild/bbs-3.19-bioc/meat/INSPEcT.Rcheck’
* using R version 4.4.1 (2024-06-14)
* using platform: aarch64-apple-darwin20
* R was compiled by
    Apple clang version 14.0.0 (clang-1400.0.29.202)
    GNU Fortran (GCC) 12.2.0
* running under: macOS Ventura 13.6.6
* using session charset: UTF-8
* using option ‘--no-vignettes’
* checking for file ‘INSPEcT/DESCRIPTION’ ... OK
* checking extension type ... Package
* this is package ‘INSPEcT’ version ‘1.34.0’
* checking package namespace information ... OK
* checking package dependencies ... OK
* checking if this is a source package ... OK
* checking if there is a namespace ... OK
* checking for hidden files and directories ... OK
* checking for portable file names ... OK
* checking for sufficient/correct file permissions ... OK
* checking whether package ‘INSPEcT’ can be installed ... OK
* checking installed package size ... NOTE
  installed size is  7.1Mb
  sub-directories of 1Mb or more:
    R      1.8Mb
    data   2.8Mb
* checking package directory ... OK
* checking ‘build’ directory ... OK
* checking DESCRIPTION meta-information ... OK
* checking top-level files ... OK
* checking for left-over files ... OK
* checking index information ... OK
* checking package subdirectories ... OK
* checking code files for non-ASCII characters ... OK
* checking R files for syntax errors ... OK
* checking whether the package can be loaded ... OK
* checking whether the package can be loaded with stated dependencies ... OK
* checking whether the package can be unloaded cleanly ... OK
* checking whether the namespace can be loaded with stated dependencies ... OK
* checking whether the namespace can be unloaded cleanly ... OK
* checking dependencies in R code ... OK
* checking S3 generic/method consistency ... OK
* checking replacement functions ... OK
* checking foreign function calls ... OK
* checking R code for possible problems ... NOTE
output_pars: no visible global function definition for ‘plot.new’
plotSingleRNADynamic: no visible global function definition for ‘lines’
Undefined global functions or variables:
  lines plot.new
Consider adding
  importFrom("graphics", "lines", "plot.new")
to your NAMESPACE file.
* checking Rd files ... OK
* checking Rd metadata ... OK
* checking Rd cross-references ... OK
* checking for missing documentation entries ... OK
* checking for code/documentation mismatches ... OK
* checking Rd \usage sections ... OK
* checking Rd contents ... OK
* checking for unstated dependencies in examples ... OK
* checking contents of ‘data’ directory ... OK
* checking data for non-ASCII characters ... OK
* checking data for ASCII and uncompressed saves ... OK
* checking files in ‘vignettes’ ... OK
* checking examples ... OK
Examples with CPU (user + system) or elapsed time > 5s
                                  user system elapsed
makeSimDataset                  82.158  0.379  83.426
quantifyExpressionsFromBAMs     36.227  8.580  45.595
INSPEcT_diffsteady-class        32.162  0.331  32.881
makeSimModel                    28.675  0.144  29.090
rocCurve                        27.591  0.188  28.216
rocThresholds                   26.772  0.163  27.361
plotMA                          25.968  0.136  26.360
compareSteady                   25.157  0.142  25.658
quantifyExpressionsFromTrCounts 18.057  0.124  18.515
modelRates                      17.409  0.074  17.630
newINSPEcT                      15.505  0.085  15.787
processingDelay                 15.071  0.081  15.273
makeOscillatorySimModel          6.432  0.056   6.527
compareSteadyNoNascent           6.114  0.040   6.234
* checking for unstated dependencies in vignettes ... OK
* checking package vignettes ... OK
* checking running R code from vignettes ... SKIPPED
* checking re-building of vignette outputs ... SKIPPED
* checking PDF version of manual ... OK
* DONE

Status: 2 NOTEs
See
  ‘/Users/biocbuild/bbs-3.19-bioc/meat/INSPEcT.Rcheck/00check.log’
for details.


Installation output

INSPEcT.Rcheck/00install.out

##############################################################################
##############################################################################
###
### Running command:
###
###   /Library/Frameworks/R.framework/Resources/bin/R CMD INSTALL INSPEcT
###
##############################################################################
##############################################################################


* installing to library ‘/Library/Frameworks/R.framework/Versions/4.4-arm64/Resources/library’
* installing *source* package ‘INSPEcT’ ...
** using staged installation
** R
** data
** inst
** byte-compile and prepare package for lazy loading
** help
*** installing help indices
** building package indices
** installing vignettes
** testing if installed package can be loaded from temporary location
** testing if installed package can be loaded from final location
** testing if installed package keeps a record of temporary installation path
* DONE (INSPEcT)

Tests output


Example timings

INSPEcT.Rcheck/INSPEcT-Ex.timings

nameusersystemelapsed
AIC-INSPEcT-method0.2430.0120.259
Extract0.4620.0160.485
INSPEcT_diffsteady-class32.162 0.33132.881
calculateRatePvals0.1900.0060.210
chisqmodel0.1550.0060.178
chisqtest0.0990.0040.107
combine0.1890.0050.201
compareSteady25.157 0.14225.658
compareSteadyNoNascent6.1140.0406.234
convergence0.2360.0100.250
geneClass0.2790.0100.297
inHeatmap0.2930.0170.319
inspectFromPCR3.6900.0243.738
labeledSF0.2430.0060.252
logLik0.2410.0080.251
makeModelRates0.2830.0100.294
makeOscillatorySimModel6.4320.0566.527
makeSimDataset82.158 0.37983.426
makeSimModel28.675 0.14429.090
modelRates17.409 0.07417.630
modelRatesNF1.6100.0331.668
modelSelection0.2390.0080.256
modelingParams0.2400.0060.251
nGenes0.2410.0070.249
nTpts0.2410.0060.250
newINSPEcT15.505 0.08515.787
plotGene0.2840.0080.292
plotMA25.968 0.13626.360
processingDelay15.071 0.08115.273
quantifyExpressionsFromBAMs36.227 8.58045.595
quantifyExpressionsFromTrCounts18.057 0.12418.515
ratePvals0.2380.0090.248
ratesFirstGuess0.2380.0130.252
ratesFirstGuessVar0.2410.0120.254
removeModel0.3410.0100.355
rocCurve27.591 0.18828.216
rocThresholds26.772 0.16327.361
split0.3660.0090.380
tpts0.2370.0070.246
viewConfidenceIntervals0.2400.0090.250
viewModelRates0.2370.0070.245