Back to Multiple platform build/check report for BioC 3.19: simplified long |
|
This page was generated on 2024-05-09 11:41:15 -0400 (Thu, 09 May 2024).
Hostname | OS | Arch (*) | R version | Installed pkgs |
---|---|---|---|---|
nebbiolo1 | Linux (Ubuntu 22.04.3 LTS) | x86_64 | 4.4.0 (2024-04-24) -- "Puppy Cup" | 4748 |
palomino3 | Windows Server 2022 Datacenter | x64 | 4.4.0 (2024-04-24 ucrt) -- "Puppy Cup" | 4484 |
lconway | macOS 12.7.1 Monterey | x86_64 | 4.4.0 (2024-04-24) -- "Puppy Cup" | 4514 |
kunpeng2 | Linux (openEuler 22.03 LTS-SP1) | aarch64 | 4.4.0 beta (2024-04-15 r86425) -- "Puppy Cup" | 4480 |
Click on any hostname to see more info about the system (e.g. compilers) (*) as reported by 'uname -p', except on Windows and Mac OS X |
Package 1557/2300 | Hostname | OS / Arch | INSTALL | BUILD | CHECK | BUILD BIN | ||||||||
PhenStat 2.40.0 (landing page) Hamed Haselimashhadi
| nebbiolo1 | Linux (Ubuntu 22.04.3 LTS) / x86_64 | OK | OK | OK | ![]() | ||||||||
palomino3 | Windows Server 2022 Datacenter / x64 | OK | ERROR | skipped | skipped | |||||||||
lconway | macOS 12.7.1 Monterey / x86_64 | OK | OK | OK | OK | ![]() | ||||||||
kunpeng2 | Linux (openEuler 22.03 LTS-SP1) / aarch64 | OK | OK | OK | ||||||||||
kjohnson3 | macOS 13.6.5 Ventura / arm64 | see weekly results here | ||||||||||||
To the developers/maintainers of the PhenStat package: - Allow up to 24 hours (and sometimes 48 hours) for your latest push to git@git.bioconductor.org:packages/PhenStat.git to reflect on this report. See Troubleshooting Build Report for more information. - Use the following Renviron settings to reproduce errors and warnings. - If 'R CMD check' started to fail recently on the Linux builder(s) over a missing dependency, add the missing dependency to 'Suggests:' in your DESCRIPTION file. See Renviron.bioc for more information. - See Martin Grigorov's blog post for how to debug Linux ARM64 related issues on a x86_64 host. |
Package: PhenStat |
Version: 2.40.0 |
Command: /home/biocbuild/R/R-beta-2024-04-15_r86425/bin/R CMD check --install=check:PhenStat.install-out.txt --library=/home/biocbuild/R/R-beta-2024-04-15_r86425/site-library --no-vignettes --timings PhenStat_2.40.0.tar.gz |
StartedAt: 2024-05-09 10:30:59 -0000 (Thu, 09 May 2024) |
EndedAt: 2024-05-09 10:33:27 -0000 (Thu, 09 May 2024) |
EllapsedTime: 148.2 seconds |
RetCode: 0 |
Status: OK |
CheckDir: PhenStat.Rcheck |
Warnings: 0 |
############################################################################## ############################################################################## ### ### Running command: ### ### /home/biocbuild/R/R-beta-2024-04-15_r86425/bin/R CMD check --install=check:PhenStat.install-out.txt --library=/home/biocbuild/R/R-beta-2024-04-15_r86425/site-library --no-vignettes --timings PhenStat_2.40.0.tar.gz ### ############################################################################## ############################################################################## * using log directory ‘/home/biocbuild/bbs-3.19-bioc/meat/PhenStat.Rcheck’ * using R version 4.4.0 beta (2024-04-15 r86425) * using platform: aarch64-unknown-linux-gnu * R was compiled by gcc (GCC) 10.3.1 GNU Fortran (GCC) 10.3.1 * running under: openEuler 22.03 (LTS-SP1) * using session charset: UTF-8 * using option ‘--no-vignettes’ * checking for file ‘PhenStat/DESCRIPTION’ ... OK * checking extension type ... Package * this is package ‘PhenStat’ version ‘2.40.0’ * checking package namespace information ... OK * checking package dependencies ... OK * checking if this is a source package ... OK * checking if there is a namespace ... OK * checking for hidden files and directories ... OK * checking for portable file names ... OK * checking for sufficient/correct file permissions ... OK * checking whether package ‘PhenStat’ can be installed ... OK * checking installed package size ... OK * checking package directory ... OK * checking ‘build’ directory ... OK * checking DESCRIPTION meta-information ... OK * checking top-level files ... OK * checking for left-over files ... OK * checking index information ... OK * checking package subdirectories ... OK * checking code files for non-ASCII characters ... OK * checking R files for syntax errors ... OK * checking whether the package can be loaded ... OK * checking whether the package can be loaded with stated dependencies ... OK * checking whether the package can be unloaded cleanly ... OK * checking whether the namespace can be loaded with stated dependencies ... OK * checking whether the namespace can be unloaded cleanly ... OK * checking loading without being on the library search path ... OK * checking whether startup messages can be suppressed ... OK * checking dependencies in R code ... NOTE Namespace in Imports field not imported from: ‘SmoothWin’ All declared Imports should be used. * checking S3 generic/method consistency ... OK * checking replacement functions ... OK * checking foreign function calls ... OK * checking R code for possible problems ... OK * checking Rd files ... NOTE checkRd: (-1) plot.PhenList.Rd:49-53: Lost braces 49 | \item boxplotSexGenotype. See documentations for { | ^ checkRd: (-1) plot.PhenList.Rd:54-58: Lost braces 54 | \item boxplotSexGenotypeBatchAdjusted. See documentations for { | ^ checkRd: (-1) plot.PhenList.Rd:59-63: Lost braces 59 | \item boxplotSexGenotypeWeightBatchAdjusted. See documentations for { | ^ checkRd: (-1) plot.PhenList.Rd:64-68: Lost braces 64 | \item scatterplotSexGenotypeBatch. See documentations for { | ^ checkRd: (-1) plot.PhenList.Rd:69-73: Lost braces 69 | \item scatterplotGenotypeWeight. See documentations for { | ^ checkRd: (-1) plot.PhenList.Rd:74-78: Lost braces 74 | \item boxplotSexGenotypeBatch. See documentations for { | ^ checkRd: (-1) plot.PhenTestResult.Rd:41-45: Lost braces 41 | \item boxplotSexGenotypeResult. See documentations for { | ^ checkRd: (-1) plot.PhenTestResult.Rd:46-50: Lost braces 46 | \item scatterplotSexGenotypeBatchResult. See documentations for { | ^ checkRd: (-1) plot.PhenTestResult.Rd:51-55: Lost braces 51 | \item scatterplotGenotypeWeightResult. See documentations for { | ^ checkRd: (-1) plot.PhenTestResult.Rd:56-60: Lost braces 56 | \item plotResidualPredicted. See documentations for { | ^ checkRd: (-1) plot.PhenTestResult.Rd:61-65: Lost braces 61 | \item qqplotRandomEffects. See documentations for { | ^ checkRd: (-1) plot.PhenTestResult.Rd:66-70: Lost braces 66 | \item boxplotResidualBatch. See documentations for { | ^ checkRd: (-1) plot.PhenTestResult.Rd:71-75: Lost braces 71 | \item qqplotRotatedResiduals. See documentations for { | ^ checkRd: (-1) plot.PhenTestResult.Rd:76-80: Lost braces 76 | \item qqplotGenotype. See documentations for { | ^ checkRd: (-1) plot.PhenTestResult.Rd:81-85: Lost braces 81 | \item categoricalBarplot. See documentations for { | ^ checkRd: (-1) qqplotRotatedResiduals.Rd:18: Lost braces 18 | Houseman, E. A., Ryan, L. M., Coull, B. A. (2004): Cholesky residuals for assessing normal errors in a linear model with correlated outcomes. \emph{Journal of the American Statistical Association} \bold{99}{466}: pg 383-394. Doi 10.1198 | ^ * checking Rd metadata ... OK * checking Rd cross-references ... OK * checking for missing documentation entries ... OK * checking for code/documentation mismatches ... OK * checking Rd \usage sections ... NOTE Documented arguments not in \usage in Rd file 'printLROutput.Rd': ‘effectValues’ Functions with \usage entries need to have the appropriate \alias entries, and all their arguments documented. The \usage entries must correspond to syntactically valid R code. See chapter ‘Writing R documentation files’ in the ‘Writing R Extensions’ manual. * checking Rd contents ... NOTE Argument items with no description in Rd file 'plot.PhenList.Rd': ‘\dots’ Argument items with no description in Rd file 'plot.PhenTestResult.Rd': ‘\dots’ * checking for unstated dependencies in examples ... OK * checking installed files from ‘inst/doc’ ... OK * checking files in ‘vignettes’ ... OK * checking examples ... OK * checking for unstated dependencies in ‘tests’ ... OK * checking tests ... Running ‘runTests.R’ OK * checking for unstated dependencies in vignettes ... OK * checking package vignettes ... OK * checking running R code from vignettes ... SKIPPED * checking re-building of vignette outputs ... SKIPPED * checking PDF version of manual ... OK * DONE Status: 4 NOTEs See ‘/home/biocbuild/bbs-3.19-bioc/meat/PhenStat.Rcheck/00check.log’ for details.
PhenStat.Rcheck/00install.out
############################################################################## ############################################################################## ### ### Running command: ### ### /home/biocbuild/R/R-beta-2024-04-15_r86425/bin/R CMD INSTALL PhenStat ### ############################################################################## ############################################################################## * installing to library ‘/home/biocbuild/R/R-beta-2024-04-15_r86425/site-library’ * installing *source* package ‘PhenStat’ ... ** using staged installation ** R ** inst ** byte-compile and prepare package for lazy loading ** help *** installing help indices ** building package indices ** installing vignettes ** testing if installed package can be loaded from temporary location ** testing if installed package can be loaded from final location ** testing if installed package keeps a record of temporary installation path * DONE (PhenStat)
PhenStat.Rcheck/tests/runTests.Rout
R version 4.4.0 beta (2024-04-15 r86425) -- "Puppy Cup" Copyright (C) 2024 The R Foundation for Statistical Computing Platform: aarch64-unknown-linux-gnu R is free software and comes with ABSOLUTELY NO WARRANTY. You are welcome to redistribute it under certain conditions. Type 'license()' or 'licence()' for distribution details. R is a collaborative project with many contributors. Type 'contributors()' for more information and 'citation()' on how to cite R or R packages in publications. Type 'demo()' for some demos, 'help()' for on-line help, or 'help.start()' for an HTML browser interface to help. Type 'q()' to quit R. > BiocGenerics:::testPackage("PhenStat") >=========================================================================< This version of PhenStat includes *FEWER* functions than the previous ones You *still* can use the previous functions by using `:::`. For example : PhenStat:::boxplotSexGenotype or PhenStat:::FisherExactTest *** Want to know what is new in this version? run PhenStat:::WhatIsNew() >=========================================================================< RUNIT TEST PROTOCOL -- Thu May 9 10:33:22 2024 *********************************************** Number of test functions: 0 Number of errors: 0 Number of failures: 0 1 Test Suite : PhenStat RUnit Tests - 0 test functions, 0 errors, 0 failures Number of test functions: 0 Number of errors: 0 Number of failures: 0 > > proc.time() user system elapsed 3.941 0.192 4.126
PhenStat.Rcheck/PhenStat-Ex.timings
name | user | system | elapsed | |
FisherExactTest | 0.187 | 0.019 | 0.208 | |
JSONOutput | 0.846 | 0.016 | 0.864 | |
LRDataset | 0.063 | 0.000 | 0.064 | |
PhenList-class | 0.221 | 0.000 | 0.222 | |
PhenList | 0.227 | 0.000 | 0.229 | |
PhenStatReport | 0.045 | 0.000 | 0.045 | |
PhenTestResult-class | 0.719 | 0.008 | 0.728 | |
PhenTestResult | 0.503 | 0.004 | 0.507 | |
RRTest | 0.132 | 0.004 | 0.136 | |
TFDataset | 0.314 | 0.036 | 0.350 | |
analysedDataset | 0.633 | 0.036 | 0.670 | |
analysisResults | 0.648 | 0.008 | 0.657 | |
boxplotResidualBatch | 0.714 | 0.004 | 0.720 | |
boxplotSexGenotype | 0.082 | 0.008 | 0.091 | |
boxplotSexGenotypeBatch | 0.174 | 0.000 | 0.174 | |
boxplotSexGenotypeBatchAdjusted | 0.086 | 0.000 | 0.086 | |
boxplotSexGenotypeResult | 0.875 | 0.028 | 0.905 | |
boxplotSexGenotypeWeightBatchAdjusted | 0.089 | 0.000 | 0.088 | |
categoricalBarplot | 0.487 | 0.028 | 0.517 | |
checkDataset | 0.041 | 0.004 | 0.046 | |
classificationTag | 0.630 | 0.004 | 0.636 | |
determiningLambda | 0.857 | 0.008 | 0.867 | |
dim | 0.046 | 0.000 | 0.045 | |
finalLRModel | 0.640 | 0.012 | 0.652 | |
finalModel | 0.503 | 0.004 | 0.508 | |
finalTFModel | 0.597 | 0.015 | 0.616 | |
htestPhenStat-class | 0.157 | 0.008 | 0.164 | |
modelFormula | 0.001 | 0.000 | 0.000 | |
modelFormulaLR | 0 | 0 | 0 | |
parserOutputSummary | 0.642 | 0.004 | 0.648 | |
parserOutputSummaryLR | 0.564 | 0.000 | 0.566 | |
parserOutputTFSummary | 0.126 | 0.004 | 0.131 | |
performReverseTransformation | 0.001 | 0.000 | 0.000 | |
performTransformation | 0.001 | 0.000 | 0.001 | |
plot.PhenList | 2.088 | 0.036 | 2.130 | |
plot.PhenTestResult | 2.027 | 0.052 | 2.084 | |
plotResidualPredicted | 0.655 | 0.008 | 0.664 | |
printLROutput | 0.580 | 0.008 | 0.589 | |
printTabStyle | 0.001 | 0.000 | 0.001 | |
qqplotGenotype | 0.680 | 0.004 | 0.685 | |
qqplotRandomEffects | 0.646 | 0.004 | 0.652 | |
qqplotRotatedResiduals | 2.149 | 0.052 | 2.205 | |
recommendMethod | 0.313 | 0.004 | 0.318 | |
scatterplotGenotypeWeight | 0.151 | 0.003 | 0.154 | |
scatterplotGenotypeWeightResult | 0.900 | 0.008 | 0.910 | |
scatterplotSexGenotypeBatch | 0.11 | 0.00 | 0.11 | |
scatterplotSexGenotypeBatchResult | 0.899 | 0.000 | 0.901 | |
startLRModel | 0.557 | 0.000 | 0.558 | |
startModel | 0.547 | 0.004 | 0.553 | |
startTFModel | 0.586 | 0.004 | 0.591 | |
summaryOutput | 0.825 | 0.012 | 0.839 | |
summaryPhenListResult | 0.856 | 0.004 | 0.862 | |
testDataset | 2.034 | 0.020 | 2.059 | |
testFinalLRModel | 0.578 | 0.000 | 0.579 | |
testFinalModel | 0.699 | 0.008 | 0.708 | |
vectorOutput | 0.823 | 0.032 | 0.858 | |
vectorOutputMatrices | 0.475 | 0.032 | 0.507 | |