Back to Multiple platform build/check report for BioC 3.19: simplified long |
|
This page was generated on 2024-06-28 17:42 -0400 (Fri, 28 Jun 2024).
Hostname | OS | Arch (*) | R version | Installed pkgs |
---|---|---|---|---|
nebbiolo1 | Linux (Ubuntu 22.04.3 LTS) | x86_64 | 4.4.0 (2024-04-24) -- "Puppy Cup" | 4760 |
palomino3 | Windows Server 2022 Datacenter | x64 | 4.4.0 (2024-04-24 ucrt) -- "Puppy Cup" | 4494 |
merida1 | macOS 12.7.4 Monterey | x86_64 | 4.4.0 (2024-04-24) -- "Puppy Cup" | 4508 |
kjohnson1 | macOS 13.6.6 Ventura | arm64 | 4.4.0 (2024-04-24) -- "Puppy Cup" | 4466 |
palomino7 | Windows Server 2022 Datacenter | x64 | 4.4.1 (2024-06-14 ucrt) -- "Race for Your Life" | 4362 |
Click on any hostname to see more info about the system (e.g. compilers) (*) as reported by 'uname -p', except on Windows and Mac OS X |
Package 2006/2300 | Hostname | OS / Arch | INSTALL | BUILD | CHECK | BUILD BIN | ||||||||
Robin Andersson
| nebbiolo1 | Linux (Ubuntu 22.04.3 LTS) / x86_64 | OK | OK | ERROR | |||||||||
palomino3 | Windows Server 2022 Datacenter / x64 | OK | OK | OK | OK | |||||||||
merida1 | macOS 12.7.4 Monterey / x86_64 | OK | OK | OK | OK | |||||||||
kjohnson1 | macOS 13.6.6 Ventura / arm64 | OK | OK | OK | OK | |||||||||
palomino7 | Windows Server 2022 Datacenter / x64 | OK | OK | OK | OK | |||||||||
To the developers/maintainers of the SMAP package: - Allow up to 24 hours (and sometimes 48 hours) for your latest push to git@git.bioconductor.org:packages/SMAP.git to reflect on this report. See Troubleshooting Build Report for more information. - Use the following Renviron settings to reproduce errors and warnings. - If 'R CMD check' started to fail recently on the Linux builder(s) over a missing dependency, add the missing dependency to 'Suggests:' in your DESCRIPTION file. See Renviron.bioc for more information. |
Package: SMAP |
Version: 1.68.0 |
Command: rm -rf SMAP.buildbin-libdir && mkdir SMAP.buildbin-libdir && F:\biocbuild\bbs-3.19-bioc\R\bin\R.exe CMD INSTALL --build --library=SMAP.buildbin-libdir SMAP_1.68.0.tar.gz |
StartedAt: 2024-06-27 08:57:13 -0400 (Thu, 27 Jun 2024) |
EndedAt: 2024-06-27 08:57:32 -0400 (Thu, 27 Jun 2024) |
EllapsedTime: 18.8 seconds |
RetCode: 0 |
Status: OK |
PackageFile: SMAP_1.68.0.zip |
PackageFileSize: 4.483 MiB |
############################################################################## ############################################################################## ### ### Running command: ### ### rm -rf SMAP.buildbin-libdir && mkdir SMAP.buildbin-libdir && F:\biocbuild\bbs-3.19-bioc\R\bin\R.exe CMD INSTALL --build --library=SMAP.buildbin-libdir SMAP_1.68.0.tar.gz ### ############################################################################## ############################################################################## * installing *source* package 'SMAP' ... ** using staged installation ** libs using C compiler: 'gcc.exe (GCC) 13.2.0' gcc -I"F:/biocbuild/bbs-3.19-bioc/R/include" -DNDEBUG -I"C:/rtools44/x86_64-w64-mingw32.static.posix/include" -O2 -Wall -mfpmath=sse -msse2 -mstackrealign -c gradient.c -o gradient.o gradient.c: In function 'prior_gradient': gradient.c:142:21: warning: variable 'lower' set but not used [-Wunused-but-set-variable] 142 | int lower; | ^~~~~ gradient.c: In function 'hmm_update': gradient.c:247:24: warning: unused variable 'tmp' [-Wunused-variable] 247 | double tmp; | ^~~ gcc -I"F:/biocbuild/bbs-3.19-bioc/R/include" -DNDEBUG -I"C:/rtools44/x86_64-w64-mingw32.static.posix/include" -O2 -Wall -mfpmath=sse -msse2 -mstackrealign -c init.c -o init.o gcc -I"F:/biocbuild/bbs-3.19-bioc/R/include" -DNDEBUG -I"C:/rtools44/x86_64-w64-mingw32.static.posix/include" -O2 -Wall -mfpmath=sse -msse2 -mstackrealign -c overlap.c -o overlap.o gcc -I"F:/biocbuild/bbs-3.19-bioc/R/include" -DNDEBUG -I"C:/rtools44/x86_64-w64-mingw32.static.posix/include" -O2 -Wall -mfpmath=sse -msse2 -mstackrealign -c prob.c -o prob.o gcc -I"F:/biocbuild/bbs-3.19-bioc/R/include" -DNDEBUG -I"C:/rtools44/x86_64-w64-mingw32.static.posix/include" -O2 -Wall -mfpmath=sse -msse2 -mstackrealign -c viterbi.c -o viterbi.o viterbi.c: In function 'viterbi': viterbi.c:136:32: warning: '*delta[<unknown>][0]' may be used uninitialized [-Wmaybe-uninitialized] 136 | *P = delta[T-1][Q[T-1]]; | ~~~~~~~~~~^~~~~~~~ gcc -shared -s -static-libgcc -o SMAP.dll tmp.def gradient.o init.o overlap.o prob.o viterbi.o -LC:/rtools44/x86_64-w64-mingw32.static.posix/lib/x64 -LC:/rtools44/x86_64-w64-mingw32.static.posix/lib -LF:/biocbuild/bbs-3.19-bioc/R/bin/x64 -lR installing to F:/biocbuild/bbs-3.19-bioc/meat/SMAP.buildbin-libdir/00LOCK-SMAP/00new/SMAP/libs/x64 ** R ** data ** inst ** byte-compile and prepare package for lazy loading ** help *** installing help indices ** building package indices ** installing vignettes ** testing if installed package can be loaded from temporary location Warning in fun(libname, pkgname) : Package 'SMAP' is deprecated and will be removed from Bioconductor version 3.20 ** testing if installed package can be loaded from final location Warning in fun(libname, pkgname) : Package 'SMAP' is deprecated and will be removed from Bioconductor version 3.20 ** testing if installed package keeps a record of temporary installation path * MD5 sums packaged installation of 'SMAP' as SMAP_1.68.0.zip * DONE (SMAP)