Back to Multiple platform build/check report for BioC 3.19: simplified long |
|
This page was generated on 2024-05-09 11:40:40 -0400 (Thu, 09 May 2024).
Hostname | OS | Arch (*) | R version | Installed pkgs |
---|---|---|---|---|
nebbiolo1 | Linux (Ubuntu 22.04.3 LTS) | x86_64 | 4.4.0 (2024-04-24) -- "Puppy Cup" | 4748 |
palomino3 | Windows Server 2022 Datacenter | x64 | 4.4.0 (2024-04-24 ucrt) -- "Puppy Cup" | 4484 |
lconway | macOS 12.7.1 Monterey | x86_64 | 4.4.0 (2024-04-24) -- "Puppy Cup" | 4514 |
kunpeng2 | Linux (openEuler 22.03 LTS-SP1) | aarch64 | 4.4.0 beta (2024-04-15 r86425) -- "Puppy Cup" | 4480 |
Click on any hostname to see more info about the system (e.g. compilers) (*) as reported by 'uname -p', except on Windows and Mac OS X |
Package 363/2300 | Hostname | OS / Arch | INSTALL | BUILD | CHECK | BUILD BIN | ||||||||
clippda 1.54.0 (landing page) Stephen Nyangoma
| nebbiolo1 | Linux (Ubuntu 22.04.3 LTS) / x86_64 | OK | OK | OK | |||||||||
palomino3 | Windows Server 2022 Datacenter / x64 | OK | OK | OK | OK | |||||||||
lconway | macOS 12.7.1 Monterey / x86_64 | OK | OK | OK | OK | |||||||||
kunpeng2 | Linux (openEuler 22.03 LTS-SP1) / aarch64 | OK | OK | OK | ||||||||||
kjohnson3 | macOS 13.6.5 Ventura / arm64 | see weekly results here | ||||||||||||
To the developers/maintainers of the clippda package: - Allow up to 24 hours (and sometimes 48 hours) for your latest push to git@git.bioconductor.org:packages/clippda.git to reflect on this report. See Troubleshooting Build Report for more information. - Use the following Renviron settings to reproduce errors and warnings. - If 'R CMD check' started to fail recently on the Linux builder(s) over a missing dependency, add the missing dependency to 'Suggests:' in your DESCRIPTION file. See Renviron.bioc for more information. - See Martin Grigorov's blog post for how to debug Linux ARM64 related issues on a x86_64 host. |
Package: clippda |
Version: 1.54.0 |
Command: /home/biocbuild/R/R-beta-2024-04-15_r86425/bin/R CMD check --install=check:clippda.install-out.txt --library=/home/biocbuild/R/R-beta-2024-04-15_r86425/site-library --no-vignettes --timings clippda_1.54.0.tar.gz |
StartedAt: 2024-05-09 05:53:09 -0000 (Thu, 09 May 2024) |
EndedAt: 2024-05-09 05:56:00 -0000 (Thu, 09 May 2024) |
EllapsedTime: 171.3 seconds |
RetCode: 0 |
Status: OK |
CheckDir: clippda.Rcheck |
Warnings: 0 |
############################################################################## ############################################################################## ### ### Running command: ### ### /home/biocbuild/R/R-beta-2024-04-15_r86425/bin/R CMD check --install=check:clippda.install-out.txt --library=/home/biocbuild/R/R-beta-2024-04-15_r86425/site-library --no-vignettes --timings clippda_1.54.0.tar.gz ### ############################################################################## ############################################################################## * using log directory ‘/home/biocbuild/bbs-3.19-bioc/meat/clippda.Rcheck’ * using R version 4.4.0 beta (2024-04-15 r86425) * using platform: aarch64-unknown-linux-gnu * R was compiled by gcc (GCC) 10.3.1 GNU Fortran (GCC) 10.3.1 * running under: openEuler 22.03 (LTS-SP1) * using session charset: UTF-8 * using option ‘--no-vignettes’ * checking for file ‘clippda/DESCRIPTION’ ... OK * this is package ‘clippda’ version ‘1.54.0’ * checking package namespace information ... NOTE Namespaces with empty importFrom: ‘Biobase’ ‘tools’ * checking package dependencies ... NOTE Depends: includes the non-default packages: 'limma', 'statmod', 'rgl', 'lattice', 'scatterplot3d', 'Biobase', 'tools' Adding so many packages to the search path is excessive and importing selectively is preferable. * checking if this is a source package ... OK * checking if there is a namespace ... OK * checking for hidden files and directories ... OK * checking for portable file names ... OK * checking for sufficient/correct file permissions ... OK * checking whether package ‘clippda’ can be installed ... OK * checking installed package size ... OK * checking package directory ... OK * checking ‘build’ directory ... OK * checking DESCRIPTION meta-information ... OK * checking top-level files ... OK * checking for left-over files ... OK * checking index information ... OK * checking package subdirectories ... OK * checking code files for non-ASCII characters ... OK * checking R files for syntax errors ... OK * checking whether the package can be loaded ... OK * checking whether the package can be loaded with stated dependencies ... OK * checking whether the package can be unloaded cleanly ... OK * checking whether the namespace can be loaded with stated dependencies ... OK * checking whether the namespace can be unloaded cleanly ... OK * checking loading without being on the library search path ... OK * checking dependencies in R code ... NOTE 'library' or 'require' calls to packages already attached by Depends: ‘lattice’ ‘limma’ ‘rgl’ ‘scatterplot3d’ ‘statmod’ Please remove these calls from your code. Packages in Depends field not imported from: ‘lattice’ ‘rgl’ These packages need to be imported from (in the NAMESPACE file) for when this namespace is loaded but not attached. * checking S3 generic/method consistency ... OK * checking replacement functions ... OK * checking foreign function calls ... OK * checking R code for possible problems ... NOTE ZvaluescasesVcontrolsPlots: no visible global function definition for ‘lines’ ZvaluescasesVcontrolsPlots: no visible global function definition for ‘legend’ ZvaluesfrommultinomPlots: no visible global function definition for ‘rmultinom’ ZvaluesfrommultinomPlots: no visible global function definition for ‘density’ ZvaluesfrommultinomPlots: no visible global function definition for ‘lines’ ZvaluesfrommultinomPlots: no visible global function definition for ‘legend’ ZvaluesfrommultinomPlots: no visible global function definition for ‘cloud’ ZvaluesfrommultinomPlots: no visible global function definition for ‘var’ Undefined global functions or variables: cloud density legend lines rmultinom var Consider adding importFrom("graphics", "legend", "lines") importFrom("stats", "density", "rmultinom", "var") to your NAMESPACE file. * checking Rd files ... NOTE checkRd: (-1) show-methods.Rd:11-18: Lost braces 11 | {object = "aclinicalProteomicsData"}{ | ^ * checking Rd metadata ... OK * checking Rd cross-references ... OK * checking for missing documentation entries ... OK * checking for code/documentation mismatches ... OK * checking Rd \usage sections ... OK * checking Rd contents ... OK * checking for unstated dependencies in examples ... OK * checking contents of ‘data’ directory ... OK * checking data for non-ASCII characters ... OK * checking data for ASCII and uncompressed saves ... OK * checking files in ‘vignettes’ ... OK * checking examples ... OK Examples with CPU (user + system) or elapsed time > 5s user system elapsed clippda-package 59.234 0.319 59.680 sampleSize 34.868 0.072 35.017 sampleSizeParameters 17.538 0.020 17.593 * checking for unstated dependencies in vignettes ... OK * checking package vignettes ... OK * checking running R code from vignettes ... SKIPPED * checking re-building of vignette outputs ... SKIPPED * checking PDF version of manual ... OK * DONE Status: 5 NOTEs See ‘/home/biocbuild/bbs-3.19-bioc/meat/clippda.Rcheck/00check.log’ for details.
clippda.Rcheck/00install.out
############################################################################## ############################################################################## ### ### Running command: ### ### /home/biocbuild/R/R-beta-2024-04-15_r86425/bin/R CMD INSTALL clippda ### ############################################################################## ############################################################################## * installing to library ‘/home/biocbuild/R/R-beta-2024-04-15_r86425/site-library’ * installing *source* package ‘clippda’ ... ** using staged installation ** R ** data ** inst ** byte-compile and prepare package for lazy loading ** help *** installing help indices ** building package indices ** installing vignettes ** testing if installed package can be loaded from temporary location ** testing if installed package can be loaded from final location ** testing if installed package keeps a record of temporary installation path * DONE (clippda)
clippda.Rcheck/clippda-Ex.timings
name | user | system | elapsed | |
ZvaluescasesVcontrolsPlots | 0.010 | 0.003 | 0.013 | |
ZvaluesfrommultinomPlots | 1.046 | 0.095 | 1.144 | |
aclinicalProteomicsData-class | 0.043 | 0.008 | 0.052 | |
aclinicalProteomicsData-methods | 0.162 | 0.072 | 0.234 | |
betweensampleVariance | 1.724 | 0.024 | 1.752 | |
checkNo.replicates | 0.083 | 0.000 | 0.083 | |
clippda-package | 59.234 | 0.319 | 59.680 | |
f | 0.001 | 0.000 | 0.001 | |
fisherInformation | 0.051 | 0.008 | 0.059 | |
liverRawData | 0.000 | 0.004 | 0.004 | |
liver_pheno | 0.002 | 0.000 | 0.001 | |
liverdata | 1.438 | 0.000 | 1.441 | |
mostSimilarTwo | 0.002 | 0.000 | 0.002 | |
negativeIntensitiesCorrection | 0.313 | 0.000 | 0.314 | |
phenoDataFrame | 0.057 | 0.000 | 0.056 | |
pheno_urine | 0.002 | 0.000 | 0.001 | |
preProcRepeatedPeakData | 1.086 | 0.000 | 1.089 | |
proteomicsExprsData | 0.159 | 0.000 | 0.160 | |
proteomicspData | 0.048 | 0.000 | 0.048 | |
replicateCorrelations | 2.941 | 0.004 | 2.952 | |
sampleClusteredData | 0.311 | 0.000 | 0.313 | |
sampleSize | 34.868 | 0.072 | 35.017 | |
sampleSize3DscatterPlots | 0.016 | 0.004 | 0.020 | |
sampleSizeContourPlots | 0.04 | 0.00 | 0.04 | |
sampleSizeParameters | 17.538 | 0.020 | 17.593 | |
sample_technicalVariance | 4.190 | 0.000 | 4.199 | |
spectrumFilter | 1.300 | 0.008 | 1.311 | |
ztwo | 0 | 0 | 0 | |