Back to Multiple platform build/check report for BioC 3.19: simplified long |
|
This page was generated on 2024-05-09 11:40:52 -0400 (Thu, 09 May 2024).
Hostname | OS | Arch (*) | R version | Installed pkgs |
---|---|---|---|---|
nebbiolo1 | Linux (Ubuntu 22.04.3 LTS) | x86_64 | 4.4.0 (2024-04-24) -- "Puppy Cup" | 4748 |
palomino3 | Windows Server 2022 Datacenter | x64 | 4.4.0 (2024-04-24 ucrt) -- "Puppy Cup" | 4484 |
lconway | macOS 12.7.1 Monterey | x86_64 | 4.4.0 (2024-04-24) -- "Puppy Cup" | 4514 |
kunpeng2 | Linux (openEuler 22.03 LTS-SP1) | aarch64 | 4.4.0 beta (2024-04-15 r86425) -- "Puppy Cup" | 4480 |
Click on any hostname to see more info about the system (e.g. compilers) (*) as reported by 'uname -p', except on Windows and Mac OS X |
Package 797/2300 | Hostname | OS / Arch | INSTALL | BUILD | CHECK | BUILD BIN | ||||||||
gemma.R 3.0.3 (landing page) Ogan Mancarci
| nebbiolo1 | Linux (Ubuntu 22.04.3 LTS) / x86_64 | OK | OK | OK | |||||||||
palomino3 | Windows Server 2022 Datacenter / x64 | OK | ERROR | skipped | skipped | |||||||||
lconway | macOS 12.7.1 Monterey / x86_64 | OK | OK | OK | OK | |||||||||
kunpeng2 | Linux (openEuler 22.03 LTS-SP1) / aarch64 | OK | OK | OK | ||||||||||
kjohnson3 | macOS 13.6.5 Ventura / arm64 | see weekly results here | ||||||||||||
To the developers/maintainers of the gemma.R package: - Allow up to 24 hours (and sometimes 48 hours) for your latest push to git@git.bioconductor.org:packages/gemma.R.git to reflect on this report. See Troubleshooting Build Report for more information. - Use the following Renviron settings to reproduce errors and warnings. - If 'R CMD check' started to fail recently on the Linux builder(s) over a missing dependency, add the missing dependency to 'Suggests:' in your DESCRIPTION file. See Renviron.bioc for more information. - See Martin Grigorov's blog post for how to debug Linux ARM64 related issues on a x86_64 host. |
Package: gemma.R |
Version: 3.0.3 |
Command: /home/biocbuild/R/R-beta-2024-04-15_r86425/bin/R CMD check --install=check:gemma.R.install-out.txt --library=/home/biocbuild/R/R-beta-2024-04-15_r86425/site-library --no-vignettes --timings gemma.R_3.0.3.tar.gz |
StartedAt: 2024-05-09 07:38:04 -0000 (Thu, 09 May 2024) |
EndedAt: 2024-05-09 07:42:27 -0000 (Thu, 09 May 2024) |
EllapsedTime: 262.6 seconds |
RetCode: 0 |
Status: OK |
CheckDir: gemma.R.Rcheck |
Warnings: 0 |
############################################################################## ############################################################################## ### ### Running command: ### ### /home/biocbuild/R/R-beta-2024-04-15_r86425/bin/R CMD check --install=check:gemma.R.install-out.txt --library=/home/biocbuild/R/R-beta-2024-04-15_r86425/site-library --no-vignettes --timings gemma.R_3.0.3.tar.gz ### ############################################################################## ############################################################################## * using log directory ‘/home/biocbuild/bbs-3.19-bioc/meat/gemma.R.Rcheck’ * using R version 4.4.0 beta (2024-04-15 r86425) * using platform: aarch64-unknown-linux-gnu * R was compiled by gcc (GCC) 10.3.1 GNU Fortran (GCC) 10.3.1 * running under: openEuler 22.03 (LTS-SP1) * using session charset: UTF-8 * using option ‘--no-vignettes’ * checking for file ‘gemma.R/DESCRIPTION’ ... OK * this is package ‘gemma.R’ version ‘3.0.3’ * package encoding: UTF-8 * checking package namespace information ... OK * checking package dependencies ... OK * checking if this is a source package ... OK * checking if there is a namespace ... OK * checking for hidden files and directories ... OK * checking for portable file names ... OK * checking for sufficient/correct file permissions ... OK * checking whether package ‘gemma.R’ can be installed ... OK * checking installed package size ... OK * checking package directory ... OK * checking ‘build’ directory ... OK * checking DESCRIPTION meta-information ... OK * checking top-level files ... OK * checking for left-over files ... OK * checking index information ... OK * checking package subdirectories ... OK * checking code files for non-ASCII characters ... OK * checking R files for syntax errors ... OK * checking whether the package can be loaded ... OK * checking whether the package can be loaded with stated dependencies ... OK * checking whether the package can be unloaded cleanly ... OK * checking whether the namespace can be loaded with stated dependencies ... OK * checking whether the namespace can be unloaded cleanly ... OK * checking loading without being on the library search path ... OK * checking dependencies in R code ... OK * checking S3 generic/method consistency ... OK * checking replacement functions ... OK * checking foreign function calls ... OK * checking R code for possible problems ... OK * checking Rd files ... OK * checking Rd metadata ... OK * checking Rd cross-references ... OK * checking for missing documentation entries ... OK * checking for code/documentation mismatches ... OK * checking Rd \usage sections ... OK * checking Rd contents ... OK * checking for unstated dependencies in examples ... OK * checking files in ‘vignettes’ ... OK * checking examples ... OK Examples with CPU (user + system) or elapsed time > 5s user system elapsed get_dataset_object 9.737 0.370 14.920 get_dataset_raw_expression 1.039 0.032 6.300 get_dataset_expression 0.727 0.043 7.977 update_result 0.672 0.060 5.379 get_dataset_differential_expression_analyses 0.489 0.036 5.824 get_datasets 0.177 0.012 5.840 * checking for unstated dependencies in ‘tests’ ... OK * checking tests ... Running ‘testthat.R’ OK * checking for unstated dependencies in vignettes ... OK * checking package vignettes ... OK * checking running R code from vignettes ... SKIPPED * checking re-building of vignette outputs ... SKIPPED * checking PDF version of manual ... OK * DONE Status: OK
gemma.R.Rcheck/00install.out
############################################################################## ############################################################################## ### ### Running command: ### ### /home/biocbuild/R/R-beta-2024-04-15_r86425/bin/R CMD INSTALL gemma.R ### ############################################################################## ############################################################################## * installing to library ‘/home/biocbuild/R/R-beta-2024-04-15_r86425/site-library’ * installing *source* package ‘gemma.R’ ... ** using staged installation ** R ** inst ** byte-compile and prepare package for lazy loading ** help *** installing help indices *** copying figures ** building package indices ** installing vignettes ** testing if installed package can be loaded from temporary location ** testing if installed package can be loaded from final location ** testing if installed package keeps a record of temporary installation path * DONE (gemma.R)
gemma.R.Rcheck/tests/testthat.Rout
R version 4.4.0 beta (2024-04-15 r86425) -- "Puppy Cup" Copyright (C) 2024 The R Foundation for Statistical Computing Platform: aarch64-unknown-linux-gnu R is free software and comes with ABSOLUTELY NO WARRANTY. You are welcome to redistribute it under certain conditions. Type 'license()' or 'licence()' for distribution details. R is a collaborative project with many contributors. Type 'contributors()' for more information and 'citation()' on how to cite R or R packages in publications. Type 'demo()' for some demos, 'help()' for on-line help, or 'help.start()' for an HTML browser interface to help. Type 'q()' to quit R. > library(testthat) > library(dplyr) Attaching package: 'dplyr' The following object is masked from 'package:testthat': matches The following objects are masked from 'package:stats': filter, lag The following objects are masked from 'package:base': intersect, setdiff, setequal, union > > # Prevent certificate issues for GitHub actions > options(gemma.SSL = FALSE) > # get gemma api path if it's set in the environment > gemma.R:::setGemmaPath('prod') [1] "https://gemma.msl.ubc.ca/rest/v2/" > print(gemma.R:::gemmaPath()) [1] "https://gemma.msl.ubc.ca/rest/v2/" > test_check("gemma.R") Loading required package: gemma.R [ FAIL 0 | WARN 0 | SKIP 4 | PASS 133 ] ══ Skipped tests (4) ═══════════════════════════════════════════════════════════ • On Bioconductor (4): 'testCaches.R:37:3', 'testConvenience.R:15:5', 'testConvenience.R:37:5', 'testDatasetEndpoints.R:84:5' [ FAIL 0 | WARN 0 | SKIP 4 | PASS 133 ] > > > > proc.time() user system elapsed 39.546 1.220 147.949
gemma.R.Rcheck/gemma.R-Ex.timings
name | user | system | elapsed | |
dot-getResultSets | 0 | 0 | 0 | |
filter_properties | 0.080 | 0.008 | 0.089 | |
forget_gemma_memoised | 0.025 | 0.000 | 0.036 | |
gemma_call | 0.246 | 0.000 | 2.268 | |
get_child_terms | 0.354 | 0.034 | 0.635 | |
get_dataset_annotations | 0.011 | 0.000 | 0.235 | |
get_dataset_design | 0.312 | 0.000 | 0.573 | |
get_dataset_differential_expression_analyses | 0.489 | 0.036 | 5.824 | |
get_dataset_expression | 0.727 | 0.043 | 7.977 | |
get_dataset_expression_for_genes | 0.299 | 0.000 | 0.788 | |
get_dataset_object | 9.737 | 0.370 | 14.920 | |
get_dataset_platforms | 0.030 | 0.000 | 0.639 | |
get_dataset_processed_expression | 1.194 | 0.066 | 4.890 | |
get_dataset_quantitation_types | 0.012 | 0.000 | 0.351 | |
get_dataset_raw_expression | 1.039 | 0.032 | 6.300 | |
get_dataset_samples | 0.255 | 0.000 | 0.694 | |
get_datasets | 0.177 | 0.012 | 5.840 | |
get_datasets_by_ids | 0.052 | 0.008 | 0.495 | |
get_differential_expression_values | 0.245 | 0.016 | 3.513 | |
get_gene_go_terms | 0.031 | 0.000 | 0.238 | |
get_gene_locations | 0.008 | 0.008 | 0.259 | |
get_gene_probes | 0.022 | 0.008 | 0.255 | |
get_genes | 0.030 | 0.004 | 0.438 | |
get_platform_annotations | 0.760 | 0.018 | 1.978 | |
get_platform_datasets | 0.045 | 0.000 | 0.395 | |
get_platform_element_genes | 0.013 | 0.004 | 0.223 | |
get_platforms_by_ids | 0.031 | 0.004 | 0.480 | |
get_result_sets | 0.052 | 0.004 | 0.484 | |
get_taxa | 0.013 | 0.000 | 0.214 | |
get_taxa_by_ids | 0.012 | 0.000 | 0.212 | |
get_taxon_datasets | 0.049 | 0.001 | 0.458 | |
make_design | 0.921 | 0.011 | 1.191 | |
search_annotations | 0.014 | 0.000 | 0.215 | |
search_datasets | 0.045 | 0.000 | 0.537 | |
search_gemma | 0.102 | 0.004 | 0.697 | |
update_result | 0.672 | 0.060 | 5.379 | |