Back to Multiple platform build/check report for BioC 3.19: simplified long |
|
This page was generated on 2024-05-09 11:40:59 -0400 (Thu, 09 May 2024).
Hostname | OS | Arch (*) | R version | Installed pkgs |
---|---|---|---|---|
nebbiolo1 | Linux (Ubuntu 22.04.3 LTS) | x86_64 | 4.4.0 (2024-04-24) -- "Puppy Cup" | 4748 |
palomino3 | Windows Server 2022 Datacenter | x64 | 4.4.0 (2024-04-24 ucrt) -- "Puppy Cup" | 4484 |
lconway | macOS 12.7.1 Monterey | x86_64 | 4.4.0 (2024-04-24) -- "Puppy Cup" | 4514 |
kunpeng2 | Linux (openEuler 22.03 LTS-SP1) | aarch64 | 4.4.0 beta (2024-04-15 r86425) -- "Puppy Cup" | 4480 |
Click on any hostname to see more info about the system (e.g. compilers) (*) as reported by 'uname -p', except on Windows and Mac OS X |
Package 1043/2300 | Hostname | OS / Arch | INSTALL | BUILD | CHECK | BUILD BIN | ||||||||
intansv 1.44.0 (landing page) Wen Yao
| nebbiolo1 | Linux (Ubuntu 22.04.3 LTS) / x86_64 | OK | OK | OK | |||||||||
palomino3 | Windows Server 2022 Datacenter / x64 | OK | ERROR | skipped | skipped | |||||||||
lconway | macOS 12.7.1 Monterey / x86_64 | OK | OK | OK | OK | |||||||||
kunpeng2 | Linux (openEuler 22.03 LTS-SP1) / aarch64 | OK | OK | OK | ||||||||||
kjohnson3 | macOS 13.6.5 Ventura / arm64 | see weekly results here | ||||||||||||
To the developers/maintainers of the intansv package: - Allow up to 24 hours (and sometimes 48 hours) for your latest push to git@git.bioconductor.org:packages/intansv.git to reflect on this report. See Troubleshooting Build Report for more information. - Use the following Renviron settings to reproduce errors and warnings. - If 'R CMD check' started to fail recently on the Linux builder(s) over a missing dependency, add the missing dependency to 'Suggests:' in your DESCRIPTION file. See Renviron.bioc for more information. - See Martin Grigorov's blog post for how to debug Linux ARM64 related issues on a x86_64 host. |
Package: intansv |
Version: 1.44.0 |
Command: /home/biocbuild/R/R-beta-2024-04-15_r86425/bin/R CMD check --install=check:intansv.install-out.txt --library=/home/biocbuild/R/R-beta-2024-04-15_r86425/site-library --no-vignettes --timings intansv_1.44.0.tar.gz |
StartedAt: 2024-05-09 08:35:34 -0000 (Thu, 09 May 2024) |
EndedAt: 2024-05-09 08:43:41 -0000 (Thu, 09 May 2024) |
EllapsedTime: 486.9 seconds |
RetCode: 0 |
Status: OK |
CheckDir: intansv.Rcheck |
Warnings: 0 |
############################################################################## ############################################################################## ### ### Running command: ### ### /home/biocbuild/R/R-beta-2024-04-15_r86425/bin/R CMD check --install=check:intansv.install-out.txt --library=/home/biocbuild/R/R-beta-2024-04-15_r86425/site-library --no-vignettes --timings intansv_1.44.0.tar.gz ### ############################################################################## ############################################################################## * using log directory ‘/home/biocbuild/bbs-3.19-bioc/meat/intansv.Rcheck’ * using R version 4.4.0 beta (2024-04-15 r86425) * using platform: aarch64-unknown-linux-gnu * R was compiled by gcc (GCC) 10.3.1 GNU Fortran (GCC) 10.3.1 * running under: openEuler 22.03 (LTS-SP1) * using session charset: UTF-8 * using option ‘--no-vignettes’ * checking for file ‘intansv/DESCRIPTION’ ... OK * this is package ‘intansv’ version ‘1.44.0’ * checking package namespace information ... OK * checking package dependencies ... OK * checking if this is a source package ... OK * checking if there is a namespace ... OK * checking for hidden files and directories ... OK * checking for portable file names ... OK * checking for sufficient/correct file permissions ... OK * checking whether package ‘intansv’ can be installed ... OK * checking installed package size ... OK * checking package directory ... OK * checking ‘build’ directory ... OK * checking DESCRIPTION meta-information ... NOTE License stub is invalid DCF. * checking top-level files ... OK * checking for left-over files ... OK * checking index information ... OK * checking package subdirectories ... OK * checking code files for non-ASCII characters ... OK * checking R files for syntax errors ... OK * checking whether the package can be loaded ... OK * checking whether the package can be loaded with stated dependencies ... OK * checking whether the package can be unloaded cleanly ... OK * checking whether the namespace can be loaded with stated dependencies ... OK * checking whether the namespace can be unloaded cleanly ... OK * checking loading without being on the library search path ... OK * checking dependencies in R code ... OK * checking S3 generic/method consistency ... OK * checking replacement functions ... OK * checking foreign function calls ... OK * checking R code for possible problems ... NOTE DellyCluster: no visible global function definition for 'subjectHits' LumpyCluster: no visible global function definition for 'subjectHits' PindelCluster: no visible global function definition for 'subjectHits' breakDancerCluster: no visible global function definition for 'subjectHits' mergeOLCNVs: no visible global function definition for 'subjectHits' methodsMerge: no visible global function definition for 'subjectHits' plotChromosome: no visible global function definition for 'queryHits' plotChromosome: no visible global function definition for 'subjectHits' plotChromosome: no visible global function definition for 'seqlengths<-' plotChromosome: no visible global function definition for 'seqlengths' plotChromosome: no visible global function definition for 'aes' plotRegion: no visible global function definition for 'seqlengths<-' plotRegion: no visible global function definition for 'subjectHits' plotRegion: no visible global function definition for 'aes' plotRegion: no visible binding for global variable 'name' readCnvnator: no visible global function definition for 'subjectHits' readDelly: no visible global function definition for 'subjectHits' readLumpy: no visible global function definition for 'subjectHits' readPindel: no visible global function definition for 'subjectHits' readSoftSearch: no visible global function definition for 'subjectHits' readSvseq: no visible global function definition for 'subjectHits' readSvseq : <anonymous>: no visible global function definition for 'subjectHits' softSearchCluster: no visible global function definition for 'subjectHits' tellOLPercantage: no visible global function definition for 'queryHits' tellOLPercantage: no visible global function definition for 'subjectHits' Undefined global functions or variables: aes name queryHits seqlengths seqlengths<- subjectHits * checking Rd files ... NOTE checkRd: (-1) plotChromosome.Rd:34: Lost braces in \itemize; \value handles \item{}{} directly checkRd: (-1) plotChromosome.Rd:35: Lost braces in \itemize; \value handles \item{}{} directly checkRd: (-1) plotChromosome.Rd:36-37: Lost braces in \itemize; \value handles \item{}{} directly checkRd: (-1) plotChromosome.Rd:38-39: Lost braces in \itemize; \value handles \item{}{} directly checkRd: (-1) plotChromosome.Rd:40-41: Lost braces in \itemize; \value handles \item{}{} directly checkRd: (-1) plotRegion.Rd:35: Lost braces in \itemize; \value handles \item{}{} directly checkRd: (-1) plotRegion.Rd:36: Lost braces in \itemize; \value handles \item{}{} directly checkRd: (-1) plotRegion.Rd:37: Lost braces in \itemize; \value handles \item{}{} directly checkRd: (-1) plotRegion.Rd:38: Lost braces in \itemize; \value handles \item{}{} directly checkRd: (-1) svAnnotation.Rd:30: Lost braces in \itemize; meant \describe ? checkRd: (-1) svAnnotation.Rd:31: Lost braces in \itemize; meant \describe ? checkRd: (-1) svAnnotation.Rd:32: Lost braces in \itemize; meant \describe ? * checking Rd metadata ... OK * checking Rd cross-references ... OK * checking for missing documentation entries ... OK * checking for code/documentation mismatches ... OK * checking Rd \usage sections ... OK * checking Rd contents ... OK * checking for unstated dependencies in examples ... OK * checking files in ‘vignettes’ ... OK * checking examples ... OK Examples with CPU (user + system) or elapsed time > 5s user system elapsed methodsMerge 36.716 0.363 37.172 plotChromosome 6.671 0.120 6.806 plotRegion 5.202 0.004 5.219 * checking for unstated dependencies in vignettes ... OK * checking package vignettes ... OK * checking running R code from vignettes ... SKIPPED * checking re-building of vignette outputs ... SKIPPED * checking PDF version of manual ... OK * DONE Status: 3 NOTEs See ‘/home/biocbuild/bbs-3.19-bioc/meat/intansv.Rcheck/00check.log’ for details.
intansv.Rcheck/00install.out
############################################################################## ############################################################################## ### ### Running command: ### ### /home/biocbuild/R/R-beta-2024-04-15_r86425/bin/R CMD INSTALL intansv ### ############################################################################## ############################################################################## * installing to library ‘/home/biocbuild/R/R-beta-2024-04-15_r86425/site-library’ * installing *source* package ‘intansv’ ... ** using staged installation ** R ** inst ** byte-compile and prepare package for lazy loading ** help *** installing help indices ** building package indices ** installing vignettes ** testing if installed package can be loaded from temporary location ** testing if installed package can be loaded from final location ** testing if installed package keeps a record of temporary installation path * DONE (intansv)
intansv.Rcheck/intansv-Ex.timings
name | user | system | elapsed | |
methodsMerge | 36.716 | 0.363 | 37.172 | |
plotChromosome | 6.671 | 0.120 | 6.806 | |
plotRegion | 5.202 | 0.004 | 5.219 | |
readBreakDancer | 1.362 | 0.004 | 1.369 | |
readCnvnator | 0.789 | 0.008 | 0.799 | |
readDelly | 4.254 | 0.008 | 4.273 | |
readLumpy | 4.694 | 0.008 | 4.715 | |
readPindel | 3.815 | 0.028 | 3.852 | |
readSoftSearch | 0.407 | 0.004 | 0.413 | |
readSvseq | 0.453 | 0.000 | 0.454 | |
svAnnotation | 1.576 | 0.004 | 1.582 | |