Back to Multiple platform build/check report for BioC 3.19: simplified long |
|
This page was generated on 2024-06-11 14:44 -0400 (Tue, 11 Jun 2024).
Hostname | OS | Arch (*) | R version | Installed pkgs |
---|---|---|---|---|
nebbiolo1 | Linux (Ubuntu 22.04.3 LTS) | x86_64 | 4.4.0 (2024-04-24) -- "Puppy Cup" | 4757 |
palomino3 | Windows Server 2022 Datacenter | x64 | 4.4.0 (2024-04-24 ucrt) -- "Puppy Cup" | 4491 |
lconway | macOS 12.7.1 Monterey | x86_64 | 4.4.0 (2024-04-24) -- "Puppy Cup" | 4522 |
kjohnson3 | macOS 13.6.5 Ventura | arm64 | 4.4.0 (2024-04-24) -- "Puppy Cup" | 4468 |
Click on any hostname to see more info about the system (e.g. compilers) (*) as reported by 'uname -p', except on Windows and Mac OS X |
Package 1580/2300 | Hostname | OS / Arch | INSTALL | BUILD | CHECK | BUILD BIN | ||||||||
plotgardener 1.10.0 (landing page) Nicole Kramer
| nebbiolo1 | Linux (Ubuntu 22.04.3 LTS) / x86_64 | OK | OK | OK | ![]() | ||||||||
palomino3 | Windows Server 2022 Datacenter / x64 | OK | OK | OK | OK | ![]() | ||||||||
lconway | macOS 12.7.1 Monterey / x86_64 | OK | OK | OK | OK | ![]() | ||||||||
kjohnson3 | macOS 13.6.5 Ventura / arm64 | OK | OK | WARNINGS | OK | ![]() | ||||||||
To the developers/maintainers of the plotgardener package: - Allow up to 24 hours (and sometimes 48 hours) for your latest push to git@git.bioconductor.org:packages/plotgardener.git to reflect on this report. See Troubleshooting Build Report for more information. - Use the following Renviron settings to reproduce errors and warnings. - If 'R CMD check' started to fail recently on the Linux builder(s) over a missing dependency, add the missing dependency to 'Suggests:' in your DESCRIPTION file. See Renviron.bioc for more information. |
Package: plotgardener |
Version: 1.10.0 |
Command: /Library/Frameworks/R.framework/Resources/bin/R CMD check --install=check:plotgardener.install-out.txt --library=/Library/Frameworks/R.framework/Resources/library --no-vignettes --timings plotgardener_1.10.0.tar.gz |
StartedAt: 2024-06-11 01:27:34 -0400 (Tue, 11 Jun 2024) |
EndedAt: 2024-06-11 01:37:26 -0400 (Tue, 11 Jun 2024) |
EllapsedTime: 592.3 seconds |
RetCode: 0 |
Status: WARNINGS |
CheckDir: plotgardener.Rcheck |
Warnings: 1 |
############################################################################## ############################################################################## ### ### Running command: ### ### /Library/Frameworks/R.framework/Resources/bin/R CMD check --install=check:plotgardener.install-out.txt --library=/Library/Frameworks/R.framework/Resources/library --no-vignettes --timings plotgardener_1.10.0.tar.gz ### ############################################################################## ############################################################################## * using log directory ‘/Users/biocbuild/bbs-3.19-bioc/meat/plotgardener.Rcheck’ * using R version 4.4.0 (2024-04-24) * using platform: aarch64-apple-darwin20 * R was compiled by Apple clang version 14.0.0 (clang-1400.0.29.202) GNU Fortran (GCC) 12.2.0 * running under: macOS Ventura 13.6.5 * using session charset: UTF-8 * using option ‘--no-vignettes’ * checking for file ‘plotgardener/DESCRIPTION’ ... OK * this is package ‘plotgardener’ version ‘1.10.0’ * package encoding: UTF-8 * checking package namespace information ... OK * checking package dependencies ... OK * checking if this is a source package ... OK * checking if there is a namespace ... OK * checking for hidden files and directories ... OK * checking for portable file names ... OK * checking for sufficient/correct file permissions ... OK * checking whether package ‘plotgardener’ can be installed ... WARNING Found the following significant warnings: checkRow.cpp:19:12: warning: use of bitwise '&' with boolean operands [-Wbitwise-instead-of-logical] checkRow.cpp:20:12: warning: use of bitwise '|' with boolean operands [-Wbitwise-instead-of-logical] checkRow.cpp:22:12: warning: use of bitwise '&' with boolean operands [-Wbitwise-instead-of-logical] checkRow.cpp:21:12: warning: use of bitwise '&' with boolean operands [-Wbitwise-instead-of-logical] checkRow.cpp:20:13: warning: use of bitwise '&' with boolean operands [-Wbitwise-instead-of-logical] See ‘/Users/biocbuild/bbs-3.19-bioc/meat/plotgardener.Rcheck/00install.out’ for details. * used C++ compiler: ‘Apple clang version 15.0.0 (clang-1500.1.0.2.5)’ * used SDK: ‘MacOSX11.3.sdk’ * checking installed package size ... OK * checking package directory ... OK * checking ‘build’ directory ... OK * checking DESCRIPTION meta-information ... OK * checking top-level files ... OK * checking for left-over files ... OK * checking index information ... OK * checking package subdirectories ... OK * checking code files for non-ASCII characters ... OK * checking R files for syntax errors ... OK * checking whether the package can be loaded ... OK * checking whether the package can be loaded with stated dependencies ... OK * checking whether the package can be unloaded cleanly ... OK * checking whether the namespace can be loaded with stated dependencies ... OK * checking whether the namespace can be unloaded cleanly ... OK * checking whether startup messages can be suppressed ... OK * checking dependencies in R code ... OK * checking S3 generic/method consistency ... OK * checking replacement functions ... OK * checking foreign function calls ... OK * checking R code for possible problems ... NOTE pgParams: no visible binding for global variable ‘width’ pgParams: no visible binding for global variable ‘strand’ Undefined global functions or variables: strand width * checking Rd files ... NOTE checkRd: (-1) annoDomains.Rd:28-29: Lost braces in \itemize; meant \describe ? checkRd: (-1) annoDomains.Rd:30-31: Lost braces in \itemize; meant \describe ? checkRd: (-1) annoDomains.Rd:32-33: Lost braces in \itemize; meant \describe ? checkRd: (-1) annoDomains.Rd:34-35: Lost braces in \itemize; meant \describe ? checkRd: (-1) annoGenomeLabel.Rd:47: Lost braces in \itemize; meant \describe ? checkRd: (-1) annoGenomeLabel.Rd:48-49: Lost braces in \itemize; meant \describe ? checkRd: (-1) annoGenomeLabel.Rd:50-51: Lost braces in \itemize; meant \describe ? checkRd: (-1) annoGenomeLabel.Rd:69: Lost braces in \itemize; meant \describe ? checkRd: (-1) annoGenomeLabel.Rd:70-72: Lost braces in \itemize; meant \describe ? checkRd: (-1) annoHeatmapLegend.Rd:33: Lost braces in \itemize; meant \describe ? checkRd: (-1) annoHeatmapLegend.Rd:34: Lost braces in \itemize; meant \describe ? checkRd: (-1) annoPixels.Rd:30: Lost braces in \itemize; meant \describe ? checkRd: (-1) annoPixels.Rd:31: Lost braces in \itemize; meant \describe ? checkRd: (-1) annoPixels.Rd:32: Lost braces in \itemize; meant \describe ? checkRd: (-1) annoPixels.Rd:39-40: Lost braces in \itemize; meant \describe ? checkRd: (-1) annoPixels.Rd:41-42: Lost braces in \itemize; meant \describe ? checkRd: (-1) annoPixels.Rd:43-44: Lost braces in \itemize; meant \describe ? checkRd: (-1) annoPixels.Rd:45-46: Lost braces in \itemize; meant \describe ? checkRd: (-1) annoSegments.Rd:64: Lost braces in \itemize; meant \describe ? checkRd: (-1) annoSegments.Rd:65: Lost braces in \itemize; meant \describe ? checkRd: (-1) annoSegments.Rd:66: Lost braces in \itemize; meant \describe ? checkRd: (-1) annoXaxis.Rd:31: Lost braces in \itemize; meant \describe ? checkRd: (-1) annoXaxis.Rd:32: Lost braces in \itemize; meant \describe ? checkRd: (-1) annoYaxis.Rd:31: Lost braces in \itemize; meant \describe ? checkRd: (-1) annoYaxis.Rd:32: Lost braces in \itemize; meant \describe ? checkRd: (-1) plotGenomeLabel.Rd:58: Lost braces in \itemize; meant \describe ? checkRd: (-1) plotGenomeLabel.Rd:59-60: Lost braces in \itemize; meant \describe ? checkRd: (-1) plotGenomeLabel.Rd:61-62: Lost braces in \itemize; meant \describe ? checkRd: (-1) plotGenomeLabel.Rd:80: Lost braces in \itemize; meant \describe ? checkRd: (-1) plotGenomeLabel.Rd:81-83: Lost braces in \itemize; meant \describe ? checkRd: (-1) plotHicRectangle.Rd:53: Lost braces in \itemize; meant \describe ? checkRd: (-1) plotHicRectangle.Rd:54: Lost braces in \itemize; meant \describe ? checkRd: (-1) plotHicRectangle.Rd:55: Lost braces in \itemize; meant \describe ? checkRd: (-1) plotHicSquare.Rd:57: Lost braces in \itemize; meant \describe ? checkRd: (-1) plotHicSquare.Rd:58: Lost braces in \itemize; meant \describe ? checkRd: (-1) plotHicSquare.Rd:59: Lost braces in \itemize; meant \describe ? checkRd: (-1) plotHicSquare.Rd:96: Lost braces in \itemize; meant \describe ? checkRd: (-1) plotHicSquare.Rd:97: Lost braces in \itemize; meant \describe ? checkRd: (-1) plotHicSquare.Rd:98: Lost braces in \itemize; meant \describe ? checkRd: (-1) plotHicTriangle.Rd:53: Lost braces in \itemize; meant \describe ? checkRd: (-1) plotHicTriangle.Rd:54: Lost braces in \itemize; meant \describe ? checkRd: (-1) plotHicTriangle.Rd:55: Lost braces in \itemize; meant \describe ? checkRd: (-1) plotIdeogram.Rd:40: Lost braces in \itemize; meant \describe ? checkRd: (-1) plotIdeogram.Rd:41: Lost braces in \itemize; meant \describe ? checkRd: (-1) plotLegend.Rd:42: Lost braces in \itemize; meant \describe ? checkRd: (-1) plotLegend.Rd:43: Lost braces in \itemize; meant \describe ? checkRd: (-1) plotManhattan.Rd:45: Lost braces in \itemize; meant \describe ? checkRd: (-1) plotManhattan.Rd:46-47: Lost braces in \itemize; meant \describe ? checkRd: (-1) plotManhattan.Rd:48-49: Lost braces in \itemize; meant \describe ? checkRd: (-1) plotManhattan.Rd:50-51: Lost braces in \itemize; meant \describe ? checkRd: (-1) plotMultiSignal.Rd:103-104: Lost braces in \itemize; meant \describe ? checkRd: (-1) plotMultiSignal.Rd:105-106: Lost braces in \itemize; meant \describe ? checkRd: (-1) plotPairs.Rd:58: Lost braces in \itemize; meant \describe ? checkRd: (-1) plotPairs.Rd:59: Lost braces in \itemize; meant \describe ? checkRd: (-1) plotPairsArches.Rd:56: Lost braces in \itemize; meant \describe ? checkRd: (-1) plotPairsArches.Rd:57: Lost braces in \itemize; meant \describe ? checkRd: (-1) plotPairsArches.Rd:79: Lost braces in \itemize; meant \describe ? checkRd: (-1) plotPairsArches.Rd:80: Lost braces in \itemize; meant \describe ? checkRd: (-1) plotRanges.Rd:62: Lost braces in \itemize; meant \describe ? checkRd: (-1) plotRanges.Rd:63: Lost braces in \itemize; meant \describe ? checkRd: (-1) plotRanges.Rd:70: Lost braces in \itemize; meant \describe ? checkRd: (-1) plotRanges.Rd:71: Lost braces in \itemize; meant \describe ? checkRd: (-1) plotSegments.Rd:68: Lost braces in \itemize; meant \describe ? checkRd: (-1) plotSegments.Rd:69: Lost braces in \itemize; meant \describe ? checkRd: (-1) plotSegments.Rd:70: Lost braces in \itemize; meant \describe ? checkRd: (-1) plotSignal.Rd:104: Lost braces in \itemize; meant \describe ? checkRd: (-1) plotSignal.Rd:105: Lost braces in \itemize; meant \describe ? checkRd: (-1) plotTranscripts.Rd:88: Lost braces in \itemize; meant \describe ? checkRd: (-1) plotTranscripts.Rd:89: Lost braces in \itemize; meant \describe ? checkRd: (-1) plotTranscripts.Rd:90: Lost braces in \itemize; meant \describe ? checkRd: (-1) plotTranscripts.Rd:91-92: Lost braces in \itemize; meant \describe ? checkRd: (-1) readBigwig.Rd:29: Lost braces in \itemize; meant \describe ? checkRd: (-1) readBigwig.Rd:30: Lost braces in \itemize; meant \describe ? checkRd: (-1) readBigwig.Rd:31: Lost braces in \itemize; meant \describe ? checkRd: (-1) readHic.Rd:54: Lost braces in \itemize; meant \describe ? checkRd: (-1) readHic.Rd:55: Lost braces in \itemize; meant \describe ? checkRd: (-1) readHic.Rd:68: Lost braces in \itemize; meant \describe ? checkRd: (-1) readHic.Rd:69: Lost braces in \itemize; meant \describe ? checkRd: (-1) readHic.Rd:70: Lost braces in \itemize; meant \describe ? * checking Rd metadata ... OK * checking Rd cross-references ... OK * checking for missing documentation entries ... OK * checking for code/documentation mismatches ... OK * checking Rd \usage sections ... OK * checking Rd contents ... OK * checking for unstated dependencies in examples ... OK * checking R/sysdata.rda ... OK * checking line endings in C/C++/Fortran sources/headers ... OK * checking compiled code ... NOTE Note: information on .o files is not available * checking files in ‘vignettes’ ... OK * checking examples ... OK Examples with CPU (user + system) or elapsed time > 5s user system elapsed plotRaster 14.387 0.504 19.587 plotIdeogram 6.726 0.478 10.808 plotGenes 4.272 0.164 5.802 annoGenomeLabel 4.227 0.163 6.882 plotGenomeLabel 3.864 0.112 5.483 * checking for unstated dependencies in ‘tests’ ... OK * checking tests ... Running ‘testthat.R’ OK * checking for unstated dependencies in vignettes ... OK * checking package vignettes ... OK * checking running R code from vignettes ... SKIPPED * checking re-building of vignette outputs ... SKIPPED * checking PDF version of manual ... OK * DONE Status: 1 WARNING, 3 NOTEs See ‘/Users/biocbuild/bbs-3.19-bioc/meat/plotgardener.Rcheck/00check.log’ for details.
plotgardener.Rcheck/00install.out
############################################################################## ############################################################################## ### ### Running command: ### ### /Library/Frameworks/R.framework/Resources/bin/R CMD INSTALL plotgardener ### ############################################################################## ############################################################################## * installing to library ‘/Library/Frameworks/R.framework/Versions/4.4-arm64/Resources/library’ * installing *source* package ‘plotgardener’ ... ** using staged installation ** libs using C++ compiler: ‘Apple clang version 15.0.0 (clang-1500.1.0.2.5)’ using SDK: ‘MacOSX11.3.sdk’ clang++ -arch arm64 -std=gnu++17 -I"/Library/Frameworks/R.framework/Resources/include" -DNDEBUG -I'/Library/Frameworks/R.framework/Versions/4.4-arm64/Resources/library/Rcpp/include' -I/opt/R/arm64/include -fPIC -falign-functions=64 -Wall -g -O2 -c RcppExports.cpp -o RcppExports.o clang++ -arch arm64 -std=gnu++17 -I"/Library/Frameworks/R.framework/Resources/include" -DNDEBUG -I'/Library/Frameworks/R.framework/Versions/4.4-arm64/Resources/library/Rcpp/include' -I/opt/R/arm64/include -fPIC -falign-functions=64 -Wall -g -O2 -c checkRow.cpp -o checkRow.o checkRow.cpp:19:12: warning: use of bitwise '&' with boolean operands [-Wbitwise-instead-of-logical] if (((v[rowCol] == j) & ~^~~~~~~~~~~~~~~~~~ && checkRow.cpp:19:12: note: cast one or both operands to int to silence this warning checkRow.cpp:20:12: warning: use of bitwise '|' with boolean operands [-Wbitwise-instead-of-logical] (((start >= v[0]) & (start <= v[1])) | ~^~~~~~~~~~~~~~~~~~~~~~~~~~~~~~~~~~~~~ checkRow.cpp:20:12: note: cast one or both operands to int to silence this warning checkRow.cpp:22:12: warning: use of bitwise '&' with boolean operands [-Wbitwise-instead-of-logical] ((start <= v[0]) & (stop >= v[1]))))){ ~^~~~~~~~~~~~~~~~~~~~~~~~~~~~~~~~~ && checkRow.cpp:22:12: note: cast one or both operands to int to silence this warning checkRow.cpp:20:12: warning: use of bitwise '|' with boolean operands [-Wbitwise-instead-of-logical] (((start >= v[0]) & (start <= v[1])) | ^~~~~~~~~~~~~~~~~~~~~~~~~~~~~~~~~~~~~ || checkRow.cpp:20:12: note: cast one or both operands to int to silence this warning checkRow.cpp:21:12: warning: use of bitwise '&' with boolean operands [-Wbitwise-instead-of-logical] ((stop >= v[0]) & (stop <= v[1])) | ~^~~~~~~~~~~~~~~~~~~~~~~~~~~~~~~~ && checkRow.cpp:21:12: note: cast one or both operands to int to silence this warning checkRow.cpp:20:13: warning: use of bitwise '&' with boolean operands [-Wbitwise-instead-of-logical] (((start >= v[0]) & (start <= v[1])) | ~^~~~~~~~~~~~~~~~~~~~~~~~~~~~~~~~~~ && checkRow.cpp:20:13: note: cast one or both operands to int to silence this warning 6 warnings generated. clang++ -arch arm64 -std=gnu++17 -I"/Library/Frameworks/R.framework/Resources/include" -DNDEBUG -I'/Library/Frameworks/R.framework/Versions/4.4-arm64/Resources/library/Rcpp/include' -I/opt/R/arm64/include -fPIC -falign-functions=64 -Wall -g -O2 -c rebinBigwig.cpp -o rebinBigwig.o clang++ -arch arm64 -std=gnu++17 -dynamiclib -Wl,-headerpad_max_install_names -undefined dynamic_lookup -L/Library/Frameworks/R.framework/Resources/lib -L/opt/R/arm64/lib -o plotgardener.so RcppExports.o checkRow.o rebinBigwig.o -F/Library/Frameworks/R.framework/.. -framework R -Wl,-framework -Wl,CoreFoundation installing to /Library/Frameworks/R.framework/Versions/4.4-arm64/Resources/library/00LOCK-plotgardener/00new/plotgardener/libs ** R ** inst ** byte-compile and prepare package for lazy loading ** help *** installing help indices *** copying figures ** building package indices ** installing vignettes ** testing if installed package can be loaded from temporary location ** checking absolute paths in shared objects and dynamic libraries ** testing if installed package can be loaded from final location ** testing if installed package keeps a record of temporary installation path * DONE (plotgardener)
plotgardener.Rcheck/tests/testthat.Rout
R version 4.4.0 (2024-04-24) -- "Puppy Cup" Copyright (C) 2024 The R Foundation for Statistical Computing Platform: aarch64-apple-darwin20 R is free software and comes with ABSOLUTELY NO WARRANTY. You are welcome to redistribute it under certain conditions. Type 'license()' or 'licence()' for distribution details. R is a collaborative project with many contributors. Type 'contributors()' for more information and 'citation()' on how to cite R or R packages in publications. Type 'demo()' for some demos, 'help()' for on-line help, or 'help.start()' for an HTML browser interface to help. Type 'q()' to quit R. > library(testthat) > library(plotgardener) Attaching package: 'plotgardener' The following object is masked from 'package:base': c > > test_check("plotgardener") Loading required package: GenomicFeatures Loading required package: BiocGenerics Attaching package: 'BiocGenerics' The following objects are masked from 'package:stats': IQR, mad, sd, var, xtabs The following objects are masked from 'package:base': Filter, Find, Map, Position, Reduce, anyDuplicated, aperm, append, as.data.frame, basename, cbind, colnames, dirname, do.call, duplicated, eval, evalq, get, grep, grepl, intersect, is.unsorted, lapply, mapply, match, mget, order, paste, pmax, pmax.int, pmin, pmin.int, rank, rbind, rownames, sapply, setdiff, table, tapply, union, unique, unsplit, which.max, which.min Loading required package: S4Vectors Loading required package: stats4 Attaching package: 'S4Vectors' The following object is masked from 'package:utils': findMatches The following objects are masked from 'package:base': I, expand.grid, unname Loading required package: IRanges Loading required package: GenomeInfoDb Loading required package: GenomicRanges Loading required package: AnnotationDbi Loading required package: Biobase Welcome to Bioconductor Vignettes contain introductory material; view with 'browseVignettes()'. To cite Bioconductor, see 'citation("Biobase")', and for packages 'citation("pkgname")'. Using poppler version 23.04.0 Loading required package: BiocFileCache Loading required package: dbplyr Attaching package: 'AnnotationHub' The following object is masked from 'package:Biobase': cache pairs[pairs1] arches[arches1] ranges[ranges1] transcripts[transcripts1] start, endLoading required package: SummarizedExperiment Loading required package: MatrixGenerics Loading required package: matrixStats Attaching package: 'matrixStats' The following objects are masked from 'package:Biobase': anyMissing, rowMedians Attaching package: 'MatrixGenerics' The following objects are masked from 'package:matrixStats': colAlls, colAnyNAs, colAnys, colAvgsPerRowSet, colCollapse, colCounts, colCummaxs, colCummins, colCumprods, colCumsums, colDiffs, colIQRDiffs, colIQRs, colLogSumExps, colMadDiffs, colMads, colMaxs, colMeans2, colMedians, colMins, colOrderStats, colProds, colQuantiles, colRanges, colRanks, colSdDiffs, colSds, colSums2, colTabulates, colVarDiffs, colVars, colWeightedMads, colWeightedMeans, colWeightedMedians, colWeightedSds, colWeightedVars, rowAlls, rowAnyNAs, rowAnys, rowAvgsPerColSet, rowCollapse, rowCounts, rowCummaxs, rowCummins, rowCumprods, rowCumsums, rowDiffs, rowIQRDiffs, rowIQRs, rowLogSumExps, rowMadDiffs, rowMads, rowMaxs, rowMeans2, rowMedians, rowMins, rowOrderStats, rowProds, rowQuantiles, rowRanges, rowRanks, rowSdDiffs, rowSds, rowSums2, rowTabulates, rowVarDiffs, rowVars, rowWeightedMads, rowWeightedMeans, rowWeightedMedians, rowWeightedSds, rowWeightedVars The following object is masked from 'package:Biobase': rowMedians Read in hic file with KR normalization at 1e+05 BP resolution. signal[signal1_h] signal[signal1_h] [ FAIL 0 | WARN 0 | SKIP 0 | PASS 118 ] > > proc.time() user system elapsed 50.348 3.149 75.224
plotgardener.Rcheck/plotgardener-Ex.timings
name | user | system | elapsed | |
annoDomains | 0.978 | 0.065 | 1.761 | |
annoGenomeLabel | 4.227 | 0.163 | 6.882 | |
annoHeatmapLegend | 0.530 | 0.041 | 0.852 | |
annoHighlight | 2.432 | 0.048 | 3.838 | |
annoPixels | 0.765 | 0.071 | 1.275 | |
annoSegments | 1.783 | 0.093 | 2.671 | |
annoText | 0.869 | 0.042 | 1.324 | |
annoXaxis | 1.473 | 0.068 | 2.127 | |
annoYaxis | 0.552 | 0.046 | 0.948 | |
annoZoomLines | 2.452 | 0.117 | 3.605 | |
assembly | 0.001 | 0.000 | 0.000 | |
c | 0.001 | 0.000 | 0.001 | |
calcSignalRange | 0.342 | 0.023 | 0.652 | |
colorby | 0.566 | 0.013 | 0.789 | |
defaultPackages | 0.011 | 0.001 | 0.021 | |
genomes | 0 | 0 | 0 | |
mapColors | 0.109 | 0.007 | 0.198 | |
pageCreate | 0.044 | 0.004 | 0.082 | |
pageGuideHide | 0.037 | 0.003 | 0.068 | |
pageGuideHorizontal | 0.037 | 0.002 | 0.065 | |
pageGuideShow | 0.788 | 0.074 | 1.511 | |
pageGuideVertical | 0.091 | 0.006 | 0.175 | |
pageLayoutCol | 0.001 | 0.000 | 0.001 | |
pageLayoutRow | 0.000 | 0.000 | 0.001 | |
pagePlotPlace | 0.529 | 0.043 | 0.836 | |
pagePlotRemove | 0.532 | 0.036 | 0.671 | |
pgParams | 2.336 | 0.157 | 3.532 | |
plotCircle | 0.036 | 0.004 | 0.061 | |
plotGG | 0.259 | 0.012 | 0.371 | |
plotGenes | 4.272 | 0.164 | 5.802 | |
plotGenomeLabel | 3.864 | 0.112 | 5.483 | |
plotHicRectangle | 0.544 | 0.051 | 1.056 | |
plotHicSquare | 0.592 | 0.051 | 1.068 | |
plotHicTriangle | 1.160 | 0.083 | 1.851 | |
plotIdeogram | 6.726 | 0.478 | 10.808 | |
plotLegend | 0.309 | 0.032 | 0.446 | |
plotManhattan | 1.910 | 0.100 | 3.301 | |
plotMultiSignal | 1.742 | 0.066 | 2.681 | |
plotPairs | 0.149 | 0.009 | 0.280 | |
plotPairsArches | 0.145 | 0.008 | 0.260 | |
plotPolygon | 0.055 | 0.006 | 0.098 | |
plotRanges | 0.18 | 0.01 | 0.31 | |
plotRaster | 14.387 | 0.504 | 19.587 | |
plotRect | 0.497 | 0.033 | 0.816 | |
plotSegments | 0.128 | 0.034 | 0.180 | |
plotSignal | 0.745 | 0.033 | 1.016 | |
plotText | 0.053 | 0.004 | 0.094 | |
plotTranscripts | 1.125 | 0.053 | 1.370 | |
readBigwig | 0.368 | 0.006 | 0.633 | |
readHic | 0.011 | 0.003 | 0.020 | |