Back to Multiple platform build/check report for BioC 3.19: simplified long |
|
This page was generated on 2024-05-08 11:41:29 -0400 (Wed, 08 May 2024).
Hostname | OS | Arch (*) | R version | Installed pkgs |
---|---|---|---|---|
nebbiolo1 | Linux (Ubuntu 22.04.3 LTS) | x86_64 | 4.4.0 (2024-04-24) -- "Puppy Cup" | 4707 |
palomino3 | Windows Server 2022 Datacenter | x64 | 4.4.0 (2024-04-24 ucrt) -- "Puppy Cup" | 4484 |
lconway | macOS 12.7.1 Monterey | x86_64 | 4.4.0 (2024-04-24) -- "Puppy Cup" | 4514 |
kunpeng2 | Linux (openEuler 22.03 LTS-SP1) | aarch64 | 4.4.0 beta (2024-04-15 r86425) -- "Puppy Cup" | 4480 |
Click on any hostname to see more info about the system (e.g. compilers) (*) as reported by 'uname -p', except on Windows and Mac OS X |
Package 2157/2300 | Hostname | OS / Arch | INSTALL | BUILD | CHECK | BUILD BIN | ||||||||
tidySingleCellExperiment 1.14.0 (landing page) Stefano Mangiola
| nebbiolo1 | Linux (Ubuntu 22.04.3 LTS) / x86_64 | OK | OK | OK | ![]() | ||||||||
palomino3 | Windows Server 2022 Datacenter / x64 | OK | OK | OK | OK | ![]() | ||||||||
lconway | macOS 12.7.1 Monterey / x86_64 | OK | OK | OK | OK | ![]() | ||||||||
kunpeng2 | Linux (openEuler 22.03 LTS-SP1) / aarch64 | OK | OK | OK | ||||||||||
kjohnson3 | macOS 13.6.5 Ventura / arm64 | see weekly results here | ||||||||||||
To the developers/maintainers of the tidySingleCellExperiment package: - Allow up to 24 hours (and sometimes 48 hours) for your latest push to git@git.bioconductor.org:packages/tidySingleCellExperiment.git to reflect on this report. See Troubleshooting Build Report for more information. - Use the following Renviron settings to reproduce errors and warnings. - If 'R CMD check' started to fail recently on the Linux builder(s) over a missing dependency, add the missing dependency to 'Suggests:' in your DESCRIPTION file. See Renviron.bioc for more information. - See Martin Grigorov's blog post for how to debug Linux ARM64 related issues on a x86_64 host. |
Package: tidySingleCellExperiment |
Version: 1.14.0 |
Command: /home/biocbuild/R/R-beta-2024-04-15_r86425/bin/R CMD check --install=check:tidySingleCellExperiment.install-out.txt --library=/home/biocbuild/R/R-beta-2024-04-15_r86425/site-library --no-vignettes --timings tidySingleCellExperiment_1.14.0.tar.gz |
StartedAt: 2024-05-08 12:41:37 -0000 (Wed, 08 May 2024) |
EndedAt: 2024-05-08 12:46:48 -0000 (Wed, 08 May 2024) |
EllapsedTime: 311.5 seconds |
RetCode: 0 |
Status: OK |
CheckDir: tidySingleCellExperiment.Rcheck |
Warnings: 0 |
############################################################################## ############################################################################## ### ### Running command: ### ### /home/biocbuild/R/R-beta-2024-04-15_r86425/bin/R CMD check --install=check:tidySingleCellExperiment.install-out.txt --library=/home/biocbuild/R/R-beta-2024-04-15_r86425/site-library --no-vignettes --timings tidySingleCellExperiment_1.14.0.tar.gz ### ############################################################################## ############################################################################## * using log directory ‘/home/biocbuild/bbs-3.19-bioc/meat/tidySingleCellExperiment.Rcheck’ * using R version 4.4.0 beta (2024-04-15 r86425) * using platform: aarch64-unknown-linux-gnu * R was compiled by gcc (GCC) 10.3.1 GNU Fortran (GCC) 10.3.1 * running under: openEuler 22.03 (LTS-SP1) * using session charset: UTF-8 * using option ‘--no-vignettes’ * checking for file ‘tidySingleCellExperiment/DESCRIPTION’ ... OK * checking extension type ... Package * this is package ‘tidySingleCellExperiment’ version ‘1.14.0’ * package encoding: UTF-8 * checking package namespace information ... OK * checking package dependencies ... OK * checking if this is a source package ... OK * checking if there is a namespace ... OK * checking for hidden files and directories ... OK * checking for portable file names ... OK * checking for sufficient/correct file permissions ... OK * checking whether package ‘tidySingleCellExperiment’ can be installed ... OK * checking installed package size ... OK * checking package directory ... OK * checking ‘build’ directory ... OK * checking DESCRIPTION meta-information ... OK * checking top-level files ... OK * checking for left-over files ... OK * checking index information ... OK * checking package subdirectories ... OK * checking code files for non-ASCII characters ... OK * checking R files for syntax errors ... OK * checking whether the package can be loaded ... OK * checking whether the package can be loaded with stated dependencies ... OK * checking whether the package can be unloaded cleanly ... OK * checking whether the namespace can be loaded with stated dependencies ... OK * checking whether the namespace can be unloaded cleanly ... OK * checking loading without being on the library search path ... OK * checking whether startup messages can be suppressed ... OK * checking dependencies in R code ... OK * checking S3 generic/method consistency ... OK * checking replacement functions ... OK * checking foreign function calls ... OK * checking R code for possible problems ... NOTE select_helper: no visible global function definition for ‘all_of’ aggregate_cells,SingleCellExperiment: no visible binding for global variable ‘my_id_to_split_by___’ aggregate_cells,SingleCellExperiment: no visible binding for global variable ‘assay_name’ aggregate_cells,SingleCellExperiment: no visible global function definition for ‘join_by’ aggregate_cells,SingleCellExperiment: no visible binding for global variable ‘.feature’ Undefined global functions or variables: .feature all_of assay_name join_by my_id_to_split_by___ * checking Rd files ... NOTE prepare_Rd: group_by.Rd:98-100: Dropping empty section \seealso * checking Rd metadata ... OK * checking Rd cross-references ... OK * checking for missing documentation entries ... OK * checking for code/documentation mismatches ... OK * checking Rd \usage sections ... OK * checking Rd contents ... OK * checking for unstated dependencies in examples ... OK * checking contents of ‘data’ directory ... OK * checking data for non-ASCII characters ... OK * checking data for ASCII and uncompressed saves ... OK * checking files in ‘vignettes’ ... OK * checking examples ... OK * checking for unstated dependencies in ‘tests’ ... OK * checking tests ... Running ‘testthat.R’ OK * checking for unstated dependencies in vignettes ... OK * checking package vignettes ... OK * checking running R code from vignettes ... SKIPPED * checking re-building of vignette outputs ... SKIPPED * checking PDF version of manual ... OK * DONE Status: 2 NOTEs See ‘/home/biocbuild/bbs-3.19-bioc/meat/tidySingleCellExperiment.Rcheck/00check.log’ for details.
tidySingleCellExperiment.Rcheck/00install.out
############################################################################## ############################################################################## ### ### Running command: ### ### /home/biocbuild/R/R-beta-2024-04-15_r86425/bin/R CMD INSTALL tidySingleCellExperiment ### ############################################################################## ############################################################################## * installing to library ‘/home/biocbuild/R/R-beta-2024-04-15_r86425/site-library’ * installing *source* package ‘tidySingleCellExperiment’ ... ** using staged installation ** R ** data ** inst ** byte-compile and prepare package for lazy loading ** help *** installing help indices ** building package indices ** installing vignettes ** testing if installed package can be loaded from temporary location ** testing if installed package can be loaded from final location ** testing if installed package keeps a record of temporary installation path * DONE (tidySingleCellExperiment)
tidySingleCellExperiment.Rcheck/tests/testthat.Rout
R version 4.4.0 beta (2024-04-15 r86425) -- "Puppy Cup" Copyright (C) 2024 The R Foundation for Statistical Computing Platform: aarch64-unknown-linux-gnu R is free software and comes with ABSOLUTELY NO WARRANTY. You are welcome to redistribute it under certain conditions. Type 'license()' or 'licence()' for distribution details. R is a collaborative project with many contributors. Type 'contributors()' for more information and 'citation()' on how to cite R or R packages in publications. Type 'demo()' for some demos, 'help()' for on-line help, or 'help.start()' for an HTML browser interface to help. Type 'q()' to quit R. > library(testthat) > library(tidySingleCellExperiment) Loading required package: SingleCellExperiment Loading required package: SummarizedExperiment Loading required package: MatrixGenerics Loading required package: matrixStats Attaching package: 'MatrixGenerics' The following objects are masked from 'package:matrixStats': colAlls, colAnyNAs, colAnys, colAvgsPerRowSet, colCollapse, colCounts, colCummaxs, colCummins, colCumprods, colCumsums, colDiffs, colIQRDiffs, colIQRs, colLogSumExps, colMadDiffs, colMads, colMaxs, colMeans2, colMedians, colMins, colOrderStats, colProds, colQuantiles, colRanges, colRanks, colSdDiffs, colSds, colSums2, colTabulates, colVarDiffs, colVars, colWeightedMads, colWeightedMeans, colWeightedMedians, colWeightedSds, colWeightedVars, rowAlls, rowAnyNAs, rowAnys, rowAvgsPerColSet, rowCollapse, rowCounts, rowCummaxs, rowCummins, rowCumprods, rowCumsums, rowDiffs, rowIQRDiffs, rowIQRs, rowLogSumExps, rowMadDiffs, rowMads, rowMaxs, rowMeans2, rowMedians, rowMins, rowOrderStats, rowProds, rowQuantiles, rowRanges, rowRanks, rowSdDiffs, rowSds, rowSums2, rowTabulates, rowVarDiffs, rowVars, rowWeightedMads, rowWeightedMeans, rowWeightedMedians, rowWeightedSds, rowWeightedVars Loading required package: GenomicRanges Loading required package: stats4 Loading required package: BiocGenerics Attaching package: 'BiocGenerics' The following objects are masked from 'package:stats': IQR, mad, sd, var, xtabs The following objects are masked from 'package:base': Filter, Find, Map, Position, Reduce, anyDuplicated, aperm, append, as.data.frame, basename, cbind, colnames, dirname, do.call, duplicated, eval, evalq, get, grep, grepl, intersect, is.unsorted, lapply, mapply, match, mget, order, paste, pmax, pmax.int, pmin, pmin.int, rank, rbind, rownames, sapply, setdiff, table, tapply, union, unique, unsplit, which.max, which.min Loading required package: S4Vectors Attaching package: 'S4Vectors' The following object is masked from 'package:utils': findMatches The following objects are masked from 'package:base': I, expand.grid, unname Loading required package: IRanges Loading required package: GenomeInfoDb Loading required package: Biobase Welcome to Bioconductor Vignettes contain introductory material; view with 'browseVignettes()'. To cite Bioconductor, see 'citation("Biobase")', and for packages 'citation("pkgname")'. Attaching package: 'Biobase' The following object is masked from 'package:MatrixGenerics': rowMedians The following objects are masked from 'package:matrixStats': anyMissing, rowMedians > > test_check("tidySingleCellExperiment") [ FAIL 0 | WARN 1 | SKIP 0 | PASS 165 ] [ FAIL 0 | WARN 1 | SKIP 0 | PASS 165 ] > > proc.time() user system elapsed 41.883 1.120 43.064
tidySingleCellExperiment.Rcheck/tidySingleCellExperiment-Ex.timings
name | user | system | elapsed | |
aggregate_cells | 0.491 | 0.008 | 0.500 | |
arrange | 0.517 | 0.060 | 0.577 | |
as_tibble | 0.189 | 0.032 | 0.221 | |
bind_rows | 1.050 | 0.028 | 1.079 | |
count | 0.18 | 0.00 | 0.18 | |
distinct | 0.163 | 0.004 | 0.167 | |
extract | 0.453 | 0.000 | 0.453 | |
filter | 0.412 | 0.000 | 0.412 | |
formatting | 0.200 | 0.000 | 0.201 | |
full_join | 0.239 | 0.000 | 0.240 | |
ggplot | 0.481 | 0.008 | 0.490 | |
glimpse | 0.026 | 0.000 | 0.026 | |
group_by | 0.238 | 0.000 | 0.239 | |
group_split | 0.647 | 0.004 | 0.653 | |
inner_join | 0.703 | 0.000 | 0.705 | |
join_features | 0.276 | 0.000 | 0.277 | |
join_transcripts | 0 | 0 | 0 | |
left_join | 1.325 | 0.004 | 1.331 | |
mutate | 0.536 | 0.000 | 0.537 | |
nest | 1.843 | 0.000 | 1.847 | |
pipe | 0 | 0 | 0 | |
pivot_longer | 0.222 | 0.000 | 0.223 | |
plot_ly | 0.324 | 0.012 | 0.336 | |
pull | 0.172 | 0.000 | 0.172 | |
rename | 0.629 | 0.004 | 0.634 | |
right_join | 0.818 | 0.008 | 0.829 | |
rowwise | 0 | 0 | 0 | |
sample_n | 0.596 | 0.008 | 0.606 | |
select | 0.476 | 0.000 | 0.477 | |
separate | 1.700 | 0.032 | 1.735 | |
slice | 3.072 | 0.000 | 3.079 | |
summarise | 0.179 | 0.000 | 0.179 | |
tbl_format_header | 0 | 0 | 0 | |
tidy | 0.210 | 0.000 | 0.211 | |
unite | 0.546 | 0.000 | 0.547 | |
unnest | 1.815 | 0.020 | 1.838 | |