AnnotationHubData 1.0.0 Bioconductor Package Maintainer
Snapshot Date: 2015-10-26 19:24:07 -0400 (Mon, 26 Oct 2015) | URL: https://hedgehog.fhcrc.org/bioconductor/branches/RELEASE_3_2/madman/Rpacks/AnnotationHubData | Last Changed Rev: 109589 / Revision: 109947 | Last Changed Date: 2015-10-13 15:36:05 -0400 (Tue, 13 Oct 2015) |
| linux1.bioconductor.org | Linux (Ubuntu 14.04.2 LTS) / x86_64 | OK | OK | OK | | ![UNNEEDED, same version exists in internal repository UNNEEDED, same version exists in internal repository](../120px-Blue_Light_Icon.svg.png) |
windows1.bioconductor.org | Windows Server 2012 R2 Enterprise SP1 (64-bit) / x64 | OK | OK | OK | [ OK ] | ![UNNEEDED, same version exists in internal repository UNNEEDED, same version exists in internal repository](../120px-Blue_Light_Icon.svg.png) |
perceval | Mac OS X Snow Leopard (10.6.8) / x86_64 | OK | OK | OK | OK | ![UNNEEDED, same version exists in internal repository UNNEEDED, same version exists in internal repository](../120px-Blue_Light_Icon.svg.png) |
oaxaca | Mac OS X Mavericks (10.9.5) / x86_64 | OK | OK | OK | OK | ![UNNEEDED, same version exists in internal repository UNNEEDED, same version exists in internal repository](../120px-Blue_Light_Icon.svg.png) |
##############################################################################
##############################################################################
###
### Running command:
###
### cd AnnotationHubData.buildbin-libdir/AnnotationHubData && zip -r ../../AnnotationHubData_1.0.0.zip . & cd ../..
###
##############################################################################
##############################################################################
adding: DESCRIPTION (188 bytes security) (deflated 52%)
adding: doc/ (208 bytes security) (stored 0%)
adding: doc/AnnotationHubData.html (188 bytes security) (deflated 64%)
adding: doc/AnnotationHubData.Rmd (188 bytes security) (deflated 64%)
adding: doc/index.html (188 bytes security) (deflated 60%)
adding: extdata/ (208 bytes security) (stored 0%)
adding: extdata/annotation_haemcode.tsv (188 bytes security) (deflated 83%)
adding: extdata/badUCSCTracks/ (208 bytes security) (stored 0%)
adding: extdata/badUCSCTracks/allBadTracks.rda (188 bytes security) (stored 0%)
adding: extdata/badUCSCTracks/allPossibleTracks.rda (188 bytes security) (stored 0%)
adding: extdata/badUCSCTracks/genomeTrackTable.Rda (188 bytes security) (deflated 0%)
adding: extdata/encodeMetadata.RData (188 bytes security) (deflated 4%)
adding: extdata/haemCodeFileList.txt (188 bytes security) (deflated 73%)
adding: extdata/importTableSamples/ (208 bytes security) (stored 0%)
adding: extdata/importTableSamples/haemCodeSample-10.lines.csv (188 bytes security) (deflated 68%)
adding: extdata/importTableSamples/noHeader.tsv (188 bytes security) (stored 0%)
adding: extdata/importTableSamples/test0.csv (188 bytes security) (deflated 3%)
adding: extdata/importTableSamples/test1.tsv (188 bytes security) (deflated 3%)
adding: extdata/inpDrosPsuedo.rda (188 bytes security) (stored 0%)
adding: extdata/parseEncodeMetadataBug/ (208 bytes security) (stored 0%)
adding: extdata/parseEncodeMetadataBug/wgEncodeHaibRnaSeq.info (188 bytes security) (deflated 56%)
adding: help/ (208 bytes security) (stored 0%)
adding: help/aliases.rds (188 bytes security) (stored 0%)
adding: help/AnIndex (188 bytes security) (deflated 86%)
adding: help/AnnotationHubData.rdb (188 bytes security) (deflated 1%)
adding: help/AnnotationHubData.rdx (188 bytes security) (stored 0%)
adding: help/paths.rds (188 bytes security) (stored 0%)
adding: html/ (208 bytes security) (stored 0%)
adding: html/00Index.html (188 bytes security) (deflated 89%)
adding: html/R.css (188 bytes security) (deflated 75%)
adding: INDEX (188 bytes security) (deflated 55%)
adding: makefile (188 bytes security) (deflated 63%)
adding: MD5 (188 bytes security) (deflated 47%)
adding: Meta/ (208 bytes security) (stored 0%)
adding: Meta/hsearch.rds (188 bytes security) (stored 0%)
adding: Meta/links.rds (188 bytes security) (stored 0%)
adding: Meta/nsInfo.rds (188 bytes security) (stored 0%)
adding: Meta/package.rds (188 bytes security) (stored 0%)
adding: Meta/Rd.rds (188 bytes security) (stored 0%)
adding: Meta/vignette.rds (188 bytes security) (stored 0%)
adding: NAMESPACE (188 bytes security) (deflated 64%)
adding: NEWS (188 bytes security) (deflated 51%)
adding: notes (188 bytes security) (deflated 65%)
adding: R/ (208 bytes security) (stored 0%)
adding: R/AnnotationHubData (188 bytes security) (deflated 41%)
adding: R/AnnotationHubData.rdb (188 bytes security) (deflated 17%)
adding: R/AnnotationHubData.rdx (188 bytes security) (deflated 0%)
adding: scripts/ (208 bytes security) (stored 0%)
adding: scripts/createJsonForTesting.R (188 bytes security) (deflated 67%)
adding: scripts/errorLogCheck.R (188 bytes security) (deflated 48%)
adding: scripts/importEncode.R (188 bytes security) (deflated 75%)
adding: scripts/queriesForMissingFAIs.R (188 bytes security) (deflated 74%)
adding: scripts/updateToLatestEnsembl.R (188 bytes security) (deflated 74%)
adding: unitTests/ (208 bytes security) (stored 0%)
adding: unitTests/cases/ (208 bytes security) (stored 0%)
adding: unitTests/cases/encodeDCCMetadata/ (208 bytes security) (stored 0%)
adding: unitTests/cases/encodeDCCMetadata/downloads/ (208 bytes security) (stored 0%)
adding: unitTests/cases/encodeDCCMetadata/tbl.parsedEncodeMetadata.RData (188 bytes security) (stored 0%)
adding: unitTests/cases/encodeDCCMetadata/wgEncodeAffyRnaChip.info (188 bytes security) (deflated 80%)
adding: unitTests/cases/encodeDCCMetadata/wgEncodeAwgDnaseUniform.info (188 bytes security) (deflated 77%)
adding: unitTests/test_AnnotationHubConstructor.R (188 bytes security) (deflated 61%)
adding: unitTests/test_ImportPreparer-class.R (188 bytes security) (deflated 31%)
adding: unitTests/test_recipe.R (188 bytes security) (deflated 86%)