BrowserViz 1.2.0 Paul Shannon
Snapshot Date: 2015-11-24 16:20:18 -0800 (Tue, 24 Nov 2015) | URL: https://hedgehog.fhcrc.org/bioconductor/branches/RELEASE_3_2/madman/Rpacks/BrowserViz | Last Changed Rev: 109589 / Revision: 110895 | Last Changed Date: 2015-10-13 12:36:05 -0700 (Tue, 13 Oct 2015) |
| zin1 | Linux (Ubuntu 14.04.2 LTS) / x86_64 | OK | OK | OK | | ![UNNEEDED, same version exists in internal repository UNNEEDED, same version exists in internal repository](../120px-Blue_Light_Icon.svg.png) |
moscato1 | Windows Server 2008 R2 Standard (64-bit) / x64 | OK | [ OK ] | ERROR | OK | |
oaxaca | Mac OS X Mavericks (10.9.5) / x86_64 | OK | OK | ERROR | OK | |
##############################################################################
##############################################################################
###
### Running command:
###
### chmod a+r BrowserViz -R && D:\biocbld\bbs-3.2-bioc\R\bin\R.exe CMD build --keep-empty-dirs --no-resave-data BrowserViz
###
##############################################################################
##############################################################################
* checking for file 'BrowserViz/DESCRIPTION' ... OK
* preparing 'BrowserViz':
* checking DESCRIPTION meta-information ... OK
* installing the package to build vignettes
* creating vignettes ... OK
* checking for LF line-endings in source and make files
* checking for empty or unneeded directories
* building 'BrowserViz_1.2.0.tar.gz'