DESeq2 1.10.0 Michael Love
Snapshot Date: 2015-10-26 19:24:07 -0400 (Mon, 26 Oct 2015) | URL: https://hedgehog.fhcrc.org/bioconductor/branches/RELEASE_3_2/madman/Rpacks/DESeq2 | Last Changed Rev: 109589 / Revision: 109947 | Last Changed Date: 2015-10-13 15:36:05 -0400 (Tue, 13 Oct 2015) |
| linux1.bioconductor.org | Linux (Ubuntu 14.04.2 LTS) / x86_64 | OK | OK | OK | | ![UNNEEDED, same version exists in internal repository UNNEEDED, same version exists in internal repository](../120px-Blue_Light_Icon.svg.png) |
windows1.bioconductor.org | Windows Server 2012 R2 Enterprise SP1 (64-bit) / x64 | [ OK ] | OK | OK | OK | ![UNNEEDED, same version exists in internal repository UNNEEDED, same version exists in internal repository](../120px-Blue_Light_Icon.svg.png) |
perceval | Mac OS X Snow Leopard (10.6.8) / x86_64 | OK | OK | OK | OK | ![UNNEEDED, same version exists in internal repository UNNEEDED, same version exists in internal repository](../120px-Blue_Light_Icon.svg.png) |
oaxaca | Mac OS X Mavericks (10.9.5) / x86_64 | OK | OK | OK | OK | ![UNNEEDED, same version exists in internal repository UNNEEDED, same version exists in internal repository](../120px-Blue_Light_Icon.svg.png) |
##############################################################################
##############################################################################
###
### Running command:
###
### C:\cygwin64\bin\curl.exe -O http://linux1.bioconductor.org/BBS/3.2/bioc/src/contrib/DESeq2_1.10.0.tar.gz && C:\biocbld\bbs-3.2-bioc\R\bin\R.exe CMD INSTALL --merge-multiarch DESeq2_1.10.0.tar.gz && rm DESeq2_1.10.0.tar.gz
###
##############################################################################
##############################################################################
% Total % Received % Xferd Average Speed Time Time Time Current
Dload Upload Total Spent Left Speed
0 0 0 0 0 0 0 0 --:--:-- --:--:-- --:--:-- 0
100 697k 100 697k 0 0 71.8M 0 --:--:-- --:--:-- --:--:-- 136M
install for i386
* installing to library 'C:/biocbld/bbs-3.2-bioc/R/library'
* installing *source* package 'DESeq2' ...
** libs
g++ -m32 -I"C:/biocbld/BBS-3˜1.2-B/R/include" -DNDEBUG -I"C:/biocbld/bbs-3.2-bioc/R/library/Rcpp/include" -I"C:/biocbld/bbs-3.2-bioc/R/library/RcppArmadillo/include" -I"d:/RCompile/r-compiling/local/local320/include" -O2 -Wall -mtune=core2 -c DESeq2.cpp -o DESeq2.o
g++ -m32 -I"C:/biocbld/BBS-3˜1.2-B/R/include" -DNDEBUG -I"C:/biocbld/bbs-3.2-bioc/R/library/Rcpp/include" -I"C:/biocbld/bbs-3.2-bioc/R/library/RcppArmadillo/include" -I"d:/RCompile/r-compiling/local/local320/include" -O2 -Wall -mtune=core2 -c RcppExports.cpp -o RcppExports.o
g++ -m32 -shared -s -static-libgcc -o DESeq2.dll tmp.def DESeq2.o RcppExports.o -LC:/biocbld/BBS-3˜1.2-B/R/bin/i386 -lRlapack -LC:/biocbld/BBS-3˜1.2-B/R/bin/i386 -lRblas -lgfortran -Ld:/RCompile/r-compiling/local/local320/lib/i386 -Ld:/RCompile/r-compiling/local/local320/lib -LC:/biocbld/BBS-3˜1.2-B/R/bin/i386 -lR
installing to C:/biocbld/bbs-3.2-bioc/R/library/DESeq2/libs/i386
** R
** inst
** preparing package for lazy loading
** help
*** installing help indices
** building package indices
** installing vignettes
** testing if installed package can be loaded
install for x64
* installing to library 'C:/biocbld/bbs-3.2-bioc/R/library'
* installing *source* package 'DESeq2' ...
** libs
g++ -m64 -I"C:/biocbld/BBS-3˜1.2-B/R/include" -DNDEBUG -I"C:/biocbld/bbs-3.2-bioc/R/library/Rcpp/include" -I"C:/biocbld/bbs-3.2-bioc/R/library/RcppArmadillo/include" -I"d:/RCompile/r-compiling/local/local320/include" -O2 -Wall -mtune=core2 -c DESeq2.cpp -o DESeq2.o
g++ -m64 -I"C:/biocbld/BBS-3˜1.2-B/R/include" -DNDEBUG -I"C:/biocbld/bbs-3.2-bioc/R/library/Rcpp/include" -I"C:/biocbld/bbs-3.2-bioc/R/library/RcppArmadillo/include" -I"d:/RCompile/r-compiling/local/local320/include" -O2 -Wall -mtune=core2 -c RcppExports.cpp -o RcppExports.o
g++ -m64 -shared -s -static-libgcc -o DESeq2.dll tmp.def DESeq2.o RcppExports.o -LC:/biocbld/BBS-3˜1.2-B/R/bin/x64 -lRlapack -LC:/biocbld/BBS-3˜1.2-B/R/bin/x64 -lRblas -lgfortran -Ld:/RCompile/r-compiling/local/local320/lib/x64 -Ld:/RCompile/r-compiling/local/local320/lib -LC:/biocbld/BBS-3˜1.2-B/R/bin/x64 -lR
installing to C:/biocbld/bbs-3.2-bioc/R/library/DESeq2/libs/x64
** testing if installed package can be loaded
* DONE (DESeq2)